Workbook

Sheet RAW_DATA
A1: 1 | B1: 2 | C1: 3 | D1: 4 | E1: 5 | F1: 6 | G1: 7 | H1: 8 | I1: 9 | J1: 1 | K1: 2 | L1: 3 | M1: 4 | N1: 5 | O1: 6 | P1: 7 | Q1: 8 | R1: 9 | S1: 10 | T1: 11 | U1: 12 | V1: 13 | W1: 14 | X1: 15 | Y1: 16 | Z1: 17 | AA1: 18 | AB1: 19 | AC1: 20 | AD1: 21 | AE1: 22 | AF1: 23 | AG1: 24 | AH1: 25 | AI1: 26 | AJ1: 27 | AK1: 28 | AL1: 29 | AM1: 30 | AN1: 31 | AO1: 32 | AP1: 33 | AQ1: 34 | AR1: 35 | AS1: 36 | AT1: 37 | AU1: 38 | AV1: 39 | AW1: 40 | AX1: 41 | AY1: 42 | AZ1: 43 | BA1: 44 | BB1: 45 | BC1: 46 | BD1: 47 | BE1: 48 | BF1: 49 | BG1: 50 | BH1: 51 | BI1: 52 | BJ1: 53 | BK1: 54 | BL1: 55 | BM1: 56 | BN1: 57 | BO1: 58 | BP1: 59 | BQ1: 60 | BR1: 61 | BS1: 62 | BT1: 63 | BU1: 64 | BV1: 65 | BW1: 66 | BX1: 67 | BY1: 68 | BZ1: 1 | CA1: 2 | CB1: 3 | CC1: 4 | CD1: 5 | CE1: 6 | CF1: 7 | CG1: 8 | CH1: 9 | CI1: 10 | CJ1: 11 | CK1: 12 | CL1: 13 | CM1: 14 | CN1: 15 | CO1: 16 | CP1: 17 | CQ1: 18 | CR1: 19 | CS1: 20 | CT1: 21 | CU1: 22 | CV1: 23 | CW1: 24 | CX1: 25 | CY1: 26 | CZ1: 27 | DA1: 28 | DB1: 29 | DC1: 30 | DD1: 31 | DE1: 32 | DF1: 33 | DG1: 34 | DH1: 35 | DI1: 36 | DJ1: 37 | DK1: 38 | DL1: 39 | DM1: 40 | DN1: 41 | DO1: 42 | DP1: 43 | DQ1: 44 | DR1: 45 | DS1: 46 | DT1: 47 | DU1: 48 | DV1: 49 | DW1: 50 | DX1: 51 | DY1: 52 | DZ1: 53 | EA1: 54 | EB1: 55 | EC1: 56 | ED1: 57 | EE1: 58 | EF1: 59 | EG1: 60 | EH1: 61 | EI1: 62 | EJ1: 63 | EK1: 64 | EL1: 65 | EM1: 66 | EN1: 67 | EO1: 68 | EP1: 1 | EQ1: 2 | ER1: 3 | ES1: 4 | ET1: 5 | EU1: 6 | EV1: 7 | EW1: 8 | EX1: 9 | EY1: 10 | EZ1: 11 | FA1: 12 | FB1: 13 | FC1: 14 | FD1: 15 | FE1: 16 | FF1: 17 | FG1: 18 | FH1: 19 | FI1: 20 | FJ1: 21 | FK1: 22 | FL1: 23 | FM1: 24 | FN1: 25 | FO1: 26 | FP1: 27 | FQ1: 28 | FR1: 29 | FS1: 30 | FT1: 31 | FU1: 32 | FV1: 33 | FW1: 34 | FX1: 35 | FY1: 36 | FZ1: 37 | GA1: 38 | GB1: 39 | GC1: 40 | GD1: 41 | GE1: 42 | GF1: 43 | GG1: 44 | GH1: 45 | GI1: 46 | GJ1: 47 | GK1: 48 | GL1: 49 | GM1: 50 | GN1: 51 | GO1: 52 | GP1: 53 | GQ1: 54 | GR1: 55 | GS1: 56 | GT1: 57 | GU1: 58 | GV1: 59 | GW1: 60 | GX1: 61 | GY1: 62 | GZ1: 63 | HA1: 64 | HB1: 65 | HC1: 66 | HD1: 67 | HE1: 68 | HF1: 1 | HG1: 2 | HH1: 3 | HI1: 4 | HJ1: 5 | HK1: 6 | HL1: 7 | HM1: 8 | HN1: 9 | HO1: 10 | HP1: 11 | HQ1: 12 | HR1: 13 | HS1: 14 | HT1: 15 | HU1: 16 | HV1: 17 | HW1: 18 | HX1: 19 | HY1: 20 | HZ1: 21 | IA1: 22 | IB1: 23 | IC1: 24 | ID1: 25 | IE1: 26 | IF1: 27 | IG1: 28 | IH1: 29 | II1: 30 | IJ1: 31 | IK1: 32 | IL1: 33 | IM1: 34 | IN1: 35 | IO1: 36 | IP1: 37 | IQ1: 38 | IR1: 39 | IS1: 40 | IT1: 41 | IU1: 42 | IV1: 43 | IW1: 44 | IX1: 45 | IY1: 46 | IZ1: 47 | JA1: 48 | JB1: 49 | JC1: 50 | JD1: 51 | JE1: 52 | JF1: 53 | JG1: 54 | JH1: 55 | JI1: 56 | JJ1: 57 | JK1: 58 | JL1: 59 | JM1: 60 | JN1: 61 | JO1: 62 | JP1: 63 | JQ1: 64 | JR1: 65 | JS1: 1 | JT1: 2 | JU1: 3 | JV1: 4 | JW1: 5 | JX1: 6 | JY1: 7 | JZ1: 8 | KA1: 9 | KB1: 10 | KC1: 11 | KD1: 12 | KE1: 13 | KF1: 14 | KG1: 15 | KH1: 16 | KI1: 17 | KJ1: 18 | KK1: 19 | KL1: 20 | KM1: 21 | KN1: 22 | KO1: 23 | KP1: 24 | KQ1: 25 | KR1: 26 | KS1: 27 | KT1: 28 | KU1: 29 | KV1: 30 | KW1: 31 | KX1: 32 | KY1: 33 | KZ1: 34 | LA1: 35 | LB1: 36 | LC1: 37 | LD1: 38 | LE1: 39 | LF1: 40 | LG1: 41 | LH1: 42 | LI1: 43 | LJ1: 44 | LK1: 45 | LL1: 46 | LM1: 47 | LN1: 48 | LO1: 49 | LP1: 50 | LQ1: 51 | LR1: 52 | LS1: 53 | LT1: 54 | LU1: 55 | LV1: 56 | LW1: 57 | LX1: 58 | LY1: 59 | LZ1: 60 | MA1: 61 | MB1: 62 | MC1: 63 | MD1: 64 | ME1: 65 | MF1: 1 | MG1: 2 | MH1: 3 | MI1: 4 | MJ1: 5 | MK1: 6 | ML1: 7 | MM1: 8 | MN1: 9 | MO1: 10 | MP1: 11 | MQ1: 12 | MR1: 13 | MS1: 14 | MT1: 15 | MU1: 16 | MV1: 17 | MW1: 18 | MX1: 19 | MY1: 20 | MZ1: 21 | NA1: 22 | NB1: 23 | NC1: 24 | ND1: 25 | NE1: 26 | NF1: 27 | NG1: 28 | NH1: 29 | NI1: 30 | NJ1: 31 | NK1: 32 | NL1: 33 | NM1: 34 | NN1: 35 | NO1: 36 | NP1: 37 | NQ1: 38 | NR1: 39 | NS1: 40 | NT1: 41 | NU1: 42 | NV1: 43 | NW1: 44 | NX1: 45 | NY1: 46 | NZ1: 47 | OA1: 48 | OB1: 49 | OC1: 50 | OD1: 51 | OE1: 52 | OF1: 53 | OG1: 54 | OH1: 55 | OI1: 56 | OJ1: 57 | OK1: 58 | OL1: 59 | OM1: 60 | ON1: 61 | OO1: 62 | OP1: 63 | OQ1: 64 | OR1: 65 | OS1: 1 | OT1: 2 | OU1: 3 | OV1: 4 | OW1: 5 | OX1: 6 | OY1: 7 | OZ1: 8 | PA1: 9 | PB1: 10 | PC1: 11 | PD1: 12 | PE1: 13 | PF1: 14 | PG1: 15 | PH1: 16 | PI1: 17 | PJ1: 18 | PK1: 19 | PL1: 20 | PM1: 21 | PN1: 22 | PO1: 23 | PP1: 24 | PQ1: 25 | PR1: 26 | PS1: 27 | PT1: 28 | PU1: 29 | PV1: 30 | PW1: 31 | PX1: 32 | PY1: 33 | PZ1: 34 | QA1: 35 | QB1: 36 | QC1: 37 | QD1: 38 | QE1: 39 | QF1: 40 | QG1: 41 | QH1: 42 | QI1: 43 | QJ1: 44 | QK1: 45 | QL1: 46 | QM1: 47 | QN1: 48 | QO1: 49 | QP1: 50 | QQ1: 51 | QR1: 52 | QS1: 53 | QT1: 54 | QU1: 55 | QV1: 56 | QW1: 57 | QX1: 58 | QY1: 59 | QZ1: 60 | RA1: 61 | RB1: 62 | RC1: 63 | RD1: 64 | RE1: 65 | RF1: 66 | RG1: 67 | RH1: 68 | RI1: 1 | RJ1: 2 | RK1: 3 | RL1: 4 | RM1: 5 | RN1: 6 | RO1: 7 | RP1: 8 | RQ1: 9 | RR1: 10 | RS1: 11 | RT1: 12 | RU1: 13 | RV1: 14 | RW1: 15 | RX1: 16 | RY1: 17 | RZ1: 18 | SA1: 19 | SB1: 20 | SC1: 21 | SD1: 22 | SE1: 23 | SF1: 24 | SG1: 25 | SH1: 26 | SI1: 27 | SJ1: 28 | SK1: 29 | SL1: 30 | SM1: 31 | SN1: 32 | SO1: 33 | SP1: 34 | SQ1: 35 | SR1: 36 | SS1: 37 | ST1: 38 | SU1: 39 | SV1: 40 | SW1: 41 | SX1: 42 | SY1: 43 | SZ1: 44 | TA1: 45 | TB1: 46 | TC1: 47 | TD1: 48 | TE1: 49 | TF1: 50 | TG1: 51 | TH1: 52 | TI1: 53 | TJ1: 54 | TK1: 55 | TL1: 56 | TM1: 57 | TN1: 58 | TO1: 59 | TP1: 60 | TQ1: 61 | TR1: 62 | TS1: 63 | TT1: 64 | TU1: 65 | TV1: 1 | TW1: 2 | TX1: 3 | TY1: 4 | TZ1: 5 | UA1: 6 | UB1: 7 | UC1: 8 | UD1: 9 | UE1: 10 | UF1: 11 | UG1: 12 | UH1: 13 | UI1: 14 | UJ1: 15 | UK1: 16 | UL1: 17 | UM1: 18 | UN1: 19 | UO1: 20 | UP1: 21 | UQ1: 22 | UR1: 23 | US1: 24 | UT1: 25 | UU1: 26 | UV1: 27 | UW1: 28 | UX1: 29 | UY1: 30 | UZ1: 31 | VA1: 32 | VB1: 33 | VC1: 34 | VD1: 35 | VE1: 36 | VF1: 37 | VG1: 38 | VH1: 39 | VI1: 40 | VJ1: 41 | VK1: 42 | VL1: 43 | VM1: 44 | VN1: 45 | VO1: 46 | VP1: 47 | VQ1: 48 | VR1: 49 | VS1: 50 | VT1: 51 | VU1: 52 | VV1: 53 | VW1: 54 | VX1: 55 | VY1: 56 | VZ1: 57 | WA1: 58 | WB1: 59 | WC1: 60 | WD1: 61 | WE1: 62 | WF1: 63 | WG1: 64 | WH1: 65 | WI1: 66 | WJ1: 67 | WK1: 68 | WL1: 1 | WM1: 2 | WN1: 3 | WO1: 4 | WP1: 5 | WQ1: 6 | WR1: 7 | WS1: 8 | WT1: 9 | WU1: 10 | WV1: 11 | WW1: 12 | WX1: 13 | WY1: 14 | WZ1: 15 | XA1: 16 | XB1: 17 | XC1: 18 | XD1: 19 | XE1: 20 | XF1: 21 | XG1: 22 | XH1: 23 | XI1: 24 | XJ1: 25 | XK1: 26 | XL1: 27 | XM1: 28 | XN1: 29 | XO1: 30 | XP1: 31 | XQ1: 32 | XR1: 33 | XS1: 34 | XT1: 35 | XU1: 36 | XV1: 37 | XW1: 38 | XX1: 39 | XY1: 40 | XZ1: 41 | YA1: 42 | YB1: 43 | YC1: 44 | YD1: 45 | YE1: 46 | YF1: 47 | YG1: 48 | YH1: 49 | YI1: 50 | YJ1: 51 | YK1: 52 | YL1: 53 | YM1: 54 | YN1: 55 | YO1: 56 | YP1: 57 | YQ1: 58 | YR1: 59 | YS1: 60 | YT1: 61 | YU1: 62 | YV1: 63 | YW1: 64 | YX1: 65 | YY1: 1 | YZ1: 2 | ZA1: 3 | ZB1: 4 | ZC1: 5 | ZD1: 6 | ZE1: 7 | ZF1: 8 | ZG1: 9 | ZH1: 10 | ZI1: 11 | ZJ1: 12 | ZK1: 13 | ZL1: 14 | ZM1: 15 | ZN1: 16 | ZO1: 17 | ZP1: 18 | ZQ1: 19 | ZR1: 20 | ZS1: 21 | ZT1: 22 | ZU1: 23 | ZV1: 24 | ZW1: 25 | ZX1: 26 | ZY1: 27 | ZZ1: 28 | AAA1: 29 | AAB1: 30 | AAC1: 31 | AAD1: 32 | AAE1: 33 | AAF1: 34 | AAG1: 35 | AAH1: 36 | AAI1: 37 | AAJ1: 38 | AAK1: 39 | AAL1: 40 | AAM1: 41 | AAN1: 42 | AAO1: 43 | AAP1: 44 | AAQ1: 45 | AAR1: 46 | AAS1: 47 | AAT1: 48 | AAU1: 49 | AAV1: 50 | AAW1: 51 | AAX1: 52 | AAY1: 53 | AAZ1: 54 | ABA1: 55 | ABB1: 56 | ABC1: 57 | ABD1: 58 | ABE1: 59 | ABF1: 60 | ABG1: 61 | ABH1: 62 | ABI1: 63 | ABJ1: 64 | ABK1: 65 | ABL1: 66 | ABM1: 67 | ABN1: 68 | ABO1: 1 | ABP1: 2 | ABQ1: 3 | ABR1: 4 | ABS1: 5 | ABT1: 6 | ABU1: 7 | ABV1: 8 | ABW1: 9 | ABX1: 10 | ABY1: 11 | ABZ1: 12 | ACA1: 13 | ACB1: 14 | ACC1: 15 | ACD1: 16 | ACE1: 17 | ACF1: 18 | ACG1: 19 | ACH1: 20 | ACI1: 21 | ACJ1: 22 | ACK1: 23 | ACL1: 24 | ACM1: 25 | ACN1: 26 | ACO1: 27 | ACP1: 28 | ACQ1: 29 | ACR1: 30 | ACS1: 31 | ACT1: 32 | ACU1: 33 | ACV1: 34 | ACW1: 35 | ACX1: 36 | ACY1: 37 | ACZ1: 38 | ADA1: 39 | ADB1: 40 | ADC1: 41 | ADD1: 42 | ADE1: 43 | ADF1: 44 | ADG1: 45 | ADH1: 46 | ADI1: 47 | ADJ1: 48 | ADK1: 49 | ADL1: 50 | ADM1: 51 | ADN1: 52 | ADO1: 53 | ADP1: 54 | ADQ1: 55 | ADR1: 56 | ADS1: 57 | ADT1: 58 | ADU1: 59 | ADV1: 60 | ADW1: 61 | ADX1: 62 | ADY1: 63 | ADZ1: 64 | AEA1: 65 | AEB1: 66 | AEC1: 67 | AED1: 68 | AEE1: 1 | AEF1: 2 | AEG1: 3 | AEH1: 4 | AEI1: 5 | AEJ1: 6 | AEK1: 7 | AEL1: 8 | AEM1: 9 | AEN1: 10 | AEO1: 11 | AEP1: 12 | AEQ1: 13 | AER1: 14 | AES1: 15 | AET1: 16 | AEU1: 17 | AEV1: 18 | AEW1: 19 | AEX1: 20 | AEY1: 21 | AEZ1: 22 | AFA1: 23 | AFB1: 24 | AFC1: 25 | AFD1: 26 | AFE1: 27 | AFF1: 28 | AFG1: 29 | AFH1: 30 | AFI1: 31 | AFJ1: 32 | AFK1: 33 | AFL1: 34 | AFM1: 35 | AFN1: 36 | AFO1: 37 | AFP1: 38 | AFQ1: 39 | AFR1: 40 | AFS1: 41 | AFT1: 42 | AFU1: 43 | AFV1: 44 | AFW1: 45 | AFX1: 46 | AFY1: 47 | AFZ1: 48 | AGA1: 49 | AGB1: 50 | AGC1: 51 | AGD1: 52 | AGE1: 53 | AGF1: 54 | AGG1: 55 | AGH1: 56 | AGI1: 57 | AGJ1: 58 | AGK1: 59 | AGL1: 60 | AGM1: 61 | AGN1: 62 | AGO1: 63 | AGP1: 64 | AGQ1: 65 | AGR1: 66 | AGS1: 67 | AGT1: 68 | AGU1: 1 | AGV1: 2 | AGW1: 3 | AGX1: 4 | AGY1: 5 | AGZ1: 6 | AHA1: 7 | AHB1: 8 | AHC1: 9 | AHD1: 10 | AHE1: 11 | AHF1: 12 | AHG1: 13 | AHH1: 14 | AHI1: 15 | AHJ1: 16 | AHK1: 17 | AHL1: 18 | AHM1: 19 | AHN1: 20 | AHO1: 21 | AHP1: 22 | AHQ1: 23 | AHR1: 24 | AHS1: 25 | AHT1: 26 | AHU1: 27 | AHV1: 28 | AHW1: 29 | AHX1: 30 | AHY1: 31 | AHZ1: 32 | AIA1: 33 | AIB1: 34 | AIC1: 35 | AID1: 36 | AIE1: 37 | AIF1: 38 | AIG1: 39 | AIH1: 40 | AII1: 41 | AIJ1: 42 | AIK1: 43 | AIL1: 44 | AIM1: 45 | AIN1: 46 | AIO1: 47 | AIP1: 48 | AIQ1: 49 | AIR1: 50 | AIS1: 51 | AIT1: 52 | AIU1: 53 | AIV1: 54 | AIW1: 55 | AIX1: 56 | AIY1: 57 | AIZ1: 58 | AJA1: 59 | AJB1: 60 | AJC1: 61 | AJD1: 62 | AJE1: 63 | AJF1: 64 | AJG1: 65 | AJH1: 66
A2: GLOBALES | J2: mcpT_PS | BZ2: mcp_PS | EP2: mcpv_PS | HF2: h_T | JS2: hlocal_T | MF2: HF_T | OS2: A_PS | RI2: Awires_T | TV2: vlocal_PS | WL2: vsup_PS | YY2: P_PS | ABO2: mcpP_PS | AEE2: T_PS | AGU2: Vair_T
A3: {=TRANSPOSE($M$7:$M$15)} -> 72.46491 | B3: 12578.43 | C3: 1499.866 | D3: 1499.279 | E3: -3.514361e-05 | F3: -8.058448e-09 | G3: -47.21601 | H3: 0.0005429756 | I3: 4.244629e-07 | J3: {=TRANSPOSE(N7:N75)} -> -10.60339 | K3: -11.17078 | L3: -15.82714 | M3: -23.49254 | N3: -28.6769 | O3: -32.2633 | P3: -35.3906 | Q3: -38.1757 | R3: -40.80721 | S3: -43.15226 | T3: -45.35299 | U3: -47.35392 | V3: -49.22369 | W3: -50.80294 | X3: -52.38674 | Y3: -53.69705 | Z3: -54.93986 | AA3: -56.01236 | AB3: -57.06008 | AC3: -57.88288 | AD3: -58.71726 | AE3: -59.40109 | AF3: -60.0668 | AG3: -60.60158 | AH3: -61.12916 | AI3: -61.56822 | AJ3: -61.94164 | AK3: -62.27371 | AL3: -62.63819 | AM3: -62.85644 | AN3: -63.02587 | AO3: -63.28581 | AP3: -63.52094 | AQ3: -63.62694 | AR3: -63.76489 | AS3: -63.94901 | AT3: -64.01759 | AU3: -64.08306 | AV3: -64.20816 | AW3: -64.27324 | AX3: -64.3339 | AY3: -64.47409 | AZ3: -64.51983 | BA3: -64.582 | BB3: -64.65727 | BC3: -64.62453 | BD3: -64.7112 | BE3: -64.65349 | BF3: -64.7296 | BG3: -64.80364 | BH3: -64.73076 | BI3: -64.74384 | BJ3: -64.79338 | BK3: -64.75233 | BL3: -64.79599 | BM3: -64.79985 | BN3: -64.85032 | BO3: -64.83223 | BP3: -64.86796 | BQ3: -64.88229 | BR3: -64.87523 | BS3: -64.8542 | BT3: -64.94823 | BU3: -64.91568 | BV3: -64.85949 | BW3: -64.87139 | BX3: -64.89552 | BY3: -64.95889 | BZ3: {=TRANSPOSE(O7:O75)} -> -0.03534462 | CA3: -0.0352458 | CB3: -0.03591539 | CC3: -0.03714804 | CD3: -0.03805064 | CE3: -0.03863911 | CF3: -0.03915701 | CG3: -0.03967424 | CH3: -0.0401427 | CI3: -0.04054693 | CJ3: -0.04087783 | CK3: -0.04122426 | CL3: -0.0414921 | CM3: -0.04170246 | CN3: -0.04192432 | CO3: -0.04209731 | CP3: -0.04223254 | CQ3: -0.04237166 | CR3: -0.0425078 | CS3: -0.04258937 | CT3: -0.0426906 | CU3: -0.04277397 | CV3: -0.04285712 | CW3: -0.04290904 | CX3: -0.04297525 | CY3: -0.04303286 | CZ3: -0.04305212 | DA3: -0.04308565 | DB3: -0.04315291 | DC3: -0.04314839 | DD3: -0.04311876 | DE3: -0.04317536 | DF3: -0.04322348 | DG3: -0.04320118 | DH3: -0.04320689 | DI3: -0.04325827 | DJ3: -0.0432364 | DK3: -0.04322261 | DL3: -0.04325447 | DM3: -0.04325312 | DN3: -0.0432535 | DO3: -0.0433122 | DP3: -0.04331157 | DQ3: -0.04332542 | DR3: -0.04335143 | DS3: -0.04330798 | DT3: -0.04334732 | DU3: -0.04329153 | DV3: -0.04332791 | DW3: -0.04336407 | DX3: -0.04330403 | DY3: -0.04330222 | DZ3: -0.04332681 | EA3: -0.04329104 | EB3: -0.04331365 | EC3: -0.04330964 | ED3: -0.04333866 | EE3: -0.04332113 | EF3: -0.04334142 | EG3: -0.04334675 | EH3: -0.04333948 | EI3: -0.04332203 | EJ3: -0.04338291 | EK3: -0.04335832 | EL3: -0.04332025 | EM3: -0.04332111 | EN3: -0.04332166 | EO3: -0.04335254 | EP3: {=TRANSPOSE(P7:P75)} -> 0.1767222 | EQ3: 0.2043664 | ER3: 0.4468111 | ES3: 0.798269 | ET3: 1.062439 | EU3: 1.250588 | EV3: 1.424765 | EW3: 1.57942 | EX3: 1.729669 | EY3: 1.859793 | EZ3: 1.988551 | FA3: 2.097511 | FB3: 2.20602 | FC3: 2.292004 | FD3: 2.382769 | FE3: 2.452013 | FF3: 2.525326 | FG3: 2.58066 | FH3: 2.643709 | FI3: 2.685671 | FJ3: 2.737571 | FK3: 2.773673 | FL3: 2.818123 | FM3: 2.841858 | FN3: 2.879771 | FO3: 2.903589 | FP3: 2.931211 | FQ3: 2.948333 | FR3: 2.97907 | FS3: 2.989392 | FT3: 3.007027 | FU3: 3.018319 | FV3: 3.044303 | FW3: 3.048643 | FX3: 3.066391 | FY3: 3.076527 | FZ3: 3.090449 | GA3: 3.092366 | GB3: 3.11209 | GC3: 3.114914 | GD3: 3.133205 | GE3: 3.139722 | GF3: 3.154674 | GG3: 3.156466 | GH3: 3.173471 | GI3: 3.172436 | GJ3: 3.191162 | GK3: 3.186436 | GL3: 3.204079 | GM3: 3.207965 | GN3: 3.215504 | GO3: 3.217144 | GP3: 3.232493 | GQ3: 3.230026 | GR3: 3.245038 | GS3: 3.244684 | GT3: 3.263407 | GU3: 3.259636 | GV3: 3.275905 | GW3: 3.276438 | GX3: 3.291827 | GY3: 3.290132 | GZ3: 3.30848 | HA3: 3.303593 | HB3: 3.329366 | HC3: 3.231847 | HD3: 2.960587 | HE3: 2.924219 | HF3: {=TRANSPOSE(Q7:Q72)} -> 878.3948 | HG3: 683.5755 | HH3: 451.8567 | HI3: 309.3684 | HJ3: 270.4852 | HK3: 235.6354 | HL3: 223.2234 | HM3: 194.7559 | HN3: 188.0847 | HO3: 162.4902 | HP3: 157.9586 | HQ3: 134.1357 | HR3: 131.0872 | HS3: 109.7909 | HT3: 106.8345 | HU3: 88.62832 | HV3: 86.51052 | HW3: 71.24603 | HX3: 69.16267 | HY3: 56.89315 | HZ3: 54.91568 | IA3: 45.20182 | IB3: 43.32016 | IC3: 35.78379 | ID3: 34.14257 | IE3: 28.22606 | IF3: 26.92441 | IG3: 22.26059 | IH3: 21.09084 | II3: 17.5269 | IJ3: 16.52185 | IK3: 13.72525 | IL3: 12.90338 | IM3: 10.76984 | IN3: 10.07898 | IO3: 8.457735 | IP3: 7.854928 | IQ3: 6.613349 | IR3: 6.131821 | IS3: 5.181024 | IT3: 4.786411 | IU3: 4.054891 | IV3: 3.740244 | IW3: 3.172666 | IX3: 2.923762 | IY3: 2.487531 | IZ3: 2.279918 | JA3: 1.954978 | JB3: 1.784245 | JC3: 1.531458 | JD3: 1.397005 | JE3: 1.202472 | JF3: 1.094785 | JG3: 0.9467164 | JH3: 0.8596013 | JI3: 0.7463332 | JJ3: 0.6750601 | JK3: 0.5880039 | JL3: 0.5294628 | JM3: 0.4650672 | JN3: 0.4173306 | JO3: 0.3663564 | JP3: 0.3322463 | JQ3: 0.2664944 | JR3: 0.1149833 | JS3: {=TRANSPOSE(R7:R72)} -> 26313.22 | JT3: 31490.64 | JU3: 31696.88 | JV3: 31703.1 | JW3: 31860.95 | JX3: 31773.66 | JY3: 31869.64 | JZ3: 31912.98 | KA3: 31878.59 | KB3: 31822.21 | KC3: 31898.07 | KD3: 31980.46 | KE3: 31988.38 | KF3: 31890.61 | KG3: 32038.21 | KH3: 31868.22 | KI3: 31989.47 | KJ3: 32091.67 | KK3: 32023.59 | KL3: 32031.3 | KM3: 31974.99 | KN3: 31826.14 | KO3: 32054.16 | KP3: 31934 | KQ3: 32100.84 | KR3: 31945.23 | KS3: 32067.18 | KT3: 32021.84 | KU3: 31999.98 | KV3: 31983.65 | KW3: 32032.43 | KX3: 31910.31 | KY3: 31859.11 | KZ3: 32028.18 | LA3: 32019.9 | LB3: 32041.71 | LC3: 31984.11 | LD3: 32116.78 | LE3: 32010.74 | LF3: 32027.86 | LG3: 32050.85 | LH3: 31919.48 | LI3: 31970.29 | LJ3: 32008.07 | LK3: 32015.27 | LL3: 31951.82 | LM3: 32069.67 | LN3: 31970.48 | LO3: 32028.33 | LP3: 32042.23 | LQ3: 31959.92 | LR3: 31982.76 | LS3: 31888.07 | LT3: 32072.51 | LU3: 32023.94 | LV3: 32136.74 | LW3: 31999.28 | LX3: 31986.66 | LY3: 32021.94 | LZ3: 32076.99 | MA3: 32057.47 | MB3: 32011.83 | MC3: 31944.8 | MD3: 32129.04 | ME3: 26966.19 | MF3: {=TRANSPOSE(S7:S72)} -> -4.479894 | MG3: -6.956472 | MH3: -4.601453 | MI3: -3.147804 | MJ3: -2.755097 | MK3: -2.3969 | ML3: -2.273424 | MM3: -1.98131 | MN3: -1.916291 | MO3: -1.652434 | MP3: -1.609826 | MQ3: -1.365146 | MR3: -1.335319 | MS3: -1.118136 | MT3: -1.087436 | MU3: -0.9022837 | MV3: -0.8800952 | MW3: -0.7251897 | MX3: -0.7041724 | MY3: -0.5790832 | MZ3: -0.558911 | NA3: -0.460552 | NB3: -0.4410757 | NC3: -0.3642045 | ND3: -0.3475438 | NE3: -0.2874159 | NF3: -0.274067 | NG3: -0.2265455 | NH3: -0.2148392 | NI3: -0.1783339 | NJ3: -0.1683489 | NK3: -0.1396133 | NL3: -0.1314071 | NM3: -0.1095935 | NN3: -0.1026759 | NO3: -0.08609423 | NP3: -0.07993198 | NQ3: -0.06733689 | NR3: -0.06243953 | NS3: -0.05273589 | NT3: -0.04875299 | NU3: -0.04126634 | NV3: -0.03804978 | NW3: -0.03231062 | NX3: -0.02979765 | NY3: -0.02530984 | NZ3: -0.02319541 | OA3: -0.01990327 | OB3: -0.0181817 | OC3: -0.01559211 | OD3: -0.0142162 | OE3: -0.0122323 | OF3: -0.01114744 | OG3: -0.009637996 | OH3: -0.008753851 | OI3: -0.007597815 | OJ3: -0.006866179 | OK3: -0.005996838 | OL3: -0.005387714 | OM3: -0.004733292 | ON3: -0.004246111 | OO3: -0.003729282 | OP3: -0.003381501 | OQ3: -0.002713364 | OR3: -0.0005862601 | OS3: {=TRANSPOSE(T7:T75)} -> 5.3138e-06 | OT3: 5.313073e-06 | OU3: 3.564746e-06 | OV3: 3.563904e-06 | OW3: 3.564277e-06 | OX3: 3.563944e-06 | OY3: 3.564572e-06 | OZ3: 3.563686e-06 | PA3: 3.564496e-06 | PB3: 3.563536e-06 | PC3: 3.564789e-06 | PD3: 3.563678e-06 | PE3: 3.564551e-06 | PF3: 3.563844e-06 | PG3: 3.564489e-06 | PH3: 3.564108e-06 | PI3: 3.564233e-06 | PJ3: 3.563812e-06 | PK3: 3.564622e-06 | PL3: 3.563678e-06 | PM3: 3.564567e-06 | PN3: 3.563854e-06 | PO3: 3.564945e-06 | PP3: 3.563902e-06 | PQ3: 3.564379e-06 | PR3: 3.56368e-06 | PS3: 3.56441e-06 | PT3: 3.563731e-06 | PU3: 3.564607e-06 | PV3: 3.563858e-06 | PW3: 3.564898e-06 | PX3: 3.563768e-06 | PY3: 3.564858e-06 | PZ3: 3.563818e-06 | QA3: 3.564644e-06 | QB3: 3.563827e-06 | QC3: 3.564439e-06 | QD3: 3.563753e-06 | QE3: 3.564478e-06 | QF3: 3.563875e-06 | QG3: 3.564676e-06 | QH3: 3.563739e-06 | QI3: 3.564813e-06 | QJ3: 3.564007e-06 | QK3: 3.564467e-06 | QL3: 3.563828e-06 | QM3: 3.56441e-06 | QN3: 3.563801e-06 | QO3: 3.564509e-06 | QP3: 3.563911e-06 | QQ3: 3.564838e-06 | QR3: 3.564055e-06 | QS3: 3.56489e-06 | QT3: 3.563696e-06 | QU3: 3.564462e-06 | QV3: 3.563648e-06 | QW3: 3.564393e-06 | QX3: 3.563573e-06 | QY3: 3.564398e-06 | QZ3: 3.563694e-06 | RA3: 3.564613e-06 | RB3: 3.56382e-06 | RC3: 3.564606e-06 | RD3: 3.563718e-06 | RE3: 3.564525e-06 | RF3: 3.563732e-06 | RG3: 5.312049e-06 | RH3: 5.3138e-06 | RI3: {=TRANSPOSE(U7:U72)} -> 4.250076e-06 | RJ3: 8.480496e-06 | RK3: 8.486196e-06 | RL3: 8.479113e-06 | RM3: 8.488132e-06 | RN3: 8.476726e-06 | RO3: 8.487105e-06 | RP3: 8.477749e-06 | RQ3: 8.490375e-06 | RR3: 8.474531e-06 | RS3: 8.49287e-06 | RT3: 8.481126e-06 | RU3: 8.488744e-06 | RV3: 8.486854e-06 | RW3: 8.482247e-06 | RX3: 8.483779e-06 | RY3: 8.477727e-06 | RZ3: 8.482223e-06 | SA3: 8.484495e-06 | SB3: 8.482029e-06 | SC3: 8.481351e-06 | SD3: 8.490662e-06 | SE3: 8.484803e-06 | SF3: 8.4816e-06 | SG3: 8.482663e-06 | SH3: 8.485535e-06 | SI3: 8.482609e-06 | SJ3: 8.480812e-06 | SK3: 8.488644e-06 | SL3: 8.479058e-06 | SM3: 8.491222e-06 | SN3: 8.47667e-06 | SO3: 8.486607e-06 | SP3: 8.479972e-06 | SQ3: 8.489271e-06 | SR3: 8.48279e-06 | SS3: 8.480025e-06 | ST3: 8.484971e-06 | SU3: 8.485724e-06 | SV3: 8.482219e-06 | SW3: 8.488091e-06 | SX3: 8.480776e-06 | SY3: 8.47756e-06 | SZ3: 8.486718e-06 | TA3: 8.492953e-06 | TB3: 8.478901e-06 | TC3: 8.478159e-06 | TD3: 8.484012e-06 | TE3: 8.491781e-06 | TF3: 8.484347e-06 | TG3: 8.480165e-06 | TH3: 8.477189e-06 | TI3: 8.485257e-06 | TJ3: 8.483706e-06 | TK3: 8.486348e-06 | TL3: 8.483493e-06 | TM3: 8.476009e-06 | TN3: 8.498865e-06 | TO3: 8.479842e-06 | TP3: 8.481377e-06 | TQ3: 8.478713e-06 | TR3: 8.482819e-06 | TS3: 8.481413e-06 | TT3: 8.484743e-06 | TU3: 4.248877e-06 | TV3: {=TRANSPOSE(V7:V75)} -> 4.999975 | TW3: 5.632576 | TX3: 11.7087 | TY3: 18.60097 | TZ3: 21.76487 | UA3: 23.40387 | UB3: 25.38052 | UC3: 27.04584 | UD3: 28.55865 | UE3: 29.99079 | UF3: 31.17951 | UG3: 32.42162 | UH3: 33.38036 | UI3: 34.40851 | UJ3: 35.20393 | UK3: 36.09429 | UL3: 36.69734 | UM3: 37.48423 | UN3: 37.96721 | UO3: 38.64693 | UP3: 39.00949 | UQ3: 39.61288 | UR3: 39.8877 | US3: 40.41061 | UT3: 40.62228 | UU3: 41.08206 | UV3: 41.21283 | UW3: 41.62948 | UX3: 41.73001 | UY3: 42.08619 | UZ3: 42.08643 | VA3: 42.48107 | VB3: 42.5297 | VC3: 42.83119 | VD3: 42.82864 | VE3: 43.17947 | VF3: 43.14183 | VG3: 43.42023 | VH3: 43.41805 | VI3: 43.70689 | VJ3: 43.67092 | VK3: 44.00335 | VL3: 43.93079 | VM3: 44.23018 | VN3: 44.18149 | VO3: 44.42942 | VP3: 44.38734 | VQ3: 44.59391 | VR3: 44.56858 | VS3: 44.87077 | VT3: 44.7403 | VU3: 45.01051 | VV3: 44.95991 | VW3: 45.21052 | VX3: 45.15638 | VY3: 45.43876 | VZ3: 45.39082 | WA3: 45.64523 | WB3: 45.58991 | WC3: 45.858 | WD3: 45.79875 | WE3: 46.04824 | WF3: 46.03447 | WG3: 46.26567 | WH3: 46.29334 | WI3: 44.20103 | WJ3: 33.72943 | WK3: 35.84117 | WL3: {=TRANSPOSE(W7:W72)} -> - | WM3: - | WN3: - | WO3: - | WP3: - | WQ3: - | WR3: - | WS3: - | WT3: - | WU3: - | WV3: - | WW3: - | WX3: - | WY3: - | WZ3: - | XA3: - | XB3: - | XC3: - | XD3: - | XE3: - | XF3: - | XG3: - | XH3: - | XI3: - | XJ3: - | XK3: - | XL3: - | XM3: - | XN3: - | XO3: - | XP3: - | XQ3: - | XR3: - | XS3: - | XT3: - | XU3: - | XV3: - | XW3: - | XX3: - | XY3: - | XZ3: - | YA3: - | YB3: - | YC3: - | YD3: - | YE3: - | YF3: - | YG3: - | YH3: - | YI3: - | YJ3: - | YK3: - | YL3: - | YM3: - | YN3: - | YO3: - | YP3: - | YQ3: - | YR3: - | YS3: - | YT3: - | YU3: - | YV3: - | YW3: - | YX3: - | YY3: {=TRANSPOSE(X7:X75)} -> 12578.44 | YZ3: 12573.14 | ZA3: 12485.98 | ZB3: 12274.96 | ZC3: 12067.58 | ZD3: 11879.67 | ZE3: 11692.65 | ZF3: 11507.41 | ZG3: 11321.2 | ZH3: 11135.17 | ZI3: 10946.71 | ZJ3: 10760.02 | ZK3: 10570 | ZL3: 10382.64 | ZM3: 10190.53 | ZN3: 10001.79 | ZO3: 9807.658 | ZP3: 9617.435 | ZQ3: 9421.077 | ZR3: 9229.734 | ZS3: 9031.423 | ZT3: 8838.441 | ZU3: 8638.757 | ZV3: 8444.1 | ZW3: 8242.777 | ZX3: 8047.281 | ZY3: 7844.604 | ZZ3: 7647.95 | AAA3: 7444.2 | AAB3: 7246.366 | AAC3: 7041.405 | AAD3: 6842.571 | AAE3: 6635.702 | AAF3: 6435.612 | AAG3: 6227.903 | AAH3: 6026.803 | AAI3: 5818.297 | AAJ3: 5616.141 | AAK3: 5406.194 | AAL3: 5203.355 | AAM3: 4992.244 | AAN3: 4788.288 | AAO3: 4577.225 | AAP3: 4372.462 | AAQ3: 4159.821 | AAR3: 3954.027 | AAS3: 3740.944 | AAT3: 3534.252 | AAU3: 3320.169 | AAV3: 3113.145 | AAW3: 2898.027 | AAX3: 2689.629 | AAY3: 2473.321 | AAZ3: 2264.209 | ABA3: 2046.894 | ABB3: 1836.788 | ABC3: 1618.868 | ABD3: 1407.417 | ABE3: 1188.374 | ABF3: 976.883 | ABG3: 756.9146 | ABH3: 544.1063 | ABI3: 323.3829 | ABJ3: 109.8519 | ABK3: -117.5298 | ABL3: -297.0816 | ABM3: -269.8163 | ABN3: -262.8587 | ABO3: {=TRANSPOSE(Y7:Y75)} -> -444.58 | ABP3: -443.0582 | ABQ3: -448.4041 | ABR3: -455.4772 | ABS3: -458.619 | ABT3: -458.5058 | ABU3: -457.1896 | ABV3: -455.9665 | ABW3: -453.7434 | ABX3: -450.885 | ABY3: -446.6966 | ABZ3: -442.9202 | ACA3: -437.7595 | ACB3: -432.3105 | ACC3: -426.3841 | ACD3: -420.3664 | ACE3: -413.3356 | ACF3: -406.7908 | ACG3: -399.5673 | ACH3: -392.3622 | ACI3: -384.6192 | ACJ3: -377.2923 | ACK3: -369.2805 | ACL3: -361.5459 | ACM3: -353.2592 | ACN3: -345.5045 | ACO3: -336.7433 | ACP3: -328.7079 | ACQ3: -320.2437 | ACR3: -311.869 | ACS3: -302.6249 | ACT3: -294.627 | ACU3: -285.8131 | ACV3: -277.2285 | ACW3: -268.0805 | ACX3: -259.8951 | ACY3: -250.5589 | ACZ3: -241.9141 | ADA3: -232.8175 | ADB3: -224.2249 | ADC3: -214.8954 | ADD3: -206.5294 | ADE3: -197.2032 | ADF3: -188.5879 | ADG3: -179.2774 | ADH3: -170.3765 | ADI3: -161.1109 | ADJ3: -152.1458 | ADK3: -142.8022 | ADL3: -134.1476 | ADM3: -124.4508 | ADN3: -115.6028 | ADO3: -106.0923 | ADP3: -97.17582 | ADQ3: -87.5858 | ADR3: -78.67941 | ADS3: -69.08919 | ADT3: -60.08289 | ADU3: -50.41663 | ADV3: -41.45952 | ADW3: -31.71131 | ADX3: -22.67757 | ADY3: -12.93176 | ADZ3: -3.894365 | AEA3: 6.308186 | AEB3: 12.9855 | AEC3: 11.83771 | AED3: 10.98198 | AEE3: {=TRANSPOSE(Z7:Z75)} -> 300 | AEF3: 386.7937 | AEG3: 600.3831 | AEH3: 947.4288 | AEI3: 1068.042 | AEJ3: 1129.67 | AEK3: 1176.45 | AEL3: 1203.704 | AEM3: 1238.84 | AEN3: 1259.469 | AEO3: 1288.499 | AEP3: 1305.077 | AEQ3: 1329.123 | AER3: 1343.111 | AES3: 1362.964 | AET3: 1374.523 | AEU3: 1390.752 | AEV3: 1400.094 | AEW3: 1413.192 | AEX3: 1420.784 | AEY3: 1431.236 | AEZ3: 1437.367 | AFA3: 1445.63 | AFB3: 1450.606 | AFC3: 1457.078 | AFD3: 1461.003 | AFE3: 1466.127 | AFF3: 1469.26 | AFG3: 1473.207 | AFH3: 1475.737 | AFI3: 1478.864 | AFJ3: 1480.835 | AFK3: 1483.252 | AFL3: 1484.84 | AFM3: 1486.708 | AFN3: 1487.943 | AFO3: 1489.4 | AFP3: 1490.397 | AFQ3: 1491.511 | AFR3: 1492.292 | AFS3: 1493.157 | AFT3: 1493.77 | AFU3: 1494.434 | AFV3: 1494.921 | AFW3: 1495.435 | AFX3: 1495.821 | AFY3: 1496.212 | AFZ3: 1496.522 | AGA3: 1496.823 | AGB3: 1497.061 | AGC3: 1497.299 | AGD3: 1497.489 | AGE3: 1497.666 | AGF3: 1497.817 | AGG3: 1497.952 | AGH3: 1498.071 | AGI3: 1498.172 | AGJ3: 1498.268 | AGK3: 1498.345 | AGL3: 1498.42 | AGM3: 1498.477 | AGN3: 1498.538 | AGO3: 1498.579 | AGP3: 1498.629 | AGQ3: 1498.651 | AGR3: 1498.743 | AGS3: 1499.244 | AGT3: 1499.279 | AGU3: {=TRANSPOSE(AA7:AA73)} -> 1.487821e-08 | AGV3: 1.706871e-09 | AGW3: 1.533098e-09 | AGX3: 1.535107e-09 | AGY3: 1.544418e-09 | AGZ3: 1.538454e-09 | AHA3: 1.537338e-09 | AHB3: 1.539846e-09 | AHC3: 1.545049e-09 | AHD3: 1.538162e-09 | AHE3: 1.54002e-09 | AHF3: 1.546323e-09 | AHG3: 1.539177e-09 | AHH3: 1.539849e-09 | AHI3: 1.544598e-09 | AHJ3: 1.540474e-09 | AHK3: 1.535758e-09 | AHL3: 1.541425e-09 | AHM3: 1.544385e-09 | AHN3: 1.532412e-09 | AHO3: 1.534507e-09 | AHP3: 1.545736e-09 | AHQ3: 1.536229e-09 | AHR3: 1.536519e-09 | AHS3: 1.542486e-09 | AHT3: 1.540706e-09 | AHU3: 1.541041e-09 | AHV3: 1.539855e-09 | AHW3: 1.545202e-09 | AHX3: 1.540445e-09 | AHY3: 1.538049e-09 | AHZ3: 1.546304e-09 | AIA3: 1.54086e-09 | AIB3: 1.538296e-09 | AIC3: 1.537653e-09 | AID3: 1.54458e-09 | AIE3: 1.535618e-09 | AIF3: 1.534858e-09 | AIG3: 1.544094e-09 | AIH3: 1.537588e-09 | AII3: 1.532761e-09 | AIJ3: 1.543435e-09 | AIK3: 1.542641e-09 | AIL3: 1.538819e-09 | AIM3: 1.538554e-09 | AIN3: 1.54625e-09 | AIO3: 1.54077e-09 | AIP3: 1.540136e-09 | AIQ3: 1.545467e-09 | AIR3: 1.539233e-09 | AIS3: 1.53761e-09 | AIT3: 1.541235e-09 | AIU3: 1.544247e-09 | AIV3: 1.53395e-09 | AIW3: 1.537008e-09 | AIX3: 1.54387e-09 | AIY3: 1.534986e-09 | AIZ3: 1.535187e-09 | AJA3: 1.543453e-09 | AJB3: 1.540749e-09 | AJC3: 1.537907e-09 | AJD3: 1.540307e-09 | AJE3: 1.545626e-09 | AJF3: 1.539753e-09 | AJG3: 1.537006e-09 | AJH3: 1.710984e-09
K6: z | L6: PS | M6: Globales | N6: mcpT_PS | O6: mcp_PS | P6: mcpv_PS | Q6: h_T | R6: hlocal_T | S6: HF_T | T6: A_PS | U6: Awire_T | V6: vlocal_PS | W6: vsup_PS | X6: P_PS | Y6: mcpP_PS | Z6: T_PS | AA6: Vair_T | AB6: T | AC6: z | AD6: 1 | AE6: Seleccione las celdas horizontales donde desea colocar el resultado
K7: 0.799 | L7: 1 | M7: =+C14 -> 72.46491 | N7: =+C87 -> -10.60339 | O7: =+C162 -> -0.03534462 | P7: =+C237 -> 0.1767222 | Q7: =+B312 -> 878.3948 | R7: =+B384 -> 26313.22 | S7: =+B456 -> -4.479894 | T7: =+C528 -> 5.3138e-06 | U7: =+B603 -> 4.250076e-06 | V7: =+C675 -> 4.999975 | W7: - | X7: =+C750 -> 12578.44 | Y7: =+C825 -> -444.58 | Z7: =+C900 -> 300 | AA7: =+B975 -> 1.487821e-08 | AB7: 1 | AD7: 2 | AE7: En la barra de fórmulas, pega esta fórmula: = TRANSPONER ($ A $ 1: $ A $ 11)
A8: Pegar todos los datos según están copiados en el txt seleccionando la casilla situada bajo la negra | L8: 2 | M8: =+C22 -> 12578.43 | N8: =+D88 -> -11.17078 | O8: =+D163 -> -0.0352458 | P8: =+D238 -> 0.2043664 | Q8: =+C313 -> 683.5755 | R8: =+C385 -> 31490.64 | S8: =+C457 -> -6.956472 | T8: =+D529 -> 5.313073e-06 | U8: =+C604 -> 8.480496e-06 | V8: =+D676 -> 5.632576 | W8: - | X8: =+D751 -> 12573.14 | Y8: =+D826 -> -443.0582 | Z8: =+D901 -> 386.7937 | AA8: =+C976 -> 1.706871e-09 | AB8: 2 | AD8: 3 | AE8: Después de pegar la fórmula, presione Ctrl + Shift + Enter las teclas juntas, y las celdas en vertical se han convertido en una fila horizontal
J9: Mesh | L9: 3 | M9: =+C30 -> 1499.866 | N9: =+D89 -> -15.82714 | O9: =+D164 -> -0.03591539 | P9: =+D239 -> 0.4468111 | Q9: =+C314 -> 451.8567 | R9: =+C386 -> 31696.88 | S9: =+C458 -> -4.601453 | T9: =+D530 -> 3.564746e-06 | U9: =+C605 -> 8.486196e-06 | V9: =+D677 -> 11.7087 | W9: - | X9: =+D752 -> 12485.98 | Y9: =+D827 -> -448.4041 | Z9: =+D902 -> 600.3831 | AA9: =+C977 -> 1.533098e-09 | AB9: 3
B10: Surface | C10: Average | D10: of | E10: Heat | F10: Transfer | G10: Coefficient | H10: on | I10: Volume | J10: Mesh | L10: 4 | M10: =+D38 -> 1499.279 | N10: =+D90 -> -23.49254 | O10: =+D165 -> -0.03714804 | P10: =+D240 -> 0.798269 | Q10: =+C315 -> 309.3684 | R10: =+C387 -> 31703.1 | S10: =+C459 -> -3.147804 | T10: =+D531 -> 3.563904e-06 | U10: =+C606 -> 8.479113e-06 | V10: =+D678 -> 18.60097 | W10: - | X10: =+D753 -> 12274.96 | Y10: =+D828 -> -455.4772 | Z10: =+D903 -> 947.4288 | AA10: =+C978 -> 1.535107e-09 | AB10: 4
L11: 5 | M11: =+C48 -> -3.514361e-05 | N11: =+D91 -> -28.6769 | O11: =+D166 -> -0.03805064 | P11: =+D241 -> 1.062439 | Q11: =+C316 -> 270.4852 | R11: =+C388 -> 31860.95 | S11: =+C460 -> -2.755097 | T11: =+D532 -> 3.564277e-06 | U11: =+C607 -> 8.488132e-06 | V11: =+D679 -> 21.76487 | W11: - | X11: =+D754 -> 12067.58 | Y11: =+D829 -> -458.619 | Z11: =+D904 -> 1068.042 | AA11: =+C979 -> 1.544418e-09 | AB11: 5
A12: Part | B12: Value | C12: (W/m^2-K) | L12: 6 | M12: =+C57 -> -8.058448e-09 | N12: =+D92 -> -32.2633 | O12: =+D167 -> -0.03863911 | P12: =+D242 -> 1.250588 | Q12: =+C317 -> 235.6354 | R12: =+C389 -> 31773.66 | S12: =+C461 -> -2.3969 | T12: =+D533 -> 3.563944e-06 | U12: =+C608 -> 8.476726e-06 | V12: =+D680 -> 23.40387 | W12: - | X12: =+D755 -> 11879.67 | Y12: =+D830 -> -458.5058 | Z12: =+D905 -> 1129.67 | AA12: =+C980 -> 1.538454e-09 | AB12: 6
A13: ---------- | B13: --------------- | L13: 7 | M13: =+C65 -> -47.21601 | N13: =+D93 -> -35.3906 | O13: =+D168 -> -0.03915701 | P13: =+D243 -> 1.424765 | Q13: =+C318 -> 223.2234 | R13: =+C390 -> 31869.64 | S13: =+C462 -> -2.273424 | T13: =+D534 -> 3.564572e-06 | U13: =+C609 -> 8.487105e-06 | V13: =+D681 -> 25.38052 | W13: - | X13: =+D756 -> 11692.65 | Y13: =+D831 -> -457.1896 | Z13: =+D906 -> 1176.45 | AA13: =+C981 -> 1.537338e-09 | AB13: 7
A14: Box: | B14: Inter | C14: 72.46491 | L14: 8 | M14: =+C71 -> 0.0005429756 | N14: =+D94 -> -38.1757 | O14: =+D169 -> -0.03967424 | P14: =+D244 -> 1.57942 | Q14: =+C319 -> 194.7559 | R14: =+C391 -> 31912.98 | S14: =+C463 -> -1.98131 | T14: =+D535 -> 3.563686e-06 | U14: =+C610 -> 8.477749e-06 | V14: =+D682 -> 27.04584 | W14: - | X14: =+D757 -> 11507.41 | Y14: =+D832 -> -455.9665 | Z14: =+D907 -> 1203.704 | AA14: =+C982 -> 1.539846e-09 | AB14: 8
A15: ---------- | B15: --------------- | L15: 9 | M15: =+B81 -> 4.244629e-07 | N15: =+D95 -> -40.80721 | O15: =+D170 -> -0.0401427 | P15: =+D245 -> 1.729669 | Q15: =+C320 -> 188.0847 | R15: =+C392 -> 31878.59 | S15: =+C464 -> -1.916291 | T15: =+D536 -> 3.564496e-06 | U15: =+C611 -> 8.490375e-06 | V15: =+D683 -> 28.55865 | W15: - | X15: =+D758 -> 11321.2 | Y15: =+D833 -> -453.7434 | Z15: =+D908 -> 1238.84 | AA15: =+C983 -> 1.545049e-09 | AB15: 9
B16: Total: | C16: 72.46491 | L16: 10 | N16: =+D96 -> -43.15226 | O16: =+D171 -> -0.04054693 | P16: =+D246 -> 1.859793 | Q16: =+C321 -> 162.4902 | R16: =+C393 -> 31822.21 | S16: =+C465 -> -1.652434 | T16: =+D537 -> 3.563536e-06 | U16: =+C612 -> 8.474531e-06 | V16: =+D684 -> 29.99079 | W16: - | X16: =+D759 -> 11135.17 | Y16: =+D834 -> -450.885 | Z16: =+D909 -> 1259.469 | AA16: =+C984 -> 1.538162e-09 | AB16: 10
L17: 11 | N17: =+D97 -> -45.35299 | O17: =+D172 -> -0.04087783 | P17: =+D247 -> 1.988551 | Q17: =+C322 -> 157.9586 | R17: =+C394 -> 31898.07 | S17: =+C466 -> -1.609826 | T17: =+D538 -> 3.564789e-06 | U17: =+C613 -> 8.49287e-06 | V17: =+D685 -> 31.17951 | W17: - | X17: =+D760 -> 10946.71 | Y17: =+D835 -> -446.6966 | Z17: =+D910 -> 1288.499 | AA17: =+C985 -> 1.54002e-09 | AB17: 11
B18: Surface | C18: Average | D18: of | E18: Pressure | F18: on | G18: Volume | H18: Mesh | L18: 12 | N18: =+D98 -> -47.35392 | O18: =+D173 -> -0.04122426 | P18: =+D248 -> 2.097511 | Q18: =+C323 -> 134.1357 | R18: =+C395 -> 31980.46 | S18: =+C467 -> -1.365146 | T18: =+D539 -> 3.563678e-06 | U18: =+C614 -> 8.481126e-06 | V18: =+D686 -> 32.42162 | W18: - | X18: =+D761 -> 10760.02 | Y18: =+D836 -> -442.9202 | Z18: =+D911 -> 1305.077 | AA18: =+C986 -> 1.546323e-09 | AB18: 12
L19: 13 | N19: =+D99 -> -49.22369 | O19: =+D174 -> -0.0414921 | P19: =+D249 -> 2.20602 | Q19: =+C324 -> 131.0872 | R19: =+C396 -> 31988.38 | S19: =+C468 -> -1.335319 | T19: =+D540 -> 3.564551e-06 | U19: =+C615 -> 8.488744e-06 | V19: =+D687 -> 33.38036 | W19: - | X19: =+D762 -> 10570 | Y19: =+D837 -> -437.7595 | Z19: =+D912 -> 1329.123 | AA19: =+C987 -> 1.539177e-09 | AB19: 13
A20: Part | B20: Value | C20: (Pa) | L20: 14 | N20: =+D100 -> -50.80294 | O20: =+D175 -> -0.04170246 | P20: =+D250 -> 2.292004 | Q20: =+C325 -> 109.7909 | R20: =+C397 -> 31890.61 | S20: =+C469 -> -1.118136 | T20: =+D541 -> 3.563844e-06 | U20: =+C616 -> 8.486854e-06 | V20: =+D688 -> 34.40851 | W20: - | X20: =+D763 -> 10382.64 | Y20: =+D838 -> -432.3105 | Z20: =+D913 -> 1343.111 | AA20: =+C988 -> 1.539849e-09 | AB20: 14
A21: ------- | B21: ------------ | L21: 15 | N21: =+D101 -> -52.38674 | O21: =+D176 -> -0.04192432 | P21: =+D251 -> 2.382769 | Q21: =+C326 -> 106.8345 | R21: =+C398 -> 32038.21 | S21: =+C470 -> -1.087436 | T21: =+D542 -> 3.564489e-06 | U21: =+C617 -> 8.482247e-06 | V21: =+D689 -> 35.20393 | W21: - | X21: =+D764 -> 10190.53 | Y21: =+D839 -> -426.3841 | Z21: =+D914 -> 1362.964 | AA21: =+C989 -> 1.544598e-09 | AB21: 15
A22: Box: | B22: In | C22: 12578.43 | L22: 16 | N22: =+D102 -> -53.69705 | O22: =+D177 -> -0.04209731 | P22: =+D252 -> 2.452013 | Q22: =+C327 -> 88.62832 | R22: =+C399 -> 31868.22 | S22: =+C471 -> -0.9022837 | T22: =+D543 -> 3.564108e-06 | U22: =+C618 -> 8.483779e-06 | V22: =+D690 -> 36.09429 | W22: - | X22: =+D765 -> 10001.79 | Y22: =+D840 -> -420.3664 | Z22: =+D915 -> 1374.523 | AA22: =+C990 -> 1.540474e-09 | AB22: 16
A23: ------- | B23: ------------ | L23: 17 | N23: =+D103 -> -54.93986 | O23: =+D178 -> -0.04223254 | P23: =+D253 -> 2.525326 | Q23: =+C328 -> 86.51052 | R23: =+C400 -> 31989.47 | S23: =+C472 -> -0.8800952 | T23: =+D544 -> 3.564233e-06 | U23: =+C619 -> 8.477727e-06 | V23: =+D691 -> 36.69734 | W23: - | X23: =+D766 -> 9807.658 | Y23: =+D841 -> -413.3356 | Z23: =+D916 -> 1390.752 | AA23: =+C991 -> 1.535758e-09 | AB23: 17
B24: Total: | C24: 12578.43 | L24: 18 | N24: =+D104 -> -56.01236 | O24: =+D179 -> -0.04237166 | P24: =+D254 -> 2.58066 | Q24: =+C329 -> 71.24603 | R24: =+C401 -> 32091.67 | S24: =+C473 -> -0.7251897 | T24: =+D545 -> 3.563812e-06 | U24: =+C620 -> 8.482223e-06 | V24: =+D692 -> 37.48423 | W24: - | X24: =+D767 -> 9617.435 | Y24: =+D842 -> -406.7908 | Z24: =+D917 -> 1400.094 | AA24: =+C992 -> 1.541425e-09 | AB24: 18
L25: 19 | N25: =+D105 -> -57.06008 | O25: =+D180 -> -0.0425078 | P25: =+D255 -> 2.643709 | Q25: =+C330 -> 69.16267 | R25: =+C402 -> 32023.59 | S25: =+C474 -> -0.7041724 | T25: =+D546 -> 3.564622e-06 | U25: =+C621 -> 8.484495e-06 | V25: =+D693 -> 37.96721 | W25: - | X25: =+D768 -> 9421.077 | Y25: =+D843 -> -399.5673 | Z25: =+D918 -> 1413.192 | AA25: =+C993 -> 1.544385e-09 | AB25: 19
B26: Surface | C26: Average | D26: of | E26: Temperature | F26: on | G26: Volume | H26: Mesh | L26: 20 | N26: =+D106 -> -57.88288 | O26: =+D181 -> -0.04258937 | P26: =+D256 -> 2.685671 | Q26: =+C331 -> 56.89315 | R26: =+C403 -> 32031.3 | S26: =+C475 -> -0.5790832 | T26: =+D547 -> 3.563678e-06 | U26: =+C622 -> 8.482029e-06 | V26: =+D694 -> 38.64693 | W26: - | X26: =+D769 -> 9229.734 | Y26: =+D844 -> -392.3622 | Z26: =+D919 -> 1420.784 | AA26: =+C994 -> 1.532412e-09 | AB26: 20
L27: 21 | N27: =+D107 -> -58.71726 | O27: =+D182 -> -0.0426906 | P27: =+D257 -> 2.737571 | Q27: =+C332 -> 54.91568 | R27: =+C404 -> 31974.99 | S27: =+C476 -> -0.558911 | T27: =+D548 -> 3.564567e-06 | U27: =+C623 -> 8.481351e-06 | V27: =+D695 -> 39.00949 | W27: - | X27: =+D770 -> 9031.423 | Y27: =+D845 -> -384.6192 | Z27: =+D920 -> 1431.236 | AA27: =+C995 -> 1.534507e-09 | AB27: 21
A28: Part | B28: Value | C28: (K) | L28: 22 | N28: =+D108 -> -59.40109 | O28: =+D183 -> -0.04277397 | P28: =+D258 -> 2.773673 | Q28: =+C333 -> 45.20182 | R28: =+C405 -> 31826.14 | S28: =+C477 -> -0.460552 | T28: =+D549 -> 3.563854e-06 | U28: =+C624 -> 8.490662e-06 | V28: =+D696 -> 39.61288 | W28: - | X28: =+D771 -> 8838.441 | Y28: =+D846 -> -377.2923 | Z28: =+D921 -> 1437.367 | AA28: =+C996 -> 1.545736e-09 | AB28: 22
A29: -------- | B29: ------------ | L29: 23 | N29: =+D109 -> -60.0668 | O29: =+D184 -> -0.04285712 | P29: =+D259 -> 2.818123 | Q29: =+C334 -> 43.32016 | R29: =+C406 -> 32054.16 | S29: =+C478 -> -0.4410757 | T29: =+D550 -> 3.564945e-06 | U29: =+C625 -> 8.484803e-06 | V29: =+D697 -> 39.8877 | W29: - | X29: =+D772 -> 8638.757 | Y29: =+D847 -> -369.2805 | Z29: =+D922 -> 1445.63 | AA29: =+C997 -> 1.536229e-09 | AB29: 23
A30: Box: | B30: Out | C30: 1499.866 | L30: 24 | N30: =+D110 -> -60.60158 | O30: =+D185 -> -0.04290904 | P30: =+D260 -> 2.841858 | Q30: =+C335 -> 35.78379 | R30: =+C407 -> 31934 | S30: =+C479 -> -0.3642045 | T30: =+D551 -> 3.563902e-06 | U30: =+C626 -> 8.4816e-06 | V30: =+D698 -> 40.41061 | W30: - | X30: =+D773 -> 8444.1 | Y30: =+D848 -> -361.5459 | Z30: =+D923 -> 1450.606 | AA30: =+C998 -> 1.536519e-09 | AB30: 24
A31: -------- | B31: ------------ | L31: 25 | N31: =+D111 -> -61.12916 | O31: =+D186 -> -0.04297525 | P31: =+D261 -> 2.879771 | Q31: =+C336 -> 34.14257 | R31: =+C408 -> 32100.84 | S31: =+C480 -> -0.3475438 | T31: =+D552 -> 3.564379e-06 | U31: =+C627 -> 8.482663e-06 | V31: =+D699 -> 40.62228 | W31: - | X31: =+D774 -> 8242.777 | Y31: =+D849 -> -353.2592 | Z31: =+D924 -> 1457.078 | AA31: =+C999 -> 1.542486e-09 | AB31: 25
B32: Total: | C32: 1499.866 | L32: 26 | N32: =+D112 -> -61.56822 | O32: =+D187 -> -0.04303286 | P32: =+D262 -> 2.903589 | Q32: =+C337 -> 28.22606 | R32: =+C409 -> 31945.23 | S32: =+C481 -> -0.2874159 | T32: =+D553 -> 3.56368e-06 | U32: =+C628 -> 8.485535e-06 | V32: =+D700 -> 41.08206 | W32: - | X32: =+D775 -> 8047.281 | Y32: =+D850 -> -345.5045 | Z32: =+D925 -> 1461.003 | AA32: =+C1000 -> 1.540706e-09 | AB32: 26
L33: 27 | N33: =+D113 -> -61.94164 | O33: =+D188 -> -0.04305212 | P33: =+D263 -> 2.931211 | Q33: =+C338 -> 26.92441 | R33: =+C410 -> 32067.18 | S33: =+C482 -> -0.274067 | T33: =+D554 -> 3.56441e-06 | U33: =+C629 -> 8.482609e-06 | V33: =+D701 -> 41.21283 | W33: - | X33: =+D776 -> 7844.604 | Y33: =+D851 -> -336.7433 | Z33: =+D926 -> 1466.127 | AA33: =+C1001 -> 1.541041e-09 | AB33: 27
B34: Surface | C34: Average | D34: of | E34: Temperature | F34: on | G34: Volume | H34: Mesh | L34: 28 | N34: =+D114 -> -62.27371 | O34: =+D189 -> -0.04308565 | P34: =+D264 -> 2.948333 | Q34: =+C339 -> 22.26059 | R34: =+C411 -> 32021.84 | S34: =+C483 -> -0.2265455 | T34: =+D555 -> 3.563731e-06 | U34: =+C630 -> 8.480812e-06 | V34: =+D702 -> 41.62948 | W34: - | X34: =+D777 -> 7647.95 | Y34: =+D852 -> -328.7079 | Z34: =+D927 -> 1469.26 | AA34: =+C1002 -> 1.539855e-09 | AB34: 28
L35: 29 | N35: =+D115 -> -62.63819 | O35: =+D190 -> -0.04315291 | P35: =+D265 -> 2.97907 | Q35: =+C340 -> 21.09084 | R35: =+C412 -> 31999.98 | S35: =+C484 -> -0.2148392 | T35: =+D556 -> 3.564607e-06 | U35: =+C631 -> 8.488644e-06 | V35: =+D703 -> 41.73001 | W35: - | X35: =+D778 -> 7444.2 | Y35: =+D853 -> -320.2437 | Z35: =+D928 -> 1473.207 | AA35: =+C1003 -> 1.545202e-09 | AB35: 29
A36: Part | B36: Value | C36: (K) | L36: 30 | N36: =+D116 -> -62.85644 | O36: =+D191 -> -0.04314839 | P36: =+D266 -> 2.989392 | Q36: =+C341 -> 17.5269 | R36: =+C413 -> 31983.65 | S36: =+C485 -> -0.1783339 | T36: =+D557 -> 3.563858e-06 | U36: =+C632 -> 8.479058e-06 | V36: =+D704 -> 42.08619 | W36: - | X36: =+D779 -> 7246.366 | Y36: =+D854 -> -311.869 | Z36: =+D929 -> 1475.737 | AA36: =+C1004 -> 1.540445e-09 | AB36: 30
A37: ---------------- | B37: ------------ | L37: 31 | N37: =+D117 -> -63.02587 | O37: =+D192 -> -0.04311876 | P37: =+D267 -> 3.007027 | Q37: =+C342 -> 16.52185 | R37: =+C414 -> 32032.43 | S37: =+C486 -> -0.1683489 | T37: =+D558 -> 3.564898e-06 | U37: =+C633 -> 8.491222e-06 | V37: =+D705 -> 42.08643 | W37: - | X37: =+D780 -> 7041.405 | Y37: =+D855 -> -302.6249 | Z37: =+D930 -> 1478.864 | AA37: =+C1005 -> 1.538049e-09 | AB37: 31
A38: Plane | B38: Section | C38: 68 | D38: 1499.279 | L38: 32 | N38: =+D118 -> -63.28581 | O38: =+D193 -> -0.04317536 | P38: =+D268 -> 3.018319 | Q38: =+C343 -> 13.72525 | R38: =+C415 -> 31910.31 | S38: =+C487 -> -0.1396133 | T38: =+D559 -> 3.563768e-06 | U38: =+C634 -> 8.47667e-06 | V38: =+D706 -> 42.48107 | W38: - | X38: =+D781 -> 6842.571 | Y38: =+D856 -> -294.627 | Z38: =+D931 -> 1480.835 | AA38: =+C1006 -> 1.546304e-09 | AB38: 32
A39: ---------------- | B39: ------------ | L39: 33 | N39: =+D119 -> -63.52094 | O39: =+D194 -> -0.04322348 | P39: =+D269 -> 3.044303 | Q39: =+C344 -> 12.90338 | R39: =+C416 -> 31859.11 | S39: =+C488 -> -0.1314071 | T39: =+D560 -> 3.564858e-06 | U39: =+C635 -> 8.486607e-06 | V39: =+D707 -> 42.5297 | W39: - | X39: =+D782 -> 6635.702 | Y39: =+D857 -> -285.8131 | Z39: =+D932 -> 1483.252 | AA39: =+C1007 -> 1.54086e-09 | AB39: 33
B40: Total: | C40: 1499.279 | L40: 34 | N40: =+D120 -> -63.62694 | O40: =+D195 -> -0.04320118 | P40: =+D270 -> 3.048643 | Q40: =+C345 -> 10.76984 | R40: =+C417 -> 32028.18 | S40: =+C489 -> -0.1095935 | T40: =+D561 -> 3.563818e-06 | U40: =+C636 -> 8.479972e-06 | V40: =+D708 -> 42.83119 | W40: - | X40: =+D783 -> 6435.612 | Y40: =+D858 -> -277.2285 | Z40: =+D933 -> 1484.84 | AA40: =+C1008 -> 1.538296e-09 | AB40: 34
L41: 35 | N41: =+D121 -> -63.76489 | O41: =+D196 -> -0.04320689 | P41: =+D271 -> 3.066391 | Q41: =+C346 -> 10.07898 | R41: =+C418 -> 32019.9 | S41: =+C490 -> -0.1026759 | T41: =+D562 -> 3.564644e-06 | U41: =+C637 -> 8.489271e-06 | V41: =+D709 -> 42.82864 | W41: - | X41: =+D784 -> 6227.903 | Y41: =+D859 -> -268.0805 | Z41: =+D934 -> 1486.708 | AA41: =+C1009 -> 1.537653e-09 | AB41: 35
B42: Mass | C42: Flow | L42: 36 | N42: =+D122 -> -63.94901 | O42: =+D197 -> -0.04325827 | P42: =+D272 -> 3.076527 | Q42: =+C347 -> 8.457735 | R42: =+C419 -> 32041.71 | S42: =+C491 -> -0.08609423 | T42: =+D563 -> 3.563827e-06 | U42: =+C638 -> 8.48279e-06 | V42: =+D710 -> 43.17947 | W42: - | X42: =+D785 -> 6026.803 | Y42: =+D860 -> -259.8951 | Z42: =+D935 -> 1487.943 | AA42: =+C1010 -> 1.54458e-09 | AB42: 36
L43: 37 | N43: =+D123 -> -64.01759 | O43: =+D198 -> -0.0432364 | P43: =+D273 -> 3.090449 | Q43: =+C348 -> 7.854928 | R43: =+C420 -> 31984.11 | S43: =+C492 -> -0.07993198 | T43: =+D564 -> 3.564439e-06 | U43: =+C639 -> 8.480025e-06 | V43: =+D711 -> 43.14183 | W43: - | X43: =+D786 -> 5818.297 | Y43: =+D861 -> -250.5589 | Z43: =+D936 -> 1489.4 | AA43: =+C1011 -> 1.535618e-09 | AB43: 37
A44: Part | B44: Value | C44: (kg/s) | L44: 38 | N44: =+D124 -> -64.08306 | O44: =+D199 -> -0.04322261 | P44: =+D274 -> 3.092366 | Q44: =+C349 -> 6.613349 | R44: =+C421 -> 32116.78 | S44: =+C493 -> -0.06733689 | T44: =+D565 -> 3.563753e-06 | U44: =+C640 -> 8.484971e-06 | V44: =+D712 -> 43.42023 | W44: - | X44: =+D787 -> 5616.141 | Y44: =+D862 -> -241.9141 | Z44: =+D937 -> 1490.397 | AA44: =+C1012 -> 1.534858e-09 | AB44: 38
A45: ------- | B45: ------------- | L45: 39 | N45: =+D125 -> -64.20816 | O45: =+D200 -> -0.04325447 | P45: =+D275 -> 3.11209 | Q45: =+C350 -> 6.131821 | R45: =+C422 -> 32010.74 | S45: =+C494 -> -0.06243953 | T45: =+D566 -> 3.564478e-06 | U45: =+C641 -> 8.485724e-06 | V45: =+D713 -> 43.41805 | W45: - | X45: =+D788 -> 5406.194 | Y45: =+D863 -> -232.8175 | Z45: =+D938 -> 1491.511 | AA45: =+C1013 -> 1.544094e-09 | AB45: 39
A46: Box: | B46: In | C46: -3.514361e-05 | L46: 40 | N46: =+D126 -> -64.27324 | O46: =+D201 -> -0.04325312 | P46: =+D276 -> 3.114914 | Q46: =+C351 -> 5.181024 | R46: =+C423 -> 32027.86 | S46: =+C495 -> -0.05273589 | T46: =+D567 -> 3.563875e-06 | U46: =+C642 -> 8.482219e-06 | V46: =+D714 -> 43.70689 | W46: - | X46: =+D789 -> 5203.355 | Y46: =+D864 -> -224.2249 | Z46: =+D939 -> 1492.292 | AA46: =+C1014 -> 1.537588e-09 | AB46: 40
A47: ------- | B47: ------------- | L47: 41 | N47: =+D127 -> -64.3339 | O47: =+D202 -> -0.0432535 | P47: =+D277 -> 3.133205 | Q47: =+C352 -> 4.786411 | R47: =+C424 -> 32050.85 | S47: =+C496 -> -0.04875299 | T47: =+D568 -> 3.564676e-06 | U47: =+C643 -> 8.488091e-06 | V47: =+D715 -> 43.67092 | W47: - | X47: =+D790 -> 4992.244 | Y47: =+D865 -> -214.8954 | Z47: =+D940 -> 1493.157 | AA47: =+C1015 -> 1.532761e-09 | AB47: 41
B48: Total: | C48: -3.514361e-05 | L48: 42 | N48: =+D128 -> -64.47409 | O48: =+D203 -> -0.0433122 | P48: =+D278 -> 3.139722 | Q48: =+C353 -> 4.054891 | R48: =+C425 -> 31919.48 | S48: =+C497 -> -0.04126634 | T48: =+D569 -> 3.563739e-06 | U48: =+C644 -> 8.480776e-06 | V48: =+D716 -> 44.00335 | W48: - | X48: =+D791 -> 4788.288 | Y48: =+D866 -> -206.5294 | Z48: =+D941 -> 1493.77 | AA48: =+C1016 -> 1.543435e-09 | AB48: 42
L49: 43 | N49: =+D129 -> -64.51983 | O49: =+D204 -> -0.04331157 | P49: =+D279 -> 3.154674 | Q49: =+C354 -> 3.740244 | R49: =+C426 -> 31970.29 | S49: =+C498 -> -0.03804978 | T49: =+D570 -> 3.564813e-06 | U49: =+C645 -> 8.47756e-06 | V49: =+D717 -> 43.93079 | W49: - | X49: =+D792 -> 4577.225 | Y49: =+D867 -> -197.2032 | Z49: =+D942 -> 1494.434 | AA49: =+C1017 -> 1.542641e-09 | AB49: 43
B50: Mass | C50: Flow | L50: 44 | N50: =+D130 -> -64.582 | O50: =+D205 -> -0.04332542 | P50: =+D280 -> 3.156466 | Q50: =+C355 -> 3.172666 | R50: =+C427 -> 32008.07 | S50: =+C499 -> -0.03231062 | T50: =+D571 -> 3.564007e-06 | U50: =+C646 -> 8.486718e-06 | V50: =+D718 -> 44.23018 | W50: - | X50: =+D793 -> 4372.462 | Y50: =+D868 -> -188.5879 | Z50: =+D943 -> 1494.921 | AA50: =+C1018 -> 1.538819e-09 | AB50: 44
L51: 45 | N51: =+D131 -> -64.65727 | O51: =+D206 -> -0.04335143 | P51: =+D281 -> 3.173471 | Q51: =+C356 -> 2.923762 | R51: =+C428 -> 32015.27 | S51: =+C500 -> -0.02979765 | T51: =+D572 -> 3.564467e-06 | U51: =+C647 -> 8.492953e-06 | V51: =+D719 -> 44.18149 | W51: - | X51: =+D794 -> 4159.821 | Y51: =+D869 -> -179.2774 | Z51: =+D944 -> 1495.435 | AA51: =+C1019 -> 1.538554e-09 | AB51: 45
A52: Part | B52: Value | C52: (kg/s) | L52: 46 | N52: =+D132 -> -64.62453 | O52: =+D207 -> -0.04330798 | P52: =+D282 -> 3.172436 | Q52: =+C357 -> 2.487531 | R52: =+C429 -> 31951.82 | S52: =+C501 -> -0.02530984 | T52: =+D573 -> 3.563828e-06 | U52: =+C648 -> 8.478901e-06 | V52: =+D720 -> 44.42942 | W52: - | X52: =+D795 -> 3954.027 | Y52: =+D870 -> -170.3765 | Z52: =+D945 -> 1495.821 | AA52: =+C1020 -> 1.54625e-09 | AB52: 46
A53: -------- | B53: ------------- | L53: 47 | N53: =+D133 -> -64.7112 | O53: =+D208 -> -0.04334732 | P53: =+D283 -> 3.191162 | Q53: =+C358 -> 2.279918 | R53: =+C430 -> 32069.67 | S53: =+C502 -> -0.02319541 | T53: =+D574 -> 3.56441e-06 | U53: =+C649 -> 8.478159e-06 | V53: =+D721 -> 44.38734 | W53: - | X53: =+D796 -> 3740.944 | Y53: =+D871 -> -161.1109 | Z53: =+D946 -> 1496.212 | AA53: =+C1021 -> 1.54077e-09 | AB53: 47
A54: Box: | B54: In | C54: -3.514361e-05 | L54: 48 | N54: =+D134 -> -64.65349 | O54: =+D209 -> -0.04329153 | P54: =+D284 -> 3.186436 | Q54: =+C359 -> 1.954978 | R54: =+C431 -> 31970.48 | S54: =+C503 -> -0.01990327 | T54: =+D575 -> 3.563801e-06 | U54: =+C650 -> 8.484012e-06 | V54: =+D722 -> 44.59391 | W54: - | X54: =+D797 -> 3534.252 | Y54: =+D872 -> -152.1458 | Z54: =+D947 -> 1496.522 | AA54: =+C1022 -> 1.540136e-09 | AB54: 48
A55: Box: | B55: Out | C55: 3.513555e-05 | L55: 49 | N55: =+D135 -> -64.7296 | O55: =+D210 -> -0.04332791 | P55: =+D285 -> 3.204079 | Q55: =+C360 -> 1.784245 | R55: =+C432 -> 32028.33 | S55: =+C504 -> -0.0181817 | T55: =+D576 -> 3.564509e-06 | U55: =+C651 -> 8.491781e-06 | V55: =+D723 -> 44.56858 | W55: - | X55: =+D798 -> 3320.169 | Y55: =+D873 -> -142.8022 | Z55: =+D948 -> 1496.823 | AA55: =+C1023 -> 1.545467e-09 | AB55: 49
A56: -------- | B56: ------------- | L56: 50 | N56: =+D136 -> -64.80364 | O56: =+D211 -> -0.04336407 | P56: =+D286 -> 3.207965 | Q56: =+C361 -> 1.531458 | R56: =+C433 -> 32042.23 | S56: =+C505 -> -0.01559211 | T56: =+D577 -> 3.563911e-06 | U56: =+C652 -> 8.484347e-06 | V56: =+D724 -> 44.87077 | W56: - | X56: =+D799 -> 3113.145 | Y56: =+D874 -> -134.1476 | Z56: =+D949 -> 1497.061 | AA56: =+C1024 -> 1.539233e-09 | AB56: 50
B57: Total: | C57: -8.058448e-09 | L57: 51 | N57: =+D137 -> -64.73076 | O57: =+D212 -> -0.04330403 | P57: =+D287 -> 3.215504 | Q57: =+C362 -> 1.397005 | R57: =+C434 -> 31959.92 | S57: =+C506 -> -0.0142162 | T57: =+D578 -> 3.564838e-06 | U57: =+C653 -> 8.480165e-06 | V57: =+D725 -> 44.7403 | W57: - | X57: =+D800 -> 2898.027 | Y57: =+D875 -> -124.4508 | Z57: =+D950 -> 1497.299 | AA57: =+C1025 -> 1.53761e-09 | AB57: 51
L58: 52 | N58: =+D138 -> -64.74384 | O58: =+D213 -> -0.04330222 | P58: =+D288 -> 3.217144 | Q58: =+C363 -> 1.202472 | R58: =+C435 -> 31982.76 | S58: =+C507 -> -0.0122323 | T58: =+D579 -> 3.564055e-06 | U58: =+C654 -> 8.477189e-06 | V58: =+D726 -> 45.01051 | W58: - | X58: =+D801 -> 2689.629 | Y58: =+D876 -> -115.6028 | Z58: =+D951 -> 1497.489 | AA58: =+C1026 -> 1.541235e-09 | AB58: 52
B59: Surface | C59: Integral | D59: of | E59: Boundary | F59: Heat | G59: Flux | H59: on | I59: Volume | J59: Mesh | L59: 53 | N59: =+D139 -> -64.79338 | O59: =+D214 -> -0.04332681 | P59: =+D289 -> 3.232493 | Q59: =+C364 -> 1.094785 | R59: =+C436 -> 31888.07 | S59: =+C508 -> -0.01114744 | T59: =+D580 -> 3.56489e-06 | U59: =+C655 -> 8.485257e-06 | V59: =+D727 -> 44.95991 | W59: - | X59: =+D802 -> 2473.321 | Y59: =+D877 -> -106.0923 | Z59: =+D952 -> 1497.666 | AA59: =+C1027 -> 1.544247e-09 | AB59: 53
L60: 54 | N60: =+D140 -> -64.75233 | O60: =+D215 -> -0.04329104 | P60: =+D290 -> 3.230026 | Q60: =+C365 -> 0.9467164 | R60: =+C437 -> 32072.51 | S60: =+C509 -> -0.009637996 | T60: =+D581 -> 3.563696e-06 | U60: =+C656 -> 8.483706e-06 | V60: =+D728 -> 45.21052 | W60: - | X60: =+D803 -> 2264.209 | Y60: =+D878 -> -97.17582 | Z60: =+D953 -> 1497.817 | AA60: =+C1028 -> 1.53395e-09 | AB60: 54
A61: Part | B61: Value | C61: (W) | L61: 55 | N61: =+D141 -> -64.79599 | O61: =+D216 -> -0.04331365 | P61: =+D291 -> 3.245038 | Q61: =+C366 -> 0.8596013 | R61: =+C438 -> 32023.94 | S61: =+C510 -> -0.008753851 | T61: =+D582 -> 3.564462e-06 | U61: =+C657 -> 8.486348e-06 | V61: =+D729 -> 45.15638 | W61: - | X61: =+D804 -> 2046.894 | Y61: =+D879 -> -87.5858 | Z61: =+D954 -> 1497.952 | AA61: =+C1029 -> 1.537008e-09 | AB61: 55
A62: ---------- | B62: ------------- | L62: 56 | N62: =+D142 -> -64.79985 | O62: =+D217 -> -0.04330964 | P62: =+D292 -> 3.244684 | Q62: =+C367 -> 0.7463332 | R62: =+C439 -> 32136.74 | S62: =+C511 -> -0.007597815 | T62: =+D583 -> 3.563648e-06 | U62: =+C658 -> 8.483493e-06 | V62: =+D730 -> 45.43876 | W62: - | X62: =+D805 -> 1836.788 | Y62: =+D880 -> -78.67941 | Z62: =+D955 -> 1498.071 | AA62: =+C1030 -> 1.54387e-09 | AB62: 56
A63: Box: | B63: Inter | C63: -47.21601 | L63: 57 | N63: =+D143 -> -64.85032 | O63: =+D218 -> -0.04333866 | P63: =+D293 -> 3.263407 | Q63: =+C368 -> 0.6750601 | R63: =+C440 -> 31999.28 | S63: =+C512 -> -0.006866179 | T63: =+D584 -> 3.564393e-06 | U63: =+C659 -> 8.476009e-06 | V63: =+D731 -> 45.39082 | W63: - | X63: =+D806 -> 1618.868 | Y63: =+D881 -> -69.08919 | Z63: =+D956 -> 1498.172 | AA63: =+C1031 -> 1.534986e-09 | AB63: 57
A64: ---------- | B64: ------------- | L64: 58 | N64: =+D144 -> -64.83223 | O64: =+D219 -> -0.04332113 | P64: =+D294 -> 3.259636 | Q64: =+C369 -> 0.5880039 | R64: =+C441 -> 31986.66 | S64: =+C513 -> -0.005996838 | T64: =+D585 -> 3.563573e-06 | U64: =+C660 -> 8.498865e-06 | V64: =+D732 -> 45.64523 | W64: - | X64: =+D807 -> 1407.417 | Y64: =+D882 -> -60.08289 | Z64: =+D957 -> 1498.268 | AA64: =+C1032 -> 1.535187e-09 | AB64: 58
B65: Total: | C65: -47.21601 | L65: 59 | N65: =+D145 -> -64.86796 | O65: =+D220 -> -0.04334142 | P65: =+D295 -> 3.275905 | Q65: =+C370 -> 0.5294628 | R65: =+C442 -> 32021.94 | S65: =+C514 -> -0.005387714 | T65: =+D586 -> 3.564398e-06 | U65: =+C661 -> 8.479842e-06 | V65: =+D733 -> 45.58991 | W65: - | X65: =+D808 -> 1188.374 | Y65: =+D883 -> -50.41663 | Z65: =+D958 -> 1498.345 | AA65: =+C1033 -> 1.543453e-09 | AB65: 59
L66: 60 | N66: =+D146 -> -64.88229 | O66: =+D221 -> -0.04334675 | P66: =+D296 -> 3.276438 | Q66: =+C371 -> 0.4650672 | R66: =+C443 -> 32076.99 | S66: =+C515 -> -0.004733292 | T66: =+D587 -> 3.563694e-06 | U66: =+C662 -> 8.481377e-06 | V66: =+D734 -> 45.858 | W66: - | X66: =+D809 -> 976.883 | Y66: =+D884 -> -41.45952 | Z66: =+D959 -> 1498.42 | AA66: =+C1034 -> 1.540749e-09 | AB66: 60
B67: Surface | C67: Integral | D67: of | E67: AA_Uno | F67: on | G67: Volume | H67: Mesh | L67: 61 | N67: =+D147 -> -64.87523 | O67: =+D222 -> -0.04333948 | P67: =+D297 -> 3.291827 | Q67: =+C372 -> 0.4173306 | R67: =+C444 -> 32057.47 | S67: =+C516 -> -0.004246111 | T67: =+D588 -> 3.564613e-06 | U67: =+C663 -> 8.478713e-06 | V67: =+D735 -> 45.79875 | W67: - | X67: =+D810 -> 756.9146 | Y67: =+D885 -> -31.71131 | Z67: =+D960 -> 1498.477 | AA67: =+C1035 -> 1.537907e-09 | AB67: 61
L68: 62 | N68: =+D148 -> -64.8542 | O68: =+D223 -> -0.04332203 | P68: =+D298 -> 3.290132 | Q68: =+C373 -> 0.3663564 | R68: =+C445 -> 32011.83 | S68: =+C517 -> -0.003729282 | T68: =+D589 -> 3.56382e-06 | U68: =+C664 -> 8.482819e-06 | V68: =+D736 -> 46.04824 | W68: - | X68: =+D811 -> 544.1063 | Y68: =+D886 -> -22.67757 | Z68: =+D961 -> 1498.538 | AA68: =+C1036 -> 1.540307e-09 | AB68: 62
A69: Part | B69: Value | C69: (m^2) | L69: 63 | N69: =+D149 -> -64.94823 | O69: =+D224 -> -0.04338291 | P69: =+D299 -> 3.30848 | Q69: =+C374 -> 0.3322463 | R69: =+C446 -> 31944.8 | S69: =+C518 -> -0.003381501 | T69: =+D590 -> 3.564606e-06 | U69: =+C665 -> 8.481413e-06 | V69: =+D737 -> 46.03447 | W69: - | X69: =+D812 -> 323.3829 | Y69: =+D887 -> -12.93176 | Z69: =+D962 -> 1498.579 | AA69: =+C1037 -> 1.545626e-09 | AB69: 63
A70: ---------- | B70: ------------ | L70: 64 | N70: =+D150 -> -64.91568 | O70: =+D225 -> -0.04335832 | P70: =+D300 -> 3.303593 | Q70: =+C375 -> 0.2664944 | R70: =+C447 -> 32129.04 | S70: =+C519 -> -0.002713364 | T70: =+D591 -> 3.563718e-06 | U70: =+C666 -> 8.484743e-06 | V70: =+D738 -> 46.26567 | W70: - | X70: =+D813 -> 109.8519 | Y70: =+D888 -> -3.894365 | Z70: =+D963 -> 1498.629 | AA70: =+C1038 -> 1.539753e-09 | AB70: 64
A71: Box: | B71: Inter | C71: 0.0005429756 | L71: 65 | N71: =+D151 -> -64.85949 | O71: =+D226 -> -0.04332025 | P71: =+D301 -> 3.329366 | Q71: =+C376 -> 0.1149833 | R71: =+C448 -> 26966.19 | S71: =+C520 -> -0.0005862601 | T71: =+D592 -> 3.564525e-06 | U71: =+C667 -> 4.248877e-06 | V71: =+D739 -> 46.29334 | W71: - | X71: =+D814 -> -117.5298 | Y71: =+D889 -> 6.308186 | Z71: =+D964 -> 1498.651 | AA71: =+C1039 -> 1.537006e-09 | AB71: 65 - T
A72: ---------- | B72: ------------ | L72: 66 | N72: =+D152 -> -64.87139 | O72: =+D227 -> -0.04332111 | P72: =+D302 -> 3.231847 | T72: =+D593 -> 3.563732e-06 | V72: =+D740 -> 44.20103 | X72: =+D815 -> -297.0816 | Y72: =+D890 -> 12.9855 | Z72: =+D965 -> 1498.743 | AA72: =+C1040 -> 1.710984e-09 | AB72: 66 - Air
B73: Total: | C73: 0.0005429756 | L73: 67 | N73: =+D153 -> -64.89552 | O73: =+D228 -> -0.04332166 | P73: =+D303 -> 2.960587 | T73: =+D594 -> 5.312049e-06 | V73: =+D741 -> 33.72943 | X73: =+D816 -> -269.8163 | Y73: =+D891 -> 11.83771 | Z73: =+D966 -> 1499.244
L74: 68 | N74: =+D154 -> -64.95889 | O74: =+D229 -> -0.04335254 | P74: =+D304 -> 2.924219 | T74: =+D595 -> 5.3138e-06 | V74: =+D742 -> 35.84117 | X74: =+D817 -> -262.8587 | Y74: =+D892 -> 10.98198 | Z74: =+D967 -> 1499.279
B75: Volume | C75: Integral | D75: of | E75: AA_Uno | F75: on | G75: Volume | H75: Mesh
A77: Part | B77: Value | C77: (m^3)
A78: ------ | B78: ------------
A79: Box | B79: 4.244629e-07
A80: ------ | B80: ------------
A81: Total: | B81: 4.244629e-07
B83: Surface | C83: Integral | D83: of | E83: AA_mcpT_PS | F83: on | G83: Volume | H83: Mesh
A85: Part | B85: Value | C85: (W-m^2)
A86: ---------------- | B86: -------------
A87: Plane | B87: Section | C87: -10.60339
A88: Plane | B88: Section | C88: 2 | D88: -11.17078
A89: Plane | B89: Section | C89: 3 | D89: -15.82714
A90: Plane | B90: Section | C90: 4 | D90: -23.49254
A91: Plane | B91: Section | C91: 5 | D91: -28.6769
A92: Plane | B92: Section | C92: 6 | D92: -32.2633
A93: Plane | B93: Section | C93: 7 | D93: -35.3906
A94: Plane | B94: Section | C94: 8 | D94: -38.1757
A95: Plane | B95: Section | C95: 9 | D95: -40.80721
A96: Plane | B96: Section | C96: 10 | D96: -43.15226
A97: Plane | B97: Section | C97: 11 | D97: -45.35299
A98: Plane | B98: Section | C98: 12 | D98: -47.35392
A99: Plane | B99: Section | C99: 13 | D99: -49.22369
... A154: Plane | B154: Section | C154: 68 | D154: -64.95889
A155: ---------------- | B155: -------------
B156: Total: | C156: -3866.539
B158: Surface | C158: Integral | D158: of | E158: AA_mcp_PS | F158: on | G158: Volume | H158: Mesh
A160: Part | B160: Value | C160: (W-m^2/K)
A161: ---------------- | B161: ---------------
...

Sheet P80_C3_LAMINAR
A1: Ain, m2 | B1: =(0.000815*2)*(0.00163*2) -> 5.3138e-06 | X1: INLINE | Y1: Cells | Z1: 4646956 | AA1: Porosidad | AB1: 0.8 | AC1: Diámetro del hilo (mm) | AD1: 0.4 | AE1: Pitch (mm) | AF1: 1.23
A2: Thickness, m | B2: 0.0004 | C2: Thickness de fusión, m | D2: =0.45*10^-3 -> 0.00045 | Y2: M | Z2: 0.5 | AA2: NPL | AB2: 2 | AC2: PLT | AD2: 4 | AE2: PLS | AF2: 15 | AT2: 3.2 | AU2: 0.4 | AV2: 0 | AW2: -0.45 | AX2: -0.9 | AY2: -1.35 | AZ2: -1.8 | BA2: -2.25 | BB2: -2.7 | BC2: -3.15 | BD2: -3.6 | BE2: -4.05 | BF2: -4.5 | BG2: -4.95 | BH2: -5.4 | BI2: -5.85 | BJ2: -6.3 | BK2: -6.75 | BL2: -7.2 | BM2: -7.65 | BN2: -8.1 | BO2: -8.55 | BP2: -9 | BQ2: -9.45 | BR2: -9.9 | BS2: -10.35 | BT2: -10.8 | BU2: -11.25 | BV2: -11.7 | BW2: -12.15 | BX2: -12.6 | BY2: -13.05 | BZ2: -13.5 | CA2: -13.95 | CB2: -14.4 | CC2: -14.85 | CD2: -15.3 | CE2: -15.75 | CF2: -16.2 | CG2: -16.65 | CH2: -17.1 | CI2: -17.55 | CJ2: -18 | CK2: -18.45 | CL2: -18.9 | CM2: -19.35 | CN2: -19.8 | CO2: -20.25 | CP2: -20.7 | CQ2: -21.15 | CR2: -21.6 | CS2: -22.05 | CT2: -22.5 | CU2: -22.95 | CV2: -23.4 | CW2: -23.85 | CX2: -24.3 | CY2: -24.75 | CZ2: -25.2 | DA2: -25.65 | DB2: -26.1 | DC2: -26.55 | DD2: -27 | DE2: -27.45 | DF2: -27.9 | DG2: -28.35 | DH2: -28.75 | DI2: -29.15 | DJ2: 3.2 | DK2: 0.4 | DL2: 0 | DM2: -0.45 | DN2: -0.9 | DO2: -1.35 | DP2: -1.8 | DQ2: -2.25 | DR2: -2.7 | DS2: -3.15 | DT2: -3.6 | DU2: -4.05 | DV2: -4.5 | DW2: -4.95 | DX2: -5.4 | DY2: -5.85 | DZ2: -6.3 | EA2: -6.75 | EB2: -7.2 | EC2: -7.65 | ED2: -8.1 | EE2: -8.55 | EF2: -9 | EG2: -9.45 | EH2: -9.9 | EI2: -10.35 | EJ2: -10.8 | EK2: -11.25 | EL2: -11.7 | EM2: -12.15 | EN2: -12.6 | EO2: -13.05 | EP2: -13.5 | EQ2: -13.95 | ER2: -14.4 | ES2: -14.85 | ET2: -15.3 | EU2: -15.75 | EV2: -16.2 | EW2: -16.65 | EX2: -17.1 | EY2: -17.55 | EZ2: -18 | FA2: -18.45 | FB2: -18.9 | FC2: -19.35 | FD2: -19.8 | FE2: -20.25 | FF2: -20.7 | FG2: -21.15 | FH2: -21.6 | FI2: -22.05 | FJ2: -22.5 | FK2: -22.95 | FL2: -23.4 | FM2: -23.85 | FN2: -24.3 | FO2: -24.75 | FP2: -25.2 | FQ2: -25.65 | FR2: -26.1 | FS2: -26.55 | FT2: -27 | FU2: -27.45 | FV2: -27.9 | FW2: -28.35 | FX2: -28.75 | FY2: -29.15 | FZ2: 3.2 | GA2: 0.4 | GB2: 0 | GC2: -0.45 | GD2: -0.9 | GE2: -1.35 | GF2: -1.8 | GG2: -2.25 | GH2: -2.7 | GI2: -3.15 | GJ2: -3.6 | GK2: -4.05 | GL2: -4.5 | GM2: -4.95 | GN2: -5.4 | GO2: -5.85 | GP2: -6.3 | GQ2: -6.75 | GR2: -7.2 | GS2: -7.65 | GT2: -8.1 | GU2: -8.55 | GV2: -9 | GW2: -9.45 | GX2: -9.9 | GY2: -10.35 | GZ2: -10.8 | HA2: -11.25 | HB2: -11.7 | HC2: -12.15 | HD2: -12.6 | HE2: -13.05 | HF2: -13.5 | HG2: -13.95 | HH2: -14.4 | HI2: -14.85 | HJ2: -15.3 | HK2: -15.75 | HL2: -16.2 | HM2: -16.65 | HN2: -17.1 | HO2: -17.55 | HP2: -18 | HQ2: -18.45 | HR2: -18.9 | HS2: -19.35 | HT2: -19.8 | HU2: -20.25 | HV2: -20.7 | HW2: -21.15 | HX2: -21.6 | HY2: -22.05 | HZ2: -22.5 | IA2: -22.95 | IB2: -23.4 | IC2: -23.85 | ID2: -24.3 | IE2: -24.75 | IF2: -25.2 | IG2: -25.65 | IH2: -26.1 | II2: -26.55 | IJ2: -27 | IK2: -27.45 | IL2: -27.9 | IM2: -28.35 | IN2: -28.75 | IO2: -29.15 | IP2: 0.4:0.0 | IQ2: 0.0:-0.45 | IR2: -0.45:-0.9 | IS2: -0.9:-1.35 | IT2: -1.35:-1.8 | IU2: -1.8:-2.25 | IV2: -2.25:-2.7 | IW2: -2.7:-3.15 | IX2: -3.15:-3.6 | IY2: -3.6:-4.05 | IZ2: -4.05:-4.5 | JA2: -4.5:-4.95 | JB2: -4.95:-5.4 | JC2: -5.4:-5.85 | JD2: -5.85:-6.3 | JE2: -6.3:-6.75 | JF2: -6.75:-7.2 | JG2: -7.2:-7.65 | JH2: -7.65:-8.1 | JI2: -8.1:-8.55 | JJ2: -8.55:-9 | JK2: -9:-9.45 | JL2: -9.45:--9.9 | JM2: -9.9:-10.35 | JN2: -10.35:-10.8 | JO2: -10.8:-11.25 | JP2: -11.25:-11.7 | JQ2: -11.7:-12.15 | JR2: -12.15:-12.6 | JS2: -12.6:-13.05 | JT2: -13.05:-13.5 | JU2: -13.5:-13.95 | JV2: -13.95:-14.4 | JW2: -14.4:-14.85 | JX2: -14.85:-15.3 | JY2: -15.3:-15.75 | JZ2: -15.75:-16.2 | KA2: -16.2:-16.65 | KB2: -16.65:-17.1 | KC2: -17.1:-17.55 | KD2: -17.55:-18 | KE2: -18:-18.45 | KF2: -18.45:-18.9 | KG2: -18.9:-19.35 | KH2: -19.35:-19.8 | KI2: -19.8:-20.25 | KJ2: -20.25:-20.7 | KK2: -20.7:-21.15 | KL2: -21.15:-21.6 | KM2: -21.6:-22.05 | KN2: -22.05:-22.5 | KO2: -22.5:-22.95 | KP2: -22.95:--23.4 | KQ2: -23.4:-23.85 | KR2: -23.85:-24.3 | KS2: -24.3:-24.75 | KT2: -24.75:-25.2 | KU2: -25.2:-25.65 | KV2: -25.65:-26.1 | KW2: -26.1:-26.55 | KX2: -26.55:-27 | KY2: -27:-27.45 | KZ2: -27.45:-27.9 | LA2: -27.9:-28.35 | LB2: -28.35:-28.75 | LC2: 0.4:0.0 | LD2: 0.0:-0.45 | LE2: -0.45:-0.9 | LF2: -0.9:-1.35 | LG2: -1.35:-1.8 | LH2: -1.8:-2.25 | LI2: -2.25:-2.7 | LJ2: -2.7:-3.15 | LK2: -3.15:-3.6 | LL2: -3.6:-4.05 | LM2: -4.05:-4.5 | LN2: -4.5:-4.95 | LO2: -4.95:-5.4 | LP2: -5.4:-5.85 | LQ2: -5.85:-6.3 | LR2: -6.3:-6.75 | LS2: -6.75:-7.2 | LT2: -7.2:-7.65 | LU2: -7.65:-8.1 | LV2: -8.1:-8.55 | LW2: -8.55:-9 | LX2: -9:-9.45 | LY2: -9.45:--9.9 | LZ2: -9.9:-10.35 | MA2: -10.35:-10.8 | MB2: -10.8:-11.25 | MC2: -11.25:-11.7 | MD2: -11.7:-12.15 | ME2: -12.15:-12.6 | MF2: -12.6:-13.05 | MG2: -13.05:-13.5 | MH2: -13.5:-13.95 | MI2: -13.95:-14.4 | MJ2: -14.4:-14.85 | MK2: -14.85:-15.3 | ML2: -15.3:-15.75 | MM2: -15.75:-16.2 | MN2: -16.2:-16.65 | MO2: -16.65:-17.1 | MP2: -17.1:-17.55 | MQ2: -17.55:-18 | MR2: -18:-18.45 | MS2: -18.45:-18.9 | MT2: -18.9:-19.35 | MU2: -19.35:-19.8 | MV2: -19.8:-20.25 | MW2: -20.25:-20.7 | MX2: -20.7:-21.15 | MY2: -21.15:-21.6 | MZ2: -21.6:-22.05 | NA2: -22.05:-22.5 | NB2: -22.5:-22.95 | NC2: -22.95:--23.4 | ND2: -23.4:-23.85 | NE2: -23.85:-24.3 | NF2: -24.3:-24.75 | NG2: -24.75:-25.2 | NH2: -25.2:-25.65 | NI2: -25.65:-26.1 | NJ2: -26.1:-26.55 | NK2: -26.55:-27 | NL2: -27:-27.45 | NM2: -27.45:-27.9 | NN2: -27.9:-28.35 | NO2: -28.35:-28.75 | NP2: 0.4:0.0 | NQ2: 0.0:-0.45 | NR2: -0.45:-0.9 | NS2: -0.9:-1.35 | NT2: -1.35:-1.8 | NU2: -1.8:-2.25 | NV2: -2.25:-2.7 | NW2: -2.7:-3.15 | NX2: -3.15:-3.6 | NY2: -3.6:-4.05 | NZ2: -4.05:-4.5 | OA2: -4.5:-4.95 | OB2: -4.95:-5.4 | OC2: -5.4:-5.85 | OD2: -5.85:-6.3 | OE2: -6.3:-6.75 | OF2: -6.75:-7.2 | OG2: -7.2:-7.65 | OH2: -7.65:-8.1 | OI2: -8.1:-8.55 | OJ2: -8.55:-9 | OK2: -9:-9.45 | OL2: -9.45:--9.9 | OM2: -9.9:-10.35 | ON2: -10.35:-10.8 | OO2: -10.8:-11.25 | OP2: -11.25:-11.7 | OQ2: -11.7:-12.15 | OR2: -12.15:-12.6 | OS2: -12.6:-13.05 | OT2: -13.05:-13.5 | OU2: -13.5:-13.95 | OV2: -13.95:-14.4 | OW2: -14.4:-14.85 | OX2: -14.85:-15.3 | OY2: -15.3:-15.75 | OZ2: -15.75:-16.2 | PA2: -16.2:-16.65 | PB2: -16.65:-17.1 | PC2: -17.1:-17.55 | PD2: -17.55:-18 | PE2: -18:-18.45 | PF2: -18.45:-18.9 | PG2: -18.9:-19.35 | PH2: -19.35:-19.8 | PI2: -19.8:-20.25 | PJ2: -20.25:-20.7 | PK2: -20.7:-21.15 | PL2: -21.15:-21.6 | PM2: -21.6:-22.05 | PN2: -22.05:-22.5 | PO2: -22.5:-22.95 | PP2: -22.95:--23.4 | PQ2: -23.4:-23.85 | PR2: -23.85:-24.3 | PS2: -24.3:-24.75 | PT2: -24.75:-25.2 | PU2: -25.2:-25.65 | PV2: -25.65:-26.1 | PW2: -26.1:-26.55 | PX2: -26.55:-27 | PY2: -27:-27.45 | PZ2: -27.45:-27.9 | QA2: -27.9:-28.35 | QB2: -28.35:-28.75 | QC2: 3.2 | QD2: 0.4 | QE2: 0 | QF2: -0.45 | QG2: -0.9 | QH2: -1.35 | QI2: -1.8 | QJ2: -2.25 | QK2: -2.7 | QL2: -3.15 | QM2: -3.6 | QN2: -4.05 | QO2: -4.5 | QP2: -4.95 | QQ2: -5.4 | QR2: -5.85 | QS2: -6.3 | QT2: -6.75 | QU2: -7.2 | QV2: -7.65 | QW2: -8.1 | QX2: -8.55 | QY2: -9 | QZ2: -9.45 | RA2: -9.9 | RB2: -10.35 | RC2: -10.8 | RD2: -11.25 | RE2: -11.7 | RF2: -12.15 | RG2: -12.6 | RH2: -13.05 | RI2: -13.5 | RJ2: -13.95 | RK2: -14.4 | RL2: -14.85 | RM2: -15.3 | RN2: -15.75 | RO2: -16.2 | RP2: -16.65 | RQ2: -17.1 | RR2: -17.55 | RS2: -18 | RT2: -18.45 | RU2: -18.9 | RV2: -19.35 | RW2: -19.8 | RX2: -20.25 | RY2: -20.7 | RZ2: -21.15 | SA2: -21.6 | SB2: -22.05 | SC2: -22.5 | SD2: -22.95 | SE2: -23.4 | SF2: -23.85 | SG2: -24.3 | SH2: -24.75 | SI2: -25.2 | SJ2: -25.65 | SK2: -26.1 | SL2: -26.55 | SM2: -27 | SN2: -27.45 | SO2: -27.9 | SP2: -28.35 | SQ2: -28.75 | SR2: -29.15 | SS2: 0.4:0.0 | ST2: 0.0:-0.45 | SU2: -0.45:-0.9 | SV2: -0.9:-1.35 | SW2: -1.35:-1.8 | SX2: -1.8:-2.25 | SY2: -2.25:-2.7 | SZ2: -2.7:-3.15 | TA2: -3.15:-3.6 | TB2: -3.6:-4.05 | TC2: -4.05:-4.5 | TD2: -4.5:-4.95 | TE2: -4.95:-5.4 | TF2: -5.4:-5.85 | TG2: -5.85:-6.3 | TH2: -6.3:-6.75 | TI2: -6.75:-7.2 | TJ2: -7.2:-7.65 | TK2: -7.65:-8.1 | TL2: -8.1:-8.55 | TM2: -8.55:-9 | TN2: -9:-9.45 | TO2: -9.45:--9.9 | TP2: -9.9:-10.35 | TQ2: -10.35:-10.8 | TR2: -10.8:-11.25 | TS2: -11.25:-11.7 | TT2: -11.7:-12.15 | TU2: -12.15:-12.6 | TV2: -12.6:-13.05 | TW2: -13.05:-13.5 | TX2: -13.5:-13.95 | TY2: -13.95:-14.4 | TZ2: -14.4:-14.85 | UA2: -14.85:-15.3 | UB2: -15.3:-15.75 | UC2: -15.75:-16.2 | UD2: -16.2:-16.65 | UE2: -16.65:-17.1 | UF2: -17.1:-17.55 | UG2: -17.55:-18 | UH2: -18:-18.45 | UI2: -18.45:-18.9 | UJ2: -18.9:-19.35 | UK2: -19.35:-19.8 | UL2: -19.8:-20.25 | UM2: -20.25:-20.7 | UN2: -20.7:-21.15 | UO2: -21.15:-21.6 | UP2: -21.6:-22.05 | UQ2: -22.05:-22.5 | UR2: -22.5:-22.95 | US2: -22.95:--23.4 | UT2: -23.4:-23.85 | UU2: -23.85:-24.3 | UV2: -24.3:-24.75 | UW2: -24.75:-25.2 | UX2: -25.2:-25.65 | UY2: -25.65:-26.1 | UZ2: -26.1:-26.55 | VA2: -26.55:-27 | VB2: -27:-27.45 | VC2: -27.45:-27.9 | VD2: -27.9:-28.35 | VE2: -28.35:-28.75 | VF2: 3.2 | VG2: 0.4 | VH2: 0 | VI2: -0.45 | VJ2: -0.9 | VK2: -1.35 | VL2: -1.8 | VM2: -2.25 | VN2: -2.7 | VO2: -3.15 | VP2: -3.6 | VQ2: -4.05 | VR2: -4.5 | VS2: -4.95 | VT2: -5.4 | VU2: -5.85 | VV2: -6.3 | VW2: -6.75 | VX2: -7.2 | VY2: -7.65 | VZ2: -8.1 | WA2: -8.55 | WB2: -9 | WC2: -9.45 | WD2: -9.9 | WE2: -10.35 | WF2: -10.8 | WG2: -11.25 | WH2: -11.7 | WI2: -12.15 | WJ2: -12.6 | WK2: -13.05 | WL2: -13.5 | WM2: -13.95 | WN2: -14.4 | WO2: -14.85 | WP2: -15.3 | WQ2: -15.75 | WR2: -16.2 | WS2: -16.65 | WT2: -17.1 | WU2: -17.55 | WV2: -18 | WW2: -18.45 | WX2: -18.9 | WY2: -19.35 | WZ2: -19.8 | XA2: -20.25 | XB2: -20.7 | XC2: -21.15 | XD2: -21.6 | XE2: -22.05 | XF2: -22.5 | XG2: -22.95 | XH2: -23.4 | XI2: -23.85 | XJ2: -24.3 | XK2: -24.75 | XL2: -25.2 | XM2: -25.65 | XN2: -26.1 | XO2: -26.55 | XP2: -27 | XQ2: -27.45 | XR2: -27.9 | XS2: -28.35 | XT2: -28.75 | XU2: -29.15 | XV2: 0.799 | XW2: 0.1 | XX2: 0.0 | XY2: -0.1 | XZ2: -0.2 | YA2: -0.3 | YB2: -0.4 | YC2: -0.5 | YD2: -0.6 | YE2: -0.7 | YF2: -0.8 | YG2: -0.9 | YH2: -1.0 | YI2: -1.1 | YJ2: -1.2 | YK2: -1.3 | YL2: -1.4 | YM2: -1.5 | YN2: -1.6 | YO2: -1.7 | YP2: -1.8 | YQ2: -1.9 | YR2: -2.0 | YS2: -2.1 | YT2: -2.2 | YU2: -2.3 | YV2: -2.4 | YW2: -2.5 | YX2: -2.6 | YY2: -2.7 | YZ2: -2.8 | ZA2: -2.9 | ZB2: -3.0 | ZC2: -3.1 | ZD2: -3.2 | ZE2: -3.3 | ZF2: -3.4 | ZG2: -3.5 | ZH2: -3.6 | ZI2: -3.7 | ZJ2: -3.8 | ZK2: -3.9 | ZL2: -4.0 | AAI2: 3.2 | AAJ2: 0.4 | AAK2: 0 | AAL2: -0.45 | AAM2: -0.9 | AAN2: -1.35 | AAO2: -1.8 | AAP2: -2.25 | AAQ2: -2.7 | AAR2: -3.15 | AAS2: -3.6 | AAT2: -4.05 | AAU2: -4.5 | AAV2: -4.95 | AAW2: -5.4 | AAX2: -5.85 | AAY2: -6.3 | AAZ2: -6.75 | ABA2: -7.2 | ABB2: -7.65 | ABC2: -8.1 | ABD2: -8.55 | ABE2: -9 | ABF2: -9.45 | ABG2: -9.9 | ABH2: -10.35 | ABI2: -10.8 | ABJ2: -11.25 | ABK2: -11.7 | ABL2: -12.15 | ABM2: -12.6 | ABN2: -13.05 | ABO2: -13.5 | ABP2: -13.95 | ABQ2: -14.4 | ABR2: -14.85 | ABS2: -15.3 | ABT2: -15.75 | ABU2: -16.2 | ABV2: -16.65 | ABW2: -17.1 | ABX2: -17.55 | ABY2: -18 | ABZ2: -18.45 | ACA2: -18.9 | ACB2: -19.35 | ACC2: -19.8 | ACD2: -20.25 | ACE2: -20.7 | ACF2: -21.15 | ACG2: -21.6 | ACH2: -22.05 | ACI2: -22.5 | ACJ2: -22.95 | ACK2: -23.4 | ACL2: -23.85 | ACM2: -24.3 | ACN2: -24.75 | ACO2: -25.2 | ACP2: -25.65 | ACQ2: -26.1 | ACR2: -26.55 | ACS2: -27 | ACT2: -27.45 | ACU2: -27.9 | ACV2: -28.35 | ACW2: -28.75 | ACX2: -29.15 | ACY2: 3.2 | ACZ2: 0.4 | ADA2: 0 | ADB2: -0.45 | ADC2: -0.9 | ADD2: -1.35 | ADE2: -1.8 | ADF2: -2.25 | ADG2: -2.7 | ADH2: -3.15 | ADI2: -3.6 | ADJ2: -4.05 | ADK2: -4.5 | ADL2: -4.95 | ADM2: -5.4 | ADN2: -5.85 | ADO2: -6.3 | ADP2: -6.75 | ADQ2: -7.2 | ADR2: -7.65 | ADS2: -8.1 | ADT2: -8.55 | ADU2: -9 | ADV2: -9.45 | ADW2: -9.9 | ADX2: -10.35 | ADY2: -10.8 | ADZ2: -11.25 | AEA2: -11.7 | AEB2: -12.15 | AEC2: -12.6 | AED2: -13.05 | AEE2: -13.5 | AEF2: -13.95 | AEG2: -14.4 | AEH2: -14.85 | AEI2: -15.3 | AEJ2: -15.75 | AEK2: -16.2 | AEL2: -16.65 | AEM2: -17.1 | AEN2: -17.55 | AEO2: -18 | AEP2: -18.45 | AEQ2: -18.9 | AER2: -19.35 | AES2: -19.8 | AET2: -20.25 | AEU2: -20.7 | AEV2: -21.15 | AEW2: -21.6 | AEX2: -22.05 | AEY2: -22.5 | AEZ2: -22.95 | AFA2: -23.4 | AFB2: -23.85 | AFC2: -24.3 | AFD2: -24.75 | AFE2: -25.2 | AFF2: -25.65 | AFG2: -26.1 | AFH2: -26.55 | AFI2: -27 | AFJ2: -27.45 | AFK2: -27.9 | AFL2: -28.35 | AFM2: -28.75 | AFN2: -29.15 | AFO2: 3.2 | AFP2: 0.4 | AFQ2: 0 | AFR2: -0.45 | AFS2: -0.9 | AFT2: -1.35 | AFU2: -1.8 | AFV2: -2.25 | AFW2: -2.7 | AFX2: -3.15 | AFY2: -3.6 | AFZ2: -4.05 | AGA2: -4.5 | AGB2: -4.95 | AGC2: -5.4 | AGD2: -5.85 | AGE2: -6.3 | AGF2: -6.75 | AGG2: -7.2 | AGH2: -7.65 | AGI2: -8.1 | AGJ2: -8.55 | AGK2: -9 | AGL2: -9.45 | AGM2: -9.9 | AGN2: -10.35 | AGO2: -10.8 | AGP2: -11.25 | AGQ2: -11.7 | AGR2: -12.15 | AGS2: -12.6 | AGT2: -13.05 | AGU2: -13.5 | AGV2: -13.95 | AGW2: -14.4 | AGX2: -14.85 | AGY2: -15.3 | AGZ2: -15.75 | AHA2: -16.2 | AHB2: -16.65 | AHC2: -17.1 | AHD2: -17.55 | AHE2: -18 | AHF2: -18.45 | AHG2: -18.9 | AHH2: -19.35 | AHI2: -19.8 | AHJ2: -20.25 | AHK2: -20.7 | AHL2: -21.15 | AHM2: -21.6 | AHN2: -22.05 | AHO2: -22.5 | AHP2: -22.95 | AHQ2: -23.4 | AHR2: -23.85 | AHS2: -24.3 | AHT2: -24.75 | AHU2: -25.2 | AHV2: -25.65 | AHW2: -26.1 | AHX2: -26.55 | AHY2: -27 | AHZ2: -27.45 | AIA2: -27.9 | AIB2: -28.35 | AIC2: -28.75 | AID2: -29.15 | AIE2: 3.2:0.4 | AIF2: 0.4:0.0 | AIG2: 0.0:-0.45 | AIH2: -0.45:-0.9 | AII2: -0.9:-1.35 | AIJ2: -1.35:-1.8 | AIK2: -1.8:-2.25 | AIL2: -2.25:-2.7 | AIM2: -2.7:-3.15 | AIN2: -3.15:-3.6 | AIO2: -3.6:-4.05 | AIP2: -4.05:-4.5 | AIQ2: -4.5:-4.95 | AIR2: -4.95:-5.4 | AIS2: -5.4:-5.85 | AIT2: -5.85:-6.3 | AIU2: -6.3:-6.75 | AIV2: -6.75:-7.2 | AIW2: -7.2:-7.65 | AIX2: -7.65:-8.1 | AIY2: -8.1:-8.55 | AIZ2: -8.55:-9 | AJA2: -9:-9.45 | AJB2: -9.45:--9.9 | AJC2: -9.9:-10.35 | AJD2: -10.35:-10.8 | AJE2: -10.8:-11.25 | AJF2: -11.25:-11.7 | AJG2: -11.7:-12.15 | AJH2: -12.15:-12.6 | AJI2: -12.6:-13.05 | AJJ2: -13.05:-13.5 | AJK2: -13.5:-13.95 | AJL2: -13.95:-14.4 | AJM2: -14.4:-14.85 | AJN2: -14.85:-15.3 | AJO2: -15.3:-15.75 | AJP2: -15.75:-16.2 | AJQ2: -16.2:-16.65 | AJR2: -16.65:-17.1 | AJS2: -17.1:-17.55 | AJT2: -17.55:-18 | AJU2: -18:-18.45 | AJV2: -18.45:-18.9 | AJW2: -18.9:-19.35 | AJX2: -19.35:-19.8 | AJY2: -19.8:-20.25 | AJZ2: -20.25:-20.7 | AKA2: -20.7:-21.15 | AKB2: -21.15:-21.6 | AKC2: -21.6:-22.05 | AKD2: -22.05:-22.5 | AKE2: -22.5:-22.95 | AKF2: -22.95:--23.4 | AKG2: -23.4:-23.85 | AKH2: -23.85:-24.3 | AKI2: -24.3:-24.75 | AKJ2: -24.75:-25.2 | AKK2: -25.2:-25.65 | AKL2: -25.65:-26.1 | AKM2: -26.1:-26.55 | AKN2: -26.55:-27 | AKO2: -27:-27.45 | AKP2: -27.45:-27.9 | AKQ2: -27.9:-28.35 | AKR2: -28.35:-28.75 | AKS2: RESULTADOS CALCULADOS | AKT2: 3.2:0.4 | AKU2: 0.4:0.0 | AKV2: 0.0:-0.45 | AKW2: -0.45:-0.9 | AKX2: -0.9:-1.35 | AKY2: -1.35:-1.8 | AKZ2: -1.8:-2.25 | ALA2: -2.25:-2.7 | ALB2: -2.7:-3.15 | ALC2: -3.15:-3.6 | ALD2: -3.6:-4.05 | ALE2: -4.05:-4.5 | ALF2: -4.5:-4.95 | ALG2: -4.95:-5.4 | ALH2: -5.4:-5.85 | ALI2: -5.85:-6.3 | ALJ2: -6.3:-6.75 | ALK2: -6.75:-7.2 | ALL2: -7.2:-7.65 | ALM2: -7.65:-8.1 | ALN2: -8.1:-8.55 | ALO2: -8.55:-9 | ALP2: -9:-9.45 | ALQ2: -9.45:--9.9 | ALR2: -9.9:-10.35 | ALS2: -10.35:-10.8 | ALT2: -10.8:-11.25 | ALU2: -11.25:-11.7 | ALV2: -11.7:-12.15 | ALW2: -12.15:-12.6 | ALX2: -12.6:-13.05 | ALY2: -13.05:-13.5 | ALZ2: -13.5:-13.95 | AMA2: -13.95:-14.4 | AMB2: -14.4:-14.85 | AMC2: -14.85:-15.3 | AMD2: -15.3:-15.75 | AME2: -15.75:-16.2 | AMF2: -16.2:-16.65 | AMG2: -16.65:-17.1 | AMH2: -17.1:-17.55 | AMI2: -17.55:-18 | AMJ2: -18:-18.45 | AMK2: -18.45:-18.9 | AML2: -18.9:-19.35 | AMM2: -19.35:-19.8 | AMN2: -19.8:-20.25 | AMO2: -20.25:-20.7 | AMP2: -20.7:-21.15 | AMQ2: -21.15:-21.6 | AMR2: -21.6:-22.05 | AMS2: -22.05:-22.5 | AMT2: -22.5:-22.95 | AMU2: -22.95:--23.4 | AMV2: -23.4:-23.85 | AMW2: -23.85:-24.3 | AMX2: -24.3:-24.75 | AMY2: -24.75:-25.2 | AMZ2: -25.2:-25.65 | ANA2: -25.65:-26.1 | ANB2: -26.1:-26.55 | ANC2: -26.55:-27 | AND2: -27:-27.45 | ANE2: -27.45:-27.9 | ANF2: -27.9:-28.35 | ANG2: -28.35:-28.75 | ANH2: 0.4:0.0 | ANI2: 0.0:-0.45 | ANJ2: -0.45:-0.9 | ANK2: -0.9:-1.35 | ANL2: -1.35:-1.8 | ANM2: -1.8:-2.25 | ANN2: -2.25:-2.7 | ANO2: -2.7:-3.15 | ANP2: -3.15:-3.6 | ANQ2: -3.6:-4.05 | ANR2: -4.05:-4.5 | ANS2: -4.5:-4.95 | ANT2: -4.95:-5.4 | ANU2: -5.4:-5.85 | ANV2: -5.85:-6.3 | ANW2: -6.3:-6.75 | ANX2: -6.75:-7.2 | ANY2: -7.2:-7.65 | ANZ2: -7.65:-8.1 | AOA2: -8.1:-8.55 | AOB2: -8.55:-9 | AOC2: -9:-9.45 | AOD2: -9.45:--9.9 | AOE2: -9.9:-10.35 | AOF2: -10.35:-10.8 | AOG2: -10.8:-11.25 | AOH2: -11.25:-11.7 | AOI2: -11.7:-12.15 | AOJ2: -12.15:-12.6 | AOK2: -12.6:-13.05 | AOL2: -13.05:-13.5 | AOM2: -13.5:-13.95 | AON2: -13.95:-14.4 | AOO2: -14.4:-14.85 | AOP2: -14.85:-15.3 | AOQ2: -15.3:-15.75 | AOR2: -15.75:-16.2 | AOS2: -16.2:-16.65 | AOT2: -16.65:-17.1 | AOU2: -17.1:-17.55 | AOV2: -17.55:-18 | AOW2: -18:-18.45 | AOX2: -18.45:-18.9 | AOY2: -18.9:-19.35 | AOZ2: -19.35:-19.8 | APA2: -19.8:-20.25 | APB2: -20.25:-20.7 | APC2: -20.7:-21.15 | APD2: -21.15:-21.6 | APE2: -21.6:-22.05 | APF2: -22.05:-22.5 | APG2: -22.5:-22.95 | APH2: -22.95:--23.4 | API2: -23.4:-23.85 | APJ2: -23.85:-24.3 | APK2: -24.3:-24.75 | APL2: -24.75:-25.2 | APM2: -25.2:-25.65 | APN2: -25.65:-26.1 | APO2: -26.1:-26.55 | APP2: -26.55:-27 | APQ2: -27:-27.45 | APR2: -27.45:-27.9 | APS2: -27.9:-28.35 | APT2: -28.35:-28.75 | APU2: 0.4:0.0 | APV2: 0.0:-0.45 | APW2: -0.45:-0.9 | APX2: -0.9:-1.35 | APY2: -1.35:-1.8 | APZ2: -1.8:-2.25 | AQA2: -2.25:-2.7 | AQB2: -2.7:-3.15 | AQC2: -3.15:-3.6 | AQD2: -3.6:-4.05 | AQE2: -4.05:-4.5 | AQF2: -4.5:-4.95 | AQG2: -4.95:-5.4 | AQH2: -5.4:-5.85 | AQI2: -5.85:-6.3 | AQJ2: -6.3:-6.75 | AQK2: -6.75:-7.2 | AQL2: -7.2:-7.65 | AQM2: -7.65:-8.1 | AQN2: -8.1:-8.55 | AQO2: -8.55:-9 | AQP2: -9:-9.45 | AQQ2: -9.45:--9.9 | AQR2: -9.9:-10.35 | AQS2: -10.35:-10.8 | AQT2: -10.8:-11.25 | AQU2: -11.25:-11.7 | AQV2: -11.7:-12.15 | AQW2: -12.15:-12.6 | AQX2: -12.6:-13.05 | AQY2: -13.05:-13.5 | AQZ2: -13.5:-13.95 | ARA2: -13.95:-14.4 | ARB2: -14.4:-14.85 | ARC2: -14.85:-15.3 | ARD2: -15.3:-15.75 | ARE2: -15.75:-16.2 | ARF2: -16.2:-16.65 | ARG2: -16.65:-17.1 | ARH2: -17.1:-17.55 | ARI2: -17.55:-18 | ARJ2: -18:-18.45 | ARK2: -18.45:-18.9 | ARL2: -18.9:-19.35 | ARM2: -19.35:-19.8 | ARN2: -19.8:-20.25 | ARO2: -20.25:-20.7 | ARP2: -20.7:-21.15 | ARQ2: -21.15:-21.6 | ARR2: -21.6:-22.05 | ARS2: -22.05:-22.5 | ART2: -22.5:-22.95 | ARU2: -22.95:--23.4 | ARV2: -23.4:-23.85 | ARW2: -23.85:-24.3 | ARX2: -24.3:-24.75 | ARY2: -24.75:-25.2 | ARZ2: -25.2:-25.65 | ASA2: -25.65:-26.1 | ASB2: -26.1:-26.55 | ASC2: -26.55:-27 | ASD2: -27:-27.45 | ASE2: -27.45:-27.9 | ASF2: -27.9:-28.35 | ASG2: -28.35:-28.75 | ASH2: 0.4:0.0 | ASI2: 0.0:-0.45 | ASJ2: -0.45:-0.9 | ASK2: -0.9:-1.35 | ASL2: -1.35:-1.8 | ASM2: -1.8:-2.25 | ASN2: -2.25:-2.7 | ASO2: -2.7:-3.15 | ASP2: -3.15:-3.6 | ASQ2: -3.6:-4.05 | ASR2: -4.05:-4.5 | ASS2: -4.5:-4.95 | AST2: -4.95:-5.4 | ASU2: -5.4:-5.85 | ASV2: -5.85:-6.3 | ASW2: -6.3:-6.75 | ASX2: -6.75:-7.2 | ASY2: -7.2:-7.65 | ASZ2: -7.65:-8.1 | ATA2: -8.1:-8.55 | ATB2: -8.55:-9 | ATC2: -9:-9.45 | ATD2: -9.45:--9.9 | ATE2: -9.9:-10.35 | ATF2: -10.35:-10.8 | ATG2: -10.8:-11.25 | ATH2: -11.25:-11.7 | ATI2: -11.7:-12.15 | ATJ2: -12.15:-12.6 | ATK2: -12.6:-13.05 | ATL2: -13.05:-13.5 | ATM2: -13.5:-13.95 | ATN2: -13.95:-14.4 | ATO2: -14.4:-14.85 | ATP2: -14.85:-15.3 | ATQ2: -15.3:-15.75 | ATR2: -15.75:-16.2 | ATS2: -16.2:-16.65 | ATT2: -16.65:-17.1 | ATU2: -17.1:-17.55 | ATV2: -17.55:-18 | ATW2: -18:-18.45 | ATX2: -18.45:-18.9 | ATY2: -18.9:-19.35 | ATZ2: -19.35:-19.8 | AUA2: -19.8:-20.25 | AUB2: -20.25:-20.7 | AUC2: -20.7:-21.15 | AUD2: -21.15:-21.6 | AUE2: -21.6:-22.05 | AUF2: -22.05:-22.5 | AUG2: -22.5:-22.95 | AUH2: -22.95:--23.4 | AUI2: -23.4:-23.85 | AUJ2: -23.85:-24.3 | AUK2: -24.3:-24.75 | AUL2: -24.75:-25.2 | AUM2: -25.2:-25.65 | AUN2: -25.65:-26.1 | AUO2: -26.1:-26.55 | AUP2: -26.55:-27 | AUQ2: -27:-27.45 | AUR2: -27.45:-27.9 | AUS2: -27.9:-28.35 | AUT2: -28.35:-28.75 | AUU2: 3.2 | AUV2: 0.4 | AUW2: 0 | AUX2: -0.45 | AUY2: -0.9 | AUZ2: -1.35 | AVA2: -1.8 | AVB2: -2.25 | AVC2: -2.7 | AVD2: -3.15 | AVE2: -3.6 | AVF2: -4.05 | AVG2: -4.5 | AVH2: -4.95 | AVI2: -5.4 | AVJ2: -5.85 | AVK2: -6.3 | AVL2: -6.75 | AVM2: -7.2 | AVN2: -7.65 | AVO2: -8.1 | AVP2: -8.55 | AVQ2: -9 | AVR2: -9.45 | AVS2: -9.9 | AVT2: -10.35 | AVU2: -10.8 | AVV2: -11.25 | AVW2: -11.7 | AVX2: -12.15 | AVY2: -12.6 | AVZ2: -13.05 | AWA2: -13.5 | AWB2: -13.95 | AWC2: -14.4 | AWD2: -14.85 | AWE2: -15.3 | AWF2: -15.75 | AWG2: -16.2 | AWH2: -16.65 | AWI2: -17.1 | AWJ2: -17.55 | AWK2: -18 | AWL2: -18.45 | AWM2: -18.9 | AWN2: -19.35 | AWO2: -19.8 | AWP2: -20.25 | AWQ2: -20.7 | AWR2: -21.15 | AWS2: -21.6 | AWT2: -22.05 | AWU2: -22.5 | AWV2: -22.95 | AWW2: -23.4 | AWX2: -23.85 | AWY2: -24.3 | AWZ2: -24.75 | AXA2: -25.2 | AXB2: -25.65 | AXC2: -26.1 | AXD2: -26.55 | AXE2: -27 | AXF2: -27.45 | AXG2: -27.9 | AXH2: -28.35 | AXI2: -28.75 | AXJ2: -29.15 | AXK2: 0.4:0.0 | AXL2: 0.0:-0.45 | AXM2: -0.45:-0.9 | AXN2: -0.9:-1.35 | AXO2: -1.35:-1.8 | AXP2: -1.8:-2.25 | AXQ2: -2.25:-2.7 | AXR2: -2.7:-3.15 | AXS2: -3.15:-3.6 | AXT2: -3.6:-4.05 | AXU2: -4.05:-4.5 | AXV2: -4.5:-4.95 | AXW2: -4.95:-5.4 | AXX2: -5.4:-5.85 | AXY2: -5.85:-6.3 | AXZ2: -6.3:-6.75 | AYA2: -6.75:-7.2 | AYB2: -7.2:-7.65 | AYC2: -7.65:-8.1 | AYD2: -8.1:-8.55 | AYE2: -8.55:-9 | AYF2: -9:-9.45 | AYG2: -9.45:--9.9 | AYH2: -9.9:-10.35 | AYI2: -10.35:-10.8 | AYJ2: -10.8:-11.25 | AYK2: -11.25:-11.7 | AYL2: -11.7:-12.15 | AYM2: -12.15:-12.6 | AYN2: -12.6:-13.05 | AYO2: -13.05:-13.5 | AYP2: -13.5:-13.95 | AYQ2: -13.95:-14.4 | AYR2: -14.4:-14.85 | AYS2: -14.85:-15.3 | AYT2: -15.3:-15.75 | AYU2: -15.75:-16.2 | AYV2: -16.2:-16.65 | AYW2: -16.65:-17.1 | AYX2: -17.1:-17.55 | AYY2: -17.55:-18 | AYZ2: -18:-18.45 | AZA2: -18.45:-18.9 | AZB2: -18.9:-19.35 | AZC2: -19.35:-19.8 | AZD2: -19.8:-20.25 | AZE2: -20.25:-20.7 | AZF2: -20.7:-21.15 | AZG2: -21.15:-21.6 | AZH2: -21.6:-22.05 | AZI2: -22.05:-22.5 | AZJ2: -22.5:-22.95 | AZK2: -22.95:--23.4 | AZL2: -23.4:-23.85 | AZM2: -23.85:-24.3 | AZN2: -24.3:-24.75 | AZO2: -24.75:-25.2 | AZP2: -25.2:-25.65 | AZQ2: -25.65:-26.1 | AZR2: -26.1:-26.55 | AZS2: -26.55:-27 | AZT2: -27:-27.45 | AZU2: -27.45:-27.9 | AZV2: -27.9:-28.35 | AZW2: -28.35:-28.75 | AZX2: 0.4:0.0 | AZY2: 0.0:-0.45 | AZZ2: -0.45:-0.9 | BAA2: -0.9:-1.35 | BAB2: -1.35:-1.8 | BAC2: -1.8:-2.25 | BAD2: -2.25:-2.7 | BAE2: -2.7:-3.15 | BAF2: -3.15:-3.6 | BAG2: -3.6:-4.05 | BAH2: -4.05:-4.5 | BAI2: -4.5:-4.95 | BAJ2: -4.95:-5.4 | BAK2: -5.4:-5.85 | BAL2: -5.85:-6.3 | BAM2: -6.3:-6.75 | BAN2: -6.75:-7.2 | BAO2: -7.2:-7.65 | BAP2: -7.65:-8.1 | BAQ2: -8.1:-8.55 | BAR2: -8.55:-9 | BAS2: -9:-9.45 | BAT2: -9.45:--9.9 | BAU2: -9.9:-10.35 | BAV2: -10.35:-10.8 | BAW2: -10.8:-11.25 | BAX2: -11.25:-11.7 | BAY2: -11.7:-12.15 | BAZ2: -12.15:-12.6 | BBA2: -12.6:-13.05 | BBB2: -13.05:-13.5 | BBC2: -13.5:-13.95 | BBD2: -13.95:-14.4 | BBE2: -14.4:-14.85 | BBF2: -14.85:-15.3 | BBG2: -15.3:-15.75 | BBH2: -15.75:-16.2 | BBI2: -16.2:-16.65 | BBJ2: -16.65:-17.1 | BBK2: -17.1:-17.55 | BBL2: -17.55:-18 | BBM2: -18:-18.45 | BBN2: -18.45:-18.9 | BBO2: -18.9:-19.35 | BBP2: -19.35:-19.8 | BBQ2: -19.8:-20.25 | BBR2: -20.25:-20.7 | BBS2: -20.7:-21.15 | BBT2: -21.15:-21.6 | BBU2: -21.6:-22.05 | BBV2: -22.05:-22.5 | BBW2: -22.5:-22.95 | BBX2: -22.95:--23.4 | BBY2: -23.4:-23.85 | BBZ2: -23.85:-24.3 | BCA2: -24.3:-24.75 | BCB2: -24.75:-25.2 | BCC2: -25.2:-25.65 | BCD2: -25.65:-26.1 | BCE2: -26.1:-26.55 | BCF2: -26.55:-27 | BCG2: -27:-27.45 | BCH2: -27.45:-27.9 | BCI2: -27.9:-28.35 | BCJ2: -28.35:-28.75 | BCK2: 0.4:0.0 | BCL2: 0.0:-0.45 | BCM2: -0.45:-0.9 | BCN2: -0.9:-1.35 | BCO2: -1.35:-1.8 | BCP2: -1.8:-2.25 | BCQ2: -2.25:-2.7 | BCR2: -2.7:-3.15 | BCS2: -3.15:-3.6 | BCT2: -3.6:-4.05 | BCU2: -4.05:-4.5 | BCV2: -4.5:-4.95 | BCW2: -4.95:-5.4 | BCX2: -5.4:-5.85 | BCY2: -5.85:-6.3 | BCZ2: -6.3:-6.75 | BDA2: -6.75:-7.2 | BDB2: -7.2:-7.65 | BDC2: -7.65:-8.1 | BDD2: -8.1:-8.55 | BDE2: -8.55:-9 | BDF2: -9:-9.45 | BDG2: -9.45:--9.9 | BDH2: -9.9:-10.35 | BDI2: -10.35:-10.8 | BDJ2: -10.8:-11.25 | BDK2: -11.25:-11.7 | BDL2: -11.7:-12.15 | BDM2: -12.15:-12.6 | BDN2: -12.6:-13.05 | BDO2: -13.05:-13.5 | BDP2: -13.5:-13.95 | BDQ2: -13.95:-14.4 | BDR2: -14.4:-14.85 | BDS2: -14.85:-15.3 | BDT2: -15.3:-15.75 | BDU2: -15.75:-16.2 | BDV2: -16.2:-16.65 | BDW2: -16.65:-17.1 | BDX2: -17.1:-17.55 | BDY2: -17.55:-18 | BDZ2: -18:-18.45 | BEA2: -18.45:-18.9 | BEB2: -18.9:-19.35 | BEC2: -19.35:-19.8 | BED2: -19.8:-20.25 | BEE2: -20.25:-20.7 | BEF2: -20.7:-21.15 | BEG2: -21.15:-21.6 | BEH2: -21.6:-22.05 | BEI2: -22.05:-22.5 | BEJ2: -22.5:-22.95 | BEK2: -22.95:--23.4 | BEL2: -23.4:-23.85 | BEM2: -23.85:-24.3 | BEN2: -24.3:-24.75 | BEO2: -24.75:-25.2 | BEP2: -25.2:-25.65 | BEQ2: -25.65:-26.1 | BER2: -26.1:-26.55 | BES2: -26.55:-27 | BET2: -27:-27.45 | BEU2: -27.45:-27.9 | BEV2: -27.9:-28.35 | BEW2: -28.35:-28.75 | BEX2: 3.2 | BEY2: 0.4 | BEZ2: 0 | BFA2: -0.45 | BFB2: -0.9 | BFC2: -1.35 | BFD2: -1.8 | BFE2: -2.25 | BFF2: -2.7 | BFG2: -3.15 | BFH2: -3.6 | BFI2: -4.05 | BFJ2: -4.5 | BFK2: -4.95 | BFL2: -5.4 | BFM2: -5.85 | BFN2: -6.3 | BFO2: -6.75 | BFP2: -7.2 | BFQ2: -7.65 | BFR2: -8.1 | BFS2: -8.55 | BFT2: -9 | BFU2: -9.45 | BFV2: -9.9 | BFW2: -10.35 | BFX2: -10.8 | BFY2: -11.25 | BFZ2: -11.7 | BGA2: -12.15 | BGB2: -12.6 | BGC2: -13.05 | BGD2: -13.5 | BGE2: -13.95 | BGF2: -14.4 | BGG2: -14.85 | BGH2: -15.3 | BGI2: -15.75 | BGJ2: -16.2 | BGK2: -16.65 | BGL2: -17.1 | BGM2: -17.55 | BGN2: -18 | BGO2: -18.45 | BGP2: -18.9 | BGQ2: -19.35 | BGR2: -19.8 | BGS2: -20.25 | BGT2: -20.7 | BGU2: -21.15 | BGV2: -21.6 | BGW2: -22.05 | BGX2: -22.5 | BGY2: -22.95 | BGZ2: -23.4 | BHA2: -23.85 | BHB2: -24.3 | BHC2: -24.75 | BHD2: -25.2 | BHE2: -25.65 | BHF2: -26.1 | BHG2: -26.55 | BHH2: -27 | BHI2: -27.45 | BHJ2: -27.9 | BHK2: -28.35 | BHL2: -28.75 | BHM2: -29.15 | BHN2: 3.2 | BHO2: 0.4 | BHP2: 0 | BHQ2: -0.45 | BHR2: -0.9 | BHS2: -1.35 | BHT2: -1.8 | BHU2: -2.25 | BHV2: -2.7 | BHW2: -3.15 | BHX2: -3.6 | BHY2: -4.05 | BHZ2: -4.5 | BIA2: -4.95 | BIB2: -5.4 | BIC2: -5.85 | BID2: -6.3 | BIE2: -6.75 | BIF2: -7.2 | BIG2: -7.65 | BIH2: -8.1 | BII2: -8.55 | BIJ2: -9 | BIK2: -9.45 | BIL2: -9.9 | BIM2: -10.35 | BIN2: -10.8 | BIO2: -11.25 | BIP2: -11.7 | BIQ2: -12.15 | BIR2: -12.6 | BIS2: -13.05 | BIT2: -13.5 | BIU2: -13.95 | BIV2: -14.4 | BIW2: -14.85 | BIX2: -15.3 | BIY2: -15.75 | BIZ2: -16.2 | BJA2: -16.65 | BJB2: -17.1 | BJC2: -17.55 | BJD2: -18 | BJE2: -18.45 | BJF2: -18.9 | BJG2: -19.35 | BJH2: -19.8 | BJI2: -20.25 | BJJ2: -20.7 | BJK2: -21.15 | BJL2: -21.6 | BJM2: -22.05 | BJN2: -22.5 | BJO2: -22.95 | BJP2: -23.4 | BJQ2: -23.85 | BJR2: -24.3 | BJS2: -24.75 | BJT2: -25.2 | BJU2: -25.65 | BJV2: -26.1 | BJW2: -26.55 | BJX2: -27 | BJY2: -27.45 | BJZ2: -27.9 | BKA2: -28.35 | BKB2: -28.75 | BKC2: -29.15 | BKD2: 3.2 | BKE2: 0.4 | BKF2: 0 | BKG2: -0.45 | BKH2: -0.9 | BKI2: -1.35 | BKJ2: -1.8 | BKK2: -2.25 | BKL2: -2.7 | BKM2: -3.15 | BKN2: -3.6 | BKO2: -4.05 | BKP2: -4.5 | BKQ2: -4.95 | BKR2: -5.4 | BKS2: -5.85 | BKT2: -6.3 | BKU2: -6.75 | BKV2: -7.2 | BKW2: -7.65 | BKX2: -8.1 | BKY2: -8.55 | BKZ2: -9 | BLA2: -9.45 | BLB2: -9.9 | BLC2: -10.35 | BLD2: -10.8 | BLE2: -11.25 | BLF2: -11.7 | BLG2: -12.15 | BLH2: -12.6 | BLI2: -13.05 | BLJ2: -13.5 | BLK2: -13.95 | BLL2: -14.4 | BLM2: -14.85 | BLN2: -15.3 | BLO2: -15.75 | BLP2: -16.2 | BLQ2: -16.65 | BLR2: -17.1 | BLS2: -17.55 | BLT2: -18 | BLU2: -18.45 | BLV2: -18.9 | BLW2: -19.35 | BLX2: -19.8 | BLY2: -20.25 | BLZ2: -20.7 | BMA2: -21.15 | BMB2: -21.6 | BMC2: -22.05 | BMD2: -22.5 | BME2: -22.95 | BMF2: -23.4 | BMG2: -23.85 | BMH2: -24.3 | BMI2: -24.75 | BMJ2: -25.2 | BMK2: -25.65 | BML2: -26.1 | BMM2: -26.55 | BMN2: -27 | BMO2: -27.45 | BMP2: -27.9 | BMQ2: -28.35 | BMR2: -28.75 | BMS2: -29.15 | BMT2: 3.2 | BMU2: 0.4 | BMV2: 0 | BMW2: -0.45 | BMX2: -0.9 | BMY2: -1.35 | BMZ2: -1.8 | BNA2: -2.25 | BNB2: -2.7 | BNC2: -3.15 | BND2: -3.6 | BNE2: -4.05 | BNF2: -4.5 | BNG2: -4.95 | BNH2: -5.4 | BNI2: -5.85 | BNJ2: -6.3 | BNK2: -6.75 | BNL2: -7.2 | BNM2: -7.65 | BNN2: -8.1 | BNO2: -8.55 | BNP2: -9 | BNQ2: -9.45 | BNR2: -9.9 | BNS2: -10.35 | BNT2: -10.8 | BNU2: -11.25 | BNV2: -11.7 | BNW2: -12.15 | BNX2: -12.6 | BNY2: -13.05 | BNZ2: -13.5 | BOA2: -13.95 | BOB2: -14.4 | BOC2: -14.85 | BOD2: -15.3 | BOE2: -15.75 | BOF2: -16.2 | BOG2: -16.65 | BOH2: -17.1 | BOI2: -17.55 | BOJ2: -18 | BOK2: -18.45 | BOL2: -18.9 | BOM2: -19.35 | BON2: -19.8 | BOO2: -20.25 | BOP2: -20.7 | BOQ2: -21.15 | BOR2: -21.6 | BOS2: -22.05 | BOT2: -22.5 | BOU2: -22.95 | BOV2: -23.4 | BOW2: -23.85 | BOX2: -24.3 | BOY2: -24.75 | BOZ2: -25.2 | BPA2: -25.65 | BPB2: -26.1 | BPC2: -26.55 | BPD2: -27 | BPE2: -27.45 | BPF2: -27.9 | BPG2: -28.35 | BPH2: -28.75 | BPI2: -29.15 | BPJ2: 3.2 | BPK2: 0.4 | BPL2: 0 | BPM2: -0.45 | BPN2: -0.9 | BPO2: -1.35 | BPP2: -1.8 | BPQ2: -2.25 | BPR2: -2.7 | BPS2: -3.15 | BPT2: -3.6 | BPU2: -4.05 | BPV2: -4.5 | BPW2: -4.95 | BPX2: -5.4 | BPY2: -5.85 | BPZ2: -6.3 | BQA2: -6.75 | BQB2: -7.2 | BQC2: -7.65 | BQD2: -8.1 | BQE2: -8.55 | BQF2: -9 | BQG2: -9.45 | BQH2: -9.9 | BQI2: -10.35 | BQJ2: -10.8 | BQK2: -11.25 | BQL2: -11.7 | BQM2: -12.15 | BQN2: -12.6 | BQO2: -13.05 | BQP2: -13.5 | BQQ2: -13.95 | BQR2: -14.4 | BQS2: -14.85 | BQT2: -15.3 | BQU2: -15.75 | BQV2: -16.2 | BQW2: -16.65 | BQX2: -17.1 | BQY2: -17.55 | BQZ2: -18 | BRA2: -18.45 | BRB2: -18.9 | BRC2: -19.35 | BRD2: -19.8 | BRE2: -20.25 | BRF2: -20.7 | BRG2: -21.15 | BRH2: -21.6 | BRI2: -22.05 | BRJ2: -22.5 | BRK2: -22.95 | BRL2: -23.4 | BRM2: -23.85 | BRN2: -24.3 | BRO2: -24.75 | BRP2: -25.2 | BRQ2: -25.65 | BRR2: -26.1 | BRS2: -26.55 | BRT2: -27 | BRU2: -27.45 | BRV2: -27.9 | BRW2: -28.35 | BRX2: -28.75 | BRY2: -29.15 | BRZ2: 3.2 | BSA2: 0.4 | BSB2: 0 | BSC2: -0.45 | BSD2: -0.9 | BSE2: -1.35 | BSF2: -1.8 | BSG2: -2.25 | BSH2: -2.7 | BSI2: -3.15 | BSJ2: -3.6 | BSK2: -4.05 | BSL2: -4.5 | BSM2: -4.95 | BSN2: -5.4 | BSO2: -5.85 | BSP2: -6.3 | BSQ2: -6.75 | BSR2: -7.2 | BSS2: -7.65 | BST2: -8.1 | BSU2: -8.55 | BSV2: -9 | BSW2: -9.45 | BSX2: -9.9 | BSY2: -10.35 | BSZ2: -10.8 | BTA2: -11.25 | BTB2: -11.7 | BTC2: -12.15 | BTD2: -12.6 | BTE2: -13.05 | BTF2: -13.5 | BTG2: -13.95 | BTH2: -14.4 | BTI2: -14.85 | BTJ2: -15.3 | BTK2: -15.75 | BTL2: -16.2 | BTM2: -16.65 | BTN2: -17.1 | BTO2: -17.55 | BTP2: -18 | BTQ2: -18.45 | BTR2: -18.9 | BTS2: -19.35 | BTT2: -19.8 | BTU2: -20.25 | BTV2: -20.7 | BTW2: -21.15 | BTX2: -21.6 | BTY2: -22.05 | BTZ2: -22.5 | BUA2: -22.95 | BUB2: -23.4 | BUC2: -23.85 | BUD2: -24.3 | BUE2: -24.75 | BUF2: -25.2 | BUG2: -25.65 | BUH2: -26.1 | BUI2: -26.55 | BUJ2: -27 | BUK2: -27.45 | BUL2: -27.9 | BUM2: -28.35 | BUN2: -28.75 | BUO2: -29.15 | BUP2: 0.4:0.0 | BUQ2: 0.0:-0.45 | BUR2: -0.45:-0.9 | BUS2: -0.9:-1.35 | BUT2: -1.35:-1.8 | BUU2: -1.8:-2.25 | BUV2: -2.25:-2.7 | BUW2: -2.7:-3.15 | BUX2: -3.15:-3.6 | BUY2: -3.6:-4.05 | BUZ2: -4.05:-4.5 | BVA2: -4.5:-4.95 | BVB2: -4.95:-5.4 | BVC2: -5.4:-5.85 | BVD2: -5.85:-6.3 | BVE2: -6.3:-6.75 | BVF2: -6.75:-7.2 | BVG2: -7.2:-7.65 | BVH2: -7.65:-8.1 | BVI2: -8.1:-8.55 | BVJ2: -8.55:-9 | BVK2: -9:-9.45 | BVL2: -9.45:--9.9 | BVM2: -9.9:-10.35 | BVN2: -10.35:-10.8 | BVO2: -10.8:-11.25 | BVP2: -11.25:-11.7 | BVQ2: -11.7:-12.15 | BVR2: -12.15:-12.6 | BVS2: -12.6:-13.05 | BVT2: -13.05:-13.5 | BVU2: -13.5:-13.95 | BVV2: -13.95:-14.4 | BVW2: -14.4:-14.85 | BVX2: -14.85:-15.3 | BVY2: -15.3:-15.75 | BVZ2: -15.75:-16.2 | BWA2: -16.2:-16.65 | BWB2: -16.65:-17.1 | BWC2: -17.1:-17.55 | BWD2: -17.55:-18 | BWE2: -18:-18.45 | BWF2: -18.45:-18.9 | BWG2: -18.9:-19.35 | BWH2: -19.35:-19.8 | BWI2: -19.8:-20.25 | BWJ2: -20.25:-20.7 | BWK2: -20.7:-21.15 | BWL2: -21.15:-21.6 | BWM2: -21.6:-22.05 | BWN2: -22.05:-22.5 | BWO2: -22.5:-22.95 | BWP2: -22.95:--23.4 | BWQ2: -23.4:-23.85 | BWR2: -23.85:-24.3 | BWS2: -24.3:-24.75 | BWT2: -24.75:-25.2 | BWU2: -25.2:-25.65 | BWV2: -25.65:-26.1 | BWW2: -26.1:-26.55 | BWX2: -26.55:-27 | BWY2: -27:-27.45 | BWZ2: -27.45:-27.9 | BXA2: -27.9:-28.35 | BXB2: -28.35:-28.75 | BXC2: 0.4:0.0 | BXD2: 0.0:-0.45 | BXE2: -0.45:-0.9 | BXF2: -0.9:-1.35 | BXG2: -1.35:-1.8 | BXH2: -1.8:-2.25 | BXI2: -2.25:-2.7 | BXJ2: -2.7:-3.15 | BXK2: -3.15:-3.6 | BXL2: -3.6:-4.05 | BXM2: -4.05:-4.5 | BXN2: -4.5:-4.95 | BXO2: -4.95:-5.4 | BXP2: -5.4:-5.85 | BXQ2: -5.85:-6.3 | BXR2: -6.3:-6.75 | BXS2: -6.75:-7.2 | BXT2: -7.2:-7.65 | BXU2: -7.65:-8.1 | BXV2: -8.1:-8.55 | BXW2: -8.55:-9 | BXX2: -9:-9.45 | BXY2: -9.45:--9.9 | BXZ2: -9.9:-10.35 | BYA2: -10.35:-10.8 | BYB2: -10.8:-11.25 | BYC2: -11.25:-11.7 | BYD2: -11.7:-12.15 | BYE2: -12.15:-12.6 | BYF2: -12.6:-13.05 | BYG2: -13.05:-13.5 | BYH2: -13.5:-13.95 | BYI2: -13.95:-14.4 | BYJ2: -14.4:-14.85 | BYK2: -14.85:-15.3 | BYL2: -15.3:-15.75 | BYM2: -15.75:-16.2 | BYN2: -16.2:-16.65 | BYO2: -16.65:-17.1 | BYP2: -17.1:-17.55 | BYQ2: -17.55:-18 | BYR2: -18:-18.45 | BYS2: -18.45:-18.9 | BYT2: -18.9:-19.35 | BYU2: -19.35:-19.8 | BYV2: -19.8:-20.25 | BYW2: -20.25:-20.7 | BYX2: -20.7:-21.15 | BYY2: -21.15:-21.6 | BYZ2: -21.6:-22.05 | BZA2: -22.05:-22.5 | BZB2: -22.5:-22.95 | BZC2: -22.95:--23.4 | BZD2: -23.4:-23.85 | BZE2: -23.85:-24.3 | BZF2: -24.3:-24.75 | BZG2: -24.75:-25.2 | BZH2: -25.2:-25.65 | BZI2: -25.65:-26.1 | BZJ2: -26.1:-26.55 | BZK2: -26.55:-27 | BZL2: -27:-27.45 | BZM2: -27.45:-27.9 | BZN2: -27.9:-28.35 | BZO2: -28.35:-28.75 | BZP2: 0.4:0.0 | BZQ2: 0.0:-0.45 | BZR2: -0.45:-0.9 | BZS2: -0.9:-1.35 | BZT2: -1.35:-1.8 | BZU2: -1.8:-2.25 | BZV2: -2.25:-2.7 | BZW2: -2.7:-3.15 | BZX2: -3.15:-3.6 | BZY2: -3.6:-4.05 | BZZ2: -4.05:-4.5 | CAA2: -4.5:-4.95 | CAB2: -4.95:-5.4 | CAC2: -5.4:-5.85 | CAD2: -5.85:-6.3 | CAE2: -6.3:-6.75 | CAF2: -6.75:-7.2 | CAG2: -7.2:-7.65 | CAH2: -7.65:-8.1 | CAI2: -8.1:-8.55 | CAJ2: -8.55:-9 | CAK2: -9:-9.45 | CAL2: -9.45:--9.9 | CAM2: -9.9:-10.35 | CAN2: -10.35:-10.8 | CAO2: -10.8:-11.25 | CAP2: -11.25:-11.7 | CAQ2: -11.7:-12.15 | CAR2: -12.15:-12.6 | CAS2: -12.6:-13.05 | CAT2: -13.05:-13.5 | CAU2: -13.5:-13.95 | CAV2: -13.95:-14.4 | CAW2: -14.4:-14.85 | CAX2: -14.85:-15.3 | CAY2: -15.3:-15.75 | CAZ2: -15.75:-16.2 | CBA2: -16.2:-16.65 | CBB2: -16.65:-17.1 | CBC2: -17.1:-17.55 | CBD2: -17.55:-18 | CBE2: -18:-18.45 | CBF2: -18.45:-18.9 | CBG2: -18.9:-19.35 | CBH2: -19.35:-19.8 | CBI2: -19.8:-20.25 | CBJ2: -20.25:-20.7 | CBK2: -20.7:-21.15 | CBL2: -21.15:-21.6 | CBM2: -21.6:-22.05 | CBN2: -22.05:-22.5 | CBO2: -22.5:-22.95 | CBP2: -22.95:--23.4 | CBQ2: -23.4:-23.85 | CBR2: -23.85:-24.3 | CBS2: -24.3:-24.75 | CBT2: -24.75:-25.2 | CBU2: -25.2:-25.65 | CBV2: -25.65:-26.1 | CBW2: -26.1:-26.55 | CBX2: -26.55:-27 | CBY2: -27:-27.45 | CBZ2: -27.45:-27.9 | CCA2: -27.9:-28.35 | CCB2: -28.35:-28.75 | CCC2: 0.4:0.0 | CCD2: 0.0:-0.45 | CCE2: -0.45:-0.9 | CCF2: -0.9:-1.35 | CCG2: -1.35:-1.8 | CCH2: -1.8:-2.25 | CCI2: -2.25:-2.7 | CCJ2: -2.7:-3.15 | CCK2: -3.15:-3.6 | CCL2: -3.6:-4.05 | CCM2: -4.05:-4.5 | CCN2: -4.5:-4.95 | CCO2: -4.95:-5.4 | CCP2: -5.4:-5.85 | CCQ2: -5.85:-6.3 | CCR2: -6.3:-6.75 | CCS2: -6.75:-7.2 | CCT2: -7.2:-7.65 | CCU2: -7.65:-8.1 | CCV2: -8.1:-8.55 | CCW2: -8.55:-9 | CCX2: -9:-9.45 | CCY2: -9.45:--9.9 | CCZ2: -9.9:-10.35 | CDA2: -10.35:-10.8 | CDB2: -10.8:-11.25 | CDC2: -11.25:-11.7 | CDD2: -11.7:-12.15 | CDE2: -12.15:-12.6 | CDF2: -12.6:-13.05 | CDG2: -13.05:-13.5 | CDH2: -13.5:-13.95 | CDI2: -13.95:-14.4 | CDJ2: -14.4:-14.85 | CDK2: -14.85:-15.3 | CDL2: -15.3:-15.75 | CDM2: -15.75:-16.2 | CDN2: -16.2:-16.65 | CDO2: -16.65:-17.1 | CDP2: -17.1:-17.55 | CDQ2: -17.55:-18 | CDR2: -18:-18.45 | CDS2: -18.45:-18.9 | CDT2: -18.9:-19.35 | CDU2: -19.35:-19.8 | CDV2: -19.8:-20.25 | CDW2: -20.25:-20.7 | CDX2: -20.7:-21.15 | CDY2: -21.15:-21.6 | CDZ2: -21.6:-22.05 | CEA2: -22.05:-22.5 | CEB2: -22.5:-22.95 | CEC2: -22.95:--23.4 | CED2: -23.4:-23.85 | CEE2: -23.85:-24.3 | CEF2: -24.3:-24.75 | CEG2: -24.75:-25.2 | CEH2: -25.2:-25.65 | CEI2: -25.65:-26.1 | CEJ2: -26.1:-26.55 | CEK2: -26.55:-27 | CEL2: -27:-27.45 | CEM2: -27.45:-27.9 | CEN2: -27.9:-28.35 | CEO2: -28.35:-28.75 | CEP2: 0.4:0.0 | CEQ2: 0.0:-0.45 | CER2: -0.45:-0.9 | CES2: -0.9:-1.35 | CET2: -1.35:-1.8 | CEU2: -1.8:-2.25 | CEV2: -2.25:-2.7 | CEW2: -2.7:-3.15 | CEX2: -3.15:-3.6 | CEY2: -3.6:-4.05 | CEZ2: -4.05:-4.5 | CFA2: -4.5:-4.95 | CFB2: -4.95:-5.4 | CFC2: -5.4:-5.85 | CFD2: -5.85:-6.3 | CFE2: -6.3:-6.75 | CFF2: -6.75:-7.2 | CFG2: -7.2:-7.65 | CFH2: -7.65:-8.1 | CFI2: -8.1:-8.55 | CFJ2: -8.55:-9 | CFK2: -9:-9.45 | CFL2: -9.45:--9.9 | CFM2: -9.9:-10.35 | CFN2: -10.35:-10.8 | CFO2: -10.8:-11.25 | CFP2: -11.25:-11.7 | CFQ2: -11.7:-12.15 | CFR2: -12.15:-12.6 | CFS2: -12.6:-13.05 | CFT2: -13.05:-13.5 | CFU2: -13.5:-13.95 | CFV2: -13.95:-14.4 | CFW2: -14.4:-14.85 | CFX2: -14.85:-15.3 | CFY2: -15.3:-15.75 | CFZ2: -15.75:-16.2 | CGA2: -16.2:-16.65 | CGB2: -16.65:-17.1 | CGC2: -17.1:-17.55 | CGD2: -17.55:-18 | CGE2: -18:-18.45 | CGF2: -18.45:-18.9 | CGG2: -18.9:-19.35 | CGH2: -19.35:-19.8 | CGI2: -19.8:-20.25 | CGJ2: -20.25:-20.7 | CGK2: -20.7:-21.15 | CGL2: -21.15:-21.6 | CGM2: -21.6:-22.05 | CGN2: -22.05:-22.5 | CGO2: -22.5:-22.95 | CGP2: -22.95:--23.4 | CGQ2: -23.4:-23.85 | CGR2: -23.85:-24.3 | CGS2: -24.3:-24.75 | CGT2: -24.75:-25.2 | CGU2: -25.2:-25.65 | CGV2: -25.65:-26.1 | CGW2: -26.1:-26.55 | CGX2: -26.55:-27 | CGY2: -27:-27.45 | CGZ2: -27.45:-27.9 | CHA2: -27.9:-28.35 | CHB2: -28.35:-28.75
A3: Thickness_in, m | B3: =7*B2 -> 0.0028 | E3: EQUILIBRIO TERMICO LOCAL (linkado al resto de tablas) | AT3: 1 | AU3: 2 | AV3: 3 | AW3: 4 | AX3: 5 | AY3: 6 | AZ3: 7 | BA3: 8 | BB3: 9 | BC3: 10 | BD3: 11 | BE3: 12 | BF3: 13 | BG3: 14 | BH3: 15 | BI3: 16 | BJ3: 17 | BK3: 18 | BL3: 19 | BM3: 20 | BN3: 21 | BO3: 22 | BP3: 23 | BQ3: 24 | BR3: 25 | BS3: 26 | BT3: 27 | BU3: 28 | BV3: 29 | BW3: 30 | BX3: 31 | BY3: 32 | BZ3: 33 | CA3: 34 | CB3: 35 | CC3: 36 | CD3: 37 | CE3: 38 | CF3: 39 | CG3: 40 | CH3: 41 | CI3: 42 | CJ3: 43 | CK3: 44 | CL3: 45 | CM3: 46 | CN3: 47 | CO3: 48 | CP3: 49 | CQ3: 50 | CR3: 51 | CS3: 52 | CT3: 53 | CU3: 54 | CV3: 55 | CW3: 56 | CX3: 57 | CY3: 58 | CZ3: 59 | DA3: 60 | DB3: 61 | DC3: 62 | DD3: 63 | DE3: 64 | DF3: 65 | DG3: 66 | DH3: 67 | DI3: 68 | DJ3: 1 | DK3: 2 | DL3: 3 | DM3: 4 | DN3: 5 | DO3: 6 | DP3: 7 | DQ3: 8 | DR3: 9 | DS3: 10 | DT3: 11 | DU3: 12 | DV3: 13 | DW3: 14 | DX3: 15 | DY3: 16 | DZ3: 17 | EA3: 18 | EB3: 19 | EC3: 20 | ED3: 21 | EE3: 22 | EF3: 23 | EG3: 24 | EH3: 25 | EI3: 26 | EJ3: 27 | EK3: 28 | EL3: 29 | EM3: 30 | EN3: 31 | EO3: 32 | EP3: 33 | EQ3: 34 | ER3: 35 | ES3: 36 | ET3: 37 | EU3: 38 | EV3: 39 | EW3: 40 | EX3: 41 | EY3: 42 | EZ3: 43 | FA3: 44 | FB3: 45 | FC3: 46 | FD3: 47 | FE3: 48 | FF3: 49 | FG3: 50 | FH3: 51 | FI3: 52 | FJ3: 53 | FK3: 54 | FL3: 55 | FM3: 56 | FN3: 57 | FO3: 58 | FP3: 59 | FQ3: 60 | FR3: 61 | FS3: 62 | FT3: 63 | FU3: 64 | FV3: 65 | FW3: 66 | FX3: 67 | FY3: 68 | FZ3: 1 | GA3: 2 | GB3: 3 | GC3: 4 | GD3: 5 | GE3: 6 | GF3: 7 | GG3: 8 | GH3: 9 | GI3: 10 | GJ3: 11 | GK3: 12 | GL3: 13 | GM3: 14 | GN3: 15 | GO3: 16 | GP3: 17 | GQ3: 18 | GR3: 19 | GS3: 20 | GT3: 21 | GU3: 22 | GV3: 23 | GW3: 24 | GX3: 25 | GY3: 26 | GZ3: 27 | HA3: 28 | HB3: 29 | HC3: 30 | HD3: 31 | HE3: 32 | HF3: 33 | HG3: 34 | HH3: 35 | HI3: 36 | HJ3: 37 | HK3: 38 | HL3: 39 | HM3: 40 | HN3: 41 | HO3: 42 | HP3: 43 | HQ3: 44 | HR3: 45 | HS3: 46 | HT3: 47 | HU3: 48 | HV3: 49 | HW3: 50 | HX3: 51 | HY3: 52 | HZ3: 53 | IA3: 54 | IB3: 55 | IC3: 56 | ID3: 57 | IE3: 58 | IF3: 59 | IG3: 60 | IH3: 61 | II3: 62 | IJ3: 63 | IK3: 64 | IL3: 65 | IM3: 66 | IN3: 67 | IO3: 68 | IP3: 1 | IQ3: 2 | IR3: 3 | IS3: 4 | IT3: 5 | IU3: 6 | IV3: 7 | IW3: 8 | IX3: 9 | IY3: 10 | IZ3: 11 | JA3: 12 | JB3: 13 | JC3: 14 | JD3: 15 | JE3: 16 | JF3: 17 | JG3: 18 | JH3: 19 | JI3: 20 | JJ3: 21 | JK3: 22 | JL3: 23 | JM3: 24 | JN3: 25 | JO3: 26 | JP3: 27 | JQ3: 28 | JR3: 29 | JS3: 30 | JT3: 31 | JU3: 32 | JV3: 33 | JW3: 34 | JX3: 35 | JY3: 36 | JZ3: 37 | KA3: 38 | KB3: 39 | KC3: 40 | KD3: 41 | KE3: 42 | KF3: 43 | KG3: 44 | KH3: 45 | KI3: 46 | KJ3: 47 | KK3: 48 | KL3: 49 | KM3: 50 | KN3: 51 | KO3: 52 | KP3: 53 | KQ3: 54 | KR3: 55 | KS3: 56 | KT3: 57 | KU3: 58 | KV3: 59 | KW3: 60 | KX3: 61 | KY3: 62 | KZ3: 63 | LA3: 64 | LB3: 65 | LC3: 1 | LD3: 2 | LE3: 3 | LF3: 4 | LG3: 5 | LH3: 6 | LI3: 7 | LJ3: 8 | LK3: 9 | LL3: 10 | LM3: 11 | LN3: 12 | LO3: 13 | LP3: 14 | LQ3: 15 | LR3: 16 | LS3: 17 | LT3: 18 | LU3: 19 | LV3: 20 | LW3: 21 | LX3: 22 | LY3: 23 | LZ3: 24 | MA3: 25 | MB3: 26 | MC3: 27 | MD3: 28 | ME3: 29 | MF3: 30 | MG3: 31 | MH3: 32 | MI3: 33 | MJ3: 34 | MK3: 35 | ML3: 36 | MM3: 37 | MN3: 38 | MO3: 39 | MP3: 40 | MQ3: 41 | MR3: 42 | MS3: 43 | MT3: 44 | MU3: 45 | MV3: 46 | MW3: 47 | MX3: 48 | MY3: 49 | MZ3: 50 | NA3: 51 | NB3: 52 | NC3: 53 | ND3: 54 | NE3: 55 | NF3: 56 | NG3: 57 | NH3: 58 | NI3: 59 | NJ3: 60 | NK3: 61 | NL3: 62 | NM3: 63 | NN3: 64 | NO3: 65 | NP3: 1 | NQ3: 2 | NR3: 3 | NS3: 4 | NT3: 5 | NU3: 6 | NV3: 7 | NW3: 8 | NX3: 9 | NY3: 10 | NZ3: 11 | OA3: 12 | OB3: 13 | OC3: 14 | OD3: 15 | OE3: 16 | OF3: 17 | OG3: 18 | OH3: 19 | OI3: 20 | OJ3: 21 | OK3: 22 | OL3: 23 | OM3: 24 | ON3: 25 | OO3: 26 | OP3: 27 | OQ3: 28 | OR3: 29 | OS3: 30 | OT3: 31 | OU3: 32 | OV3: 33 | OW3: 34 | OX3: 35 | OY3: 36 | OZ3: 37 | PA3: 38 | PB3: 39 | PC3: 40 | PD3: 41 | PE3: 42 | PF3: 43 | PG3: 44 | PH3: 45 | PI3: 46 | PJ3: 47 | PK3: 48 | PL3: 49 | PM3: 50 | PN3: 51 | PO3: 52 | PP3: 53 | PQ3: 54 | PR3: 55 | PS3: 56 | PT3: 57 | PU3: 58 | PV3: 59 | PW3: 60 | PX3: 61 | PY3: 62 | PZ3: 63 | QA3: 64 | QB3: 65 | QC3: 1 | QD3: 2 | QE3: 3 | QF3: 4 | QG3: 5 | QH3: 6 | QI3: 7 | QJ3: 8 | QK3: 9 | QL3: 10 | QM3: 11 | QN3: 12 | QO3: 13 | QP3: 14 | QQ3: 15 | QR3: 16 | QS3: 17 | QT3: 18 | QU3: 19 | QV3: 20 | QW3: 21 | QX3: 22 | QY3: 23 | QZ3: 24 | RA3: 25 | RB3: 26 | RC3: 27 | RD3: 28 | RE3: 29 | RF3: 30 | RG3: 31 | RH3: 32 | RI3: 33 | RJ3: 34 | RK3: 35 | RL3: 36 | RM3: 37 | RN3: 38 | RO3: 39 | RP3: 40 | RQ3: 41 | RR3: 42 | RS3: 43 | RT3: 44 | RU3: 45 | RV3: 46 | RW3: 47 | RX3: 48 | RY3: 49 | RZ3: 50 | SA3: 51 | SB3: 52 | SC3: 53 | SD3: 54 | SE3: 55 | SF3: 56 | SG3: 57 | SH3: 58 | SI3: 59 | SJ3: 60 | SK3: 61 | SL3: 62 | SM3: 63 | SN3: 64 | SO3: 65 | SP3: 66 | SQ3: 67 | SR3: 68 | SS3: 1 | ST3: 2 | SU3: 3 | SV3: 4 | SW3: 5 | SX3: 6 | SY3: 7 | SZ3: 8 | TA3: 9 | TB3: 10 | TC3: 11 | TD3: 12 | TE3: 13 | TF3: 14 | TG3: 15 | TH3: 16 | TI3: 17 | TJ3: 18 | TK3: 19 | TL3: 20 | TM3: 21 | TN3: 22 | TO3: 23 | TP3: 24 | TQ3: 25 | TR3: 26 | TS3: 27 | TT3: 28 | TU3: 29 | TV3: 30 | TW3: 31 | TX3: 32 | TY3: 33 | TZ3: 34 | UA3: 35 | UB3: 36 | UC3: 37 | UD3: 38 | UE3: 39 | UF3: 40 | UG3: 41 | UH3: 42 | UI3: 43 | UJ3: 44 | UK3: 45 | UL3: 46 | UM3: 47 | UN3: 48 | UO3: 49 | UP3: 50 | UQ3: 51 | UR3: 52 | US3: 53 | UT3: 54 | UU3: 55 | UV3: 56 | UW3: 57 | UX3: 58 | UY3: 59 | UZ3: 60 | VA3: 61 | VB3: 62 | VC3: 63 | VD3: 64 | VE3: 65 | VF3: 1 | VG3: 2 | VH3: 3 | VI3: 4 | VJ3: 5 | VK3: 6 | VL3: 7 | VM3: 8 | VN3: 9 | VO3: 10 | VP3: 11 | VQ3: 12 | VR3: 13 | VS3: 14 | VT3: 15 | VU3: 16 | VV3: 17 | VW3: 18 | VX3: 19 | VY3: 20 | VZ3: 21 | WA3: 22 | WB3: 23 | WC3: 24 | WD3: 25 | WE3: 26 | WF3: 27 | WG3: 28 | WH3: 29 | WI3: 30 | WJ3: 31 | WK3: 32 | WL3: 33 | WM3: 34 | WN3: 35 | WO3: 36 | WP3: 37 | WQ3: 38 | WR3: 39 | WS3: 40 | WT3: 41 | WU3: 42 | WV3: 43 | WW3: 44 | WX3: 45 | WY3: 46 | WZ3: 47 | XA3: 48 | XB3: 49 | XC3: 50 | XD3: 51 | XE3: 52 | XF3: 53 | XG3: 54 | XH3: 55 | XI3: 56 | XJ3: 57 | XK3: 58 | XL3: 59 | XM3: 60 | XN3: 61 | XO3: 62 | XP3: 63 | XQ3: 64 | XR3: 65 | XS3: 66 | XT3: 67 | XU3: 68 | XV3: 1 | XW3: 2 | XX3: 3 | XY3: 4 | XZ3: 5 | YA3: 6 | YB3: 7 | YC3: 8 | YD3: 9 | YE3: 10 | YF3: 11 | YG3: 12 | YH3: 13 | YI3: 14 | YJ3: 15 | YK3: 16 | YL3: 17 | YM3: 18 | YN3: 19 | YO3: 20 | YP3: 21 | YQ3: 22 | YR3: 23 | YS3: 24 | YT3: 25 | YU3: 26 | YV3: 27 | YW3: 28 | YX3: 29 | YY3: 30 | YZ3: 31 | ZA3: 32 | ZB3: 33 | ZC3: 34 | ZD3: 35 | ZE3: 36 | ZF3: 37 | ZG3: 38 | ZH3: 39 | ZI3: 40 | ZJ3: 41 | ZK3: 42 | ZL3: 43 | ZM3: 44 | ZN3: 45 | ZO3: 46 | ZP3: 47 | ZQ3: 48 | ZR3: 49 | ZS3: 50 | ZT3: 51 | ZU3: 52 | ZV3: 53 | ZW3: 54 | ZX3: 55 | ZY3: 56 | ZZ3: 57 | AAA3: 58 | AAB3: 59 | AAC3: 60 | AAD3: 61 | AAE3: 62 | AAF3: 63 | AAG3: 64 | AAH3: 65 | AAI3: 1 | AAJ3: 2 | AAK3: 3 | AAL3: 4 | AAM3: 5 | AAN3: 6 | AAO3: 7 | AAP3: 8 | AAQ3: 9 | AAR3: 10 | AAS3: 11 | AAT3: 12 | AAU3: 13 | AAV3: 14 | AAW3: 15 | AAX3: 16 | AAY3: 17 | AAZ3: 18 | ABA3: 19 | ABB3: 20 | ABC3: 21 | ABD3: 22 | ABE3: 23 | ABF3: 24 | ABG3: 25 | ABH3: 26 | ABI3: 27 | ABJ3: 28 | ABK3: 29 | ABL3: 30 | ABM3: 31 | ABN3: 32 | ABO3: 33 | ABP3: 34 | ABQ3: 35 | ABR3: 36 | ABS3: 37 | ABT3: 38 | ABU3: 39 | ABV3: 40 | ABW3: 41 | ABX3: 42 | ABY3: 43 | ABZ3: 44 | ACA3: 45 | ACB3: 46 | ACC3: 47 | ACD3: 48 | ACE3: 49 | ACF3: 50 | ACG3: 51 | ACH3: 52 | ACI3: 53 | ACJ3: 54 | ACK3: 55 | ACL3: 56 | ACM3: 57 | ACN3: 58 | ACO3: 59 | ACP3: 60 | ACQ3: 61 | ACR3: 62 | ACS3: 63 | ACT3: 64 | ACU3: 65 | ACV3: 66 | ACW3: 67 | ACX3: 68 | ACY3: 1 | ACZ3: 2 | ADA3: 3 | ADB3: 4 | ADC3: 5 | ADD3: 6 | ADE3: 7 | ADF3: 8 | ADG3: 9 | ADH3: 10 | ADI3: 11 | ADJ3: 12 | ADK3: 13 | ADL3: 14 | ADM3: 15 | ADN3: 16 | ADO3: 17 | ADP3: 18 | ADQ3: 19 | ADR3: 20 | ADS3: 21 | ADT3: 22 | ADU3: 23 | ADV3: 24 | ADW3: 25 | ADX3: 26 | ADY3: 27 | ADZ3: 28 | AEA3: 29 | AEB3: 30 | AEC3: 31 | AED3: 32 | AEE3: 33 | AEF3: 34 | AEG3: 35 | AEH3: 36 | AEI3: 37 | AEJ3: 38 | AEK3: 39 | AEL3: 40 | AEM3: 41 | AEN3: 42 | AEO3: 43 | AEP3: 44 | AEQ3: 45 | AER3: 46 | AES3: 47 | AET3: 48 | AEU3: 49 | AEV3: 50 | AEW3: 51 | AEX3: 52 | AEY3: 53 | AEZ3: 54 | AFA3: 55 | AFB3: 56 | AFC3: 57 | AFD3: 58 | AFE3: 59 | AFF3: 60 | AFG3: 61 | AFH3: 62 | AFI3: 63 | AFJ3: 64 | AFK3: 65 | AFL3: 66 | AFM3: 67 | AFN3: 68 | AFO3: 1 | AFP3: 2 | AFQ3: 3 | AFR3: 4 | AFS3: 5 | AFT3: 6 | AFU3: 7 | AFV3: 8 | AFW3: 9 | AFX3: 10 | AFY3: 11 | AFZ3: 12 | AGA3: 13 | AGB3: 14 | AGC3: 15 | AGD3: 16 | AGE3: 17 | AGF3: 18 | AGG3: 19 | AGH3: 20 | AGI3: 21 | AGJ3: 22 | AGK3: 23 | AGL3: 24 | AGM3: 25 | AGN3: 26 | AGO3: 27 | AGP3: 28 | AGQ3: 29 | AGR3: 30 | AGS3: 31 | AGT3: 32 | AGU3: 33 | AGV3: 34 | AGW3: 35 | AGX3: 36 | AGY3: 37 | AGZ3: 38 | AHA3: 39 | AHB3: 40 | AHC3: 41 | AHD3: 42 | AHE3: 43 | AHF3: 44 | AHG3: 45 | AHH3: 46 | AHI3: 47 | AHJ3: 48 | AHK3: 49 | AHL3: 50 | AHM3: 51 | AHN3: 52 | AHO3: 53 | AHP3: 54 | AHQ3: 55 | AHR3: 56 | AHS3: 57 | AHT3: 58 | AHU3: 59 | AHV3: 60 | AHW3: 61 | AHX3: 62 | AHY3: 63 | AHZ3: 64 | AIA3: 65 | AIB3: 66 | AIC3: 67 | AID3: 68 | AIE3: 1 | AIF3: 2 | AIG3: 3 | AIH3: 4 | AII3: 5 | AIJ3: 6 | AIK3: 7 | AIL3: 8 | AIM3: 9 | AIN3: 10 | AIO3: 11 | AIP3: 12 | AIQ3: 13 | AIR3: 14 | AIS3: 15 | AIT3: 16 | AIU3: 17 | AIV3: 18 | AIW3: 19 | AIX3: 20 | AIY3: 21 | AIZ3: 22 | AJA3: 23 | AJB3: 24 | AJC3: 25 | AJD3: 26 | AJE3: 27 | AJF3: 28 | AJG3: 29 | AJH3: 30 | AJI3: 31 | AJJ3: 32 | AJK3: 33 | AJL3: 34 | AJM3: 35 | AJN3: 36 | AJO3: 37 | AJP3: 38 | AJQ3: 39 | AJR3: 40 | AJS3: 41 | AJT3: 42 | AJU3: 43 | AJV3: 44 | AJW3: 45 | AJX3: 46 | AJY3: 47 | AJZ3: 48 | AKA3: 49 | AKB3: 50 | AKC3: 51 | AKD3: 52 | AKE3: 53 | AKF3: 54 | AKG3: 55 | AKH3: 56 | AKI3: 57 | AKJ3: 58 | AKK3: 59 | AKL3: 60 | AKM3: 61 | AKN3: 62 | AKO3: 63 | AKP3: 64 | AKQ3: 65 | AKR3: 66 | AKT3: 1 | AKU3: 2 | AKV3: 3 | AKW3: 4 | AKX3: 5 | AKY3: 6 | AKZ3: 7 | ALA3: 8 | ALB3: 9 | ALC3: 10 | ALD3: 11 | ALE3: 12 | ALF3: 13 | ALG3: 14 | ALH3: 15 | ALI3: 16 | ALJ3: 17 | ALK3: 18 | ALL3: 19 | ALM3: 20 | ALN3: 21 | ALO3: 22 | ALP3: 23 | ALQ3: 24 | ALR3: 25 | ALS3: 26 | ALT3: 27 | ALU3: 28 | ALV3: 29 | ALW3: 30 | ALX3: 31 | ALY3: 32 | ALZ3: 33 | AMA3: 34 | AMB3: 35 | AMC3: 36 | AMD3: 37 | AME3: 38 | AMF3: 39 | AMG3: 40 | AMH3: 41 | AMI3: 42 | AMJ3: 43 | AMK3: 44 | AML3: 45 | AMM3: 46 | AMN3: 47 | AMO3: 48 | AMP3: 49 | AMQ3: 50 | AMR3: 51 | AMS3: 52 | AMT3: 53 | AMU3: 54 | AMV3: 55 | AMW3: 56 | AMX3: 57 | AMY3: 58 | AMZ3: 59 | ANA3: 60 | ANB3: 61 | ANC3: 62 | AND3: 63 | ANE3: 64 | ANF3: 65 | ANG3: 66 | ANH3: 1 | ANI3: 2 | ANJ3: 3 | ANK3: 4 | ANL3: 5 | ANM3: 6 | ANN3: 7 | ANO3: 8 | ANP3: 9 | ANQ3: 10 | ANR3: 11 | ANS3: 12 | ANT3: 13 | ANU3: 14 | ANV3: 15 | ANW3: 16 | ANX3: 17 | ANY3: 18 | ANZ3: 19 | AOA3: 20 | AOB3: 21 | AOC3: 22 | AOD3: 23 | AOE3: 24 | AOF3: 25 | AOG3: 26 | AOH3: 27 | AOI3: 28 | AOJ3: 29 | AOK3: 30 | AOL3: 31 | AOM3: 32 | AON3: 33 | AOO3: 34 | AOP3: 35 | AOQ3: 36 | AOR3: 37 | AOS3: 38 | AOT3: 39 | AOU3: 40 | AOV3: 41 | AOW3: 42 | AOX3: 43 | AOY3: 44 | AOZ3: 45 | APA3: 46 | APB3: 47 | APC3: 48 | APD3: 49 | APE3: 50 | APF3: 51 | APG3: 52 | APH3: 53 | API3: 54 | APJ3: 55 | APK3: 56 | APL3: 57 | APM3: 58 | APN3: 59 | APO3: 60 | APP3: 61 | APQ3: 62 | APR3: 63 | APS3: 64 | APT3: 65 | APU3: 1 | APV3: 2 | APW3: 3 | APX3: 4 | APY3: 5 | APZ3: 6 | AQA3: 7 | AQB3: 8 | AQC3: 9 | AQD3: 10 | AQE3: 11 | AQF3: 12 | AQG3: 13 | AQH3: 14 | AQI3: 15 | AQJ3: 16 | AQK3: 17 | AQL3: 18 | AQM3: 19 | AQN3: 20 | AQO3: 21 | AQP3: 22 | AQQ3: 23 | AQR3: 24 | AQS3: 25 | AQT3: 26 | AQU3: 27 | AQV3: 28 | AQW3: 29 | AQX3: 30 | AQY3: 31 | AQZ3: 32 | ARA3: 33 | ARB3: 34 | ARC3: 35 | ARD3: 36 | ARE3: 37 | ARF3: 38 | ARG3: 39 | ARH3: 40 | ARI3: 41 | ARJ3: 42 | ARK3: 43 | ARL3: 44 | ARM3: 45 | ARN3: 46 | ARO3: 47 | ARP3: 48 | ARQ3: 49 | ARR3: 50 | ARS3: 51 | ART3: 52 | ARU3: 53 | ARV3: 54 | ARW3: 55 | ARX3: 56 | ARY3: 57 | ARZ3: 58 | ASA3: 59 | ASB3: 60 | ASC3: 61 | ASD3: 62 | ASE3: 63 | ASF3: 64 | ASG3: 65 | ASH3: 1 | ASI3: 2 | ASJ3: 3 | ASK3: 4 | ASL3: 5 | ASM3: 6 | ASN3: 7 | ASO3: 8 | ASP3: 9 | ASQ3: 10 | ASR3: 11 | ASS3: 12 | AST3: 13 | ASU3: 14 | ASV3: 15 | ASW3: 16 | ASX3: 17 | ASY3: 18 | ASZ3: 19 | ATA3: 20 | ATB3: 21 | ATC3: 22 | ATD3: 23 | ATE3: 24 | ATF3: 25 | ATG3: 26 | ATH3: 27 | ATI3: 28 | ATJ3: 29 | ATK3: 30 | ATL3: 31 | ATM3: 32 | ATN3: 33 | ATO3: 34 | ATP3: 35 | ATQ3: 36 | ATR3: 37 | ATS3: 38 | ATT3: 39 | ATU3: 40 | ATV3: 41 | ATW3: 42 | ATX3: 43 | ATY3: 44 | ATZ3: 45 | AUA3: 46 | AUB3: 47 | AUC3: 48 | AUD3: 49 | AUE3: 50 | AUF3: 51 | AUG3: 52 | AUH3: 53 | AUI3: 54 | AUJ3: 55 | AUK3: 56 | AUL3: 57 | AUM3: 58 | AUN3: 59 | AUO3: 60 | AUP3: 61 | AUQ3: 62 | AUR3: 63 | AUS3: 64 | AUT3: 65 | AUU3: 1 | AUV3: 2 | AUW3: 3 | AUX3: 4 | AUY3: 5 | AUZ3: 6 | AVA3: 7 | AVB3: 8 | AVC3: 9 | AVD3: 10 | AVE3: 11 | AVF3: 12 | AVG3: 13 | AVH3: 14 | AVI3: 15 | AVJ3: 16 | AVK3: 17 | AVL3: 18 | AVM3: 19 | AVN3: 20 | AVO3: 21 | AVP3: 22 | AVQ3: 23 | AVR3: 24 | AVS3: 25 | AVT3: 26 | AVU3: 27 | AVV3: 28 | AVW3: 29 | AVX3: 30 | AVY3: 31 | AVZ3: 32 | AWA3: 33 | AWB3: 34 | AWC3: 35 | AWD3: 36 | AWE3: 37 | AWF3: 38 | AWG3: 39 | AWH3: 40 | AWI3: 41 | AWJ3: 42 | AWK3: 43 | AWL3: 44 | AWM3: 45 | AWN3: 46 | AWO3: 47 | AWP3: 48 | AWQ3: 49 | AWR3: 50 | AWS3: 51 | AWT3: 52 | AWU3: 53 | AWV3: 54 | AWW3: 55 | AWX3: 56 | AWY3: 57 | AWZ3: 58 | AXA3: 59 | AXB3: 60 | AXC3: 61 | AXD3: 62 | AXE3: 63 | AXF3: 64 | AXG3: 65 | AXH3: 66 | AXI3: 67 | AXJ3: 68 | AXK3: 1 | AXL3: 2 | AXM3: 3 | AXN3: 4 | AXO3: 5 | AXP3: 6 | AXQ3: 7 | AXR3: 8 | AXS3: 9 | AXT3: 10 | AXU3: 11 | AXV3: 12 | AXW3: 13 | AXX3: 14 | AXY3: 15 | AXZ3: 16 | AYA3: 17 | AYB3: 18 | AYC3: 19 | AYD3: 20 | AYE3: 21 | AYF3: 22 | AYG3: 23 | AYH3: 24 | AYI3: 25 | AYJ3: 26 | AYK3: 27 | AYL3: 28 | AYM3: 29 | AYN3: 30 | AYO3: 31 | AYP3: 32 | AYQ3: 33 | AYR3: 34 | AYS3: 35 | AYT3: 36 | AYU3: 37 | AYV3: 38 | AYW3: 39 | AYX3: 40 | AYY3: 41 | AYZ3: 42 | AZA3: 43 | AZB3: 44 | AZC3: 45 | AZD3: 46 | AZE3: 47 | AZF3: 48 | AZG3: 49 | AZH3: 50 | AZI3: 51 | AZJ3: 52 | AZK3: 53 | AZL3: 54 | AZM3: 55 | AZN3: 56 | AZO3: 57 | AZP3: 58 | AZQ3: 59 | AZR3: 60 | AZS3: 61 | AZT3: 62 | AZU3: 63 | AZV3: 64 | AZW3: 65 | AZX3: 1 | AZY3: 2 | AZZ3: 3 | BAA3: 4 | BAB3: 5 | BAC3: 6 | BAD3: 7 | BAE3: 8 | BAF3: 9 | BAG3: 10 | BAH3: 11 | BAI3: 12 | BAJ3: 13 | BAK3: 14 | BAL3: 15 | BAM3: 16 | BAN3: 17 | BAO3: 18 | BAP3: 19 | BAQ3: 20 | BAR3: 21 | BAS3: 22 | BAT3: 23 | BAU3: 24 | BAV3: 25 | BAW3: 26 | BAX3: 27 | BAY3: 28 | BAZ3: 29 | BBA3: 30 | BBB3: 31 | BBC3: 32 | BBD3: 33 | BBE3: 34 | BBF3: 35 | BBG3: 36 | BBH3: 37 | BBI3: 38 | BBJ3: 39 | BBK3: 40 | BBL3: 41 | BBM3: 42 | BBN3: 43 | BBO3: 44 | BBP3: 45 | BBQ3: 46 | BBR3: 47 | BBS3: 48 | BBT3: 49 | BBU3: 50 | BBV3: 51 | BBW3: 52 | BBX3: 53 | BBY3: 54 | BBZ3: 55 | BCA3: 56 | BCB3: 57 | BCC3: 58 | BCD3: 59 | BCE3: 60 | BCF3: 61 | BCG3: 62 | BCH3: 63 | BCI3: 64 | BCJ3: 65 | BCK3: 1 | BCL3: 2 | BCM3: 3 | BCN3: 4 | BCO3: 5 | BCP3: 6 | BCQ3: 7 | BCR3: 8 | BCS3: 9 | BCT3: 10 | BCU3: 11 | BCV3: 12 | BCW3: 13 | BCX3: 14 | BCY3: 15 | BCZ3: 16 | BDA3: 17 | BDB3: 18 | BDC3: 19 | BDD3: 20 | BDE3: 21 | BDF3: 22 | BDG3: 23 | BDH3: 24 | BDI3: 25 | BDJ3: 26 | BDK3: 27 | BDL3: 28 | BDM3: 29 | BDN3: 30 | BDO3: 31 | BDP3: 32 | BDQ3: 33 | BDR3: 34 | BDS3: 35 | BDT3: 36 | BDU3: 37 | BDV3: 38 | BDW3: 39 | BDX3: 40 | BDY3: 41 | BDZ3: 42 | BEA3: 43 | BEB3: 44 | BEC3: 45 | BED3: 46 | BEE3: 47 | BEF3: 48 | BEG3: 49 | BEH3: 50 | BEI3: 51 | BEJ3: 52 | BEK3: 53 | BEL3: 54 | BEM3: 55 | BEN3: 56 | BEO3: 57 | BEP3: 58 | BEQ3: 59 | BER3: 60 | BES3: 61 | BET3: 62 | BEU3: 63 | BEV3: 64 | BEW3: 65 | BEX3: 1 | BEY3: 2 | BEZ3: 3 | BFA3: 4 | BFB3: 5 | BFC3: 6 | BFD3: 7 | BFE3: 8 | BFF3: 9 | BFG3: 10 | BFH3: 11 | BFI3: 12 | BFJ3: 13 | BFK3: 14 | BFL3: 15 | BFM3: 16 | BFN3: 17 | BFO3: 18 | BFP3: 19 | BFQ3: 20 | BFR3: 21 | BFS3: 22 | BFT3: 23 | BFU3: 24 | BFV3: 25 | BFW3: 26 | BFX3: 27 | BFY3: 28 | BFZ3: 29 | BGA3: 30 | BGB3: 31 | BGC3: 32 | BGD3: 33 | BGE3: 34 | BGF3: 35 | BGG3: 36 | BGH3: 37 | BGI3: 38 | BGJ3: 39 | BGK3: 40 | BGL3: 41 | BGM3: 42 | BGN3: 43 | BGO3: 44 | BGP3: 45 | BGQ3: 46 | BGR3: 47 | BGS3: 48 | BGT3: 49 | BGU3: 50 | BGV3: 51 | BGW3: 52 | BGX3: 53 | BGY3: 54 | BGZ3: 55 | BHA3: 56 | BHB3: 57 | BHC3: 58 | BHD3: 59 | BHE3: 60 | BHF3: 61 | BHG3: 62 | BHH3: 63 | BHI3: 64 | BHJ3: 65 | BHK3: 66 | BHL3: 67 | BHM3: 68 | BHN3: 1 | BHO3: 2 | BHP3: 3 | BHQ3: 4 | BHR3: 5 | BHS3: 6 | BHT3: 7 | BHU3: 8 | BHV3: 9 | BHW3: 10 | BHX3: 11 | BHY3: 12 | BHZ3: 13 | BIA3: 14 | BIB3: 15 | BIC3: 16 | BID3: 17 | BIE3: 18 | BIF3: 19 | BIG3: 20 | BIH3: 21 | BII3: 22 | BIJ3: 23 | BIK3: 24 | BIL3: 25 | BIM3: 26 | BIN3: 27 | BIO3: 28 | BIP3: 29 | BIQ3: 30 | BIR3: 31 | BIS3: 32 | BIT3: 33 | BIU3: 34 | BIV3: 35 | BIW3: 36 | BIX3: 37 | BIY3: 38 | BIZ3: 39 | BJA3: 40 | BJB3: 41 | BJC3: 42 | BJD3: 43 | BJE3: 44 | BJF3: 45 | BJG3: 46 | BJH3: 47 | BJI3: 48 | BJJ3: 49 | BJK3: 50 | BJL3: 51 | BJM3: 52 | BJN3: 53 | BJO3: 54 | BJP3: 55 | BJQ3: 56 | BJR3: 57 | BJS3: 58 | BJT3: 59 | BJU3: 60 | BJV3: 61 | BJW3: 62 | BJX3: 63 | BJY3: 64 | BJZ3: 65 | BKA3: 66 | BKB3: 67 | BKC3: 68 | BKD3: 1 | BKE3: 2 | BKF3: 3 | BKG3: 4 | BKH3: 5 | BKI3: 6 | BKJ3: 7 | BKK3: 8 | BKL3: 9 | BKM3: 10 | BKN3: 11 | BKO3: 12 | BKP3: 13 | BKQ3: 14 | BKR3: 15 | BKS3: 16 | BKT3: 17 | BKU3: 18 | BKV3: 19 | BKW3: 20 | BKX3: 21 | BKY3: 22 | BKZ3: 23 | BLA3: 24 | BLB3: 25 | BLC3: 26 | BLD3: 27 | BLE3: 28 | BLF3: 29 | BLG3: 30 | BLH3: 31 | BLI3: 32 | BLJ3: 33 | BLK3: 34 | BLL3: 35 | BLM3: 36 | BLN3: 37 | BLO3: 38 | BLP3: 39 | BLQ3: 40 | BLR3: 41 | BLS3: 42 | BLT3: 43 | BLU3: 44 | BLV3: 45 | BLW3: 46 | BLX3: 47 | BLY3: 48 | BLZ3: 49 | BMA3: 50 | BMB3: 51 | BMC3: 52 | BMD3: 53 | BME3: 54 | BMF3: 55 | BMG3: 56 | BMH3: 57 | BMI3: 58 | BMJ3: 59 | BMK3: 60 | BML3: 61 | BMM3: 62 | BMN3: 63 | BMO3: 64 | BMP3: 65 | BMQ3: 66 | BMR3: 67 | BMS3: 68 | BMT3: 1 | BMU3: 2 | BMV3: 3 | BMW3: 4 | BMX3: 5 | BMY3: 6 | BMZ3: 7 | BNA3: 8 | BNB3: 9 | BNC3: 10 | BND3: 11 | BNE3: 12 | BNF3: 13 | BNG3: 14 | BNH3: 15 | BNI3: 16 | BNJ3: 17 | BNK3: 18 | BNL3: 19 | BNM3: 20 | BNN3: 21 | BNO3: 22 | BNP3: 23 | BNQ3: 24 | BNR3: 25 | BNS3: 26 | BNT3: 27 | BNU3: 28 | BNV3: 29 | BNW3: 30 | BNX3: 31 | BNY3: 32 | BNZ3: 33 | BOA3: 34 | BOB3: 35 | BOC3: 36 | BOD3: 37 | BOE3: 38 | BOF3: 39 | BOG3: 40 | BOH3: 41 | BOI3: 42 | BOJ3: 43 | BOK3: 44 | BOL3: 45 | BOM3: 46 | BON3: 47 | BOO3: 48 | BOP3: 49 | BOQ3: 50 | BOR3: 51 | BOS3: 52 | BOT3: 53 | BOU3: 54 | BOV3: 55 | BOW3: 56 | BOX3: 57 | BOY3: 58 | BOZ3: 59 | BPA3: 60 | BPB3: 61 | BPC3: 62 | BPD3: 63 | BPE3: 64 | BPF3: 65 | BPG3: 66 | BPH3: 67 | BPI3: 68 | BPJ3: 1 | BPK3: 2 | BPL3: 3 | BPM3: 4 | BPN3: 5 | BPO3: 6 | BPP3: 7 | BPQ3: 8 | BPR3: 9 | BPS3: 10 | BPT3: 11 | BPU3: 12 | BPV3: 13 | BPW3: 14 | BPX3: 15 | BPY3: 16 | BPZ3: 17 | BQA3: 18 | BQB3: 19 | BQC3: 20 | BQD3: 21 | BQE3: 22 | BQF3: 23 | BQG3: 24 | BQH3: 25 | BQI3: 26 | BQJ3: 27 | BQK3: 28 | BQL3: 29 | BQM3: 30 | BQN3: 31 | BQO3: 32 | BQP3: 33 | BQQ3: 34 | BQR3: 35 | BQS3: 36 | BQT3: 37 | BQU3: 38 | BQV3: 39 | BQW3: 40 | BQX3: 41 | BQY3: 42 | BQZ3: 43 | BRA3: 44 | BRB3: 45 | BRC3: 46 | BRD3: 47 | BRE3: 48 | BRF3: 49 | BRG3: 50 | BRH3: 51 | BRI3: 52 | BRJ3: 53 | BRK3: 54 | BRL3: 55 | BRM3: 56 | BRN3: 57 | BRO3: 58 | BRP3: 59 | BRQ3: 60 | BRR3: 61 | BRS3: 62 | BRT3: 63 | BRU3: 64 | BRV3: 65 | BRW3: 66 | BRX3: 67 | BRY3: 68 | BRZ3: 1 | BSA3: 2 | BSB3: 3 | BSC3: 4 | BSD3: 5 | BSE3: 6 | BSF3: 7 | BSG3: 8 | BSH3: 9 | BSI3: 10 | BSJ3: 11 | BSK3: 12 | BSL3: 13 | BSM3: 14 | BSN3: 15 | BSO3: 16 | BSP3: 17 | BSQ3: 18 | BSR3: 19 | BSS3: 20 | BST3: 21 | BSU3: 22 | BSV3: 23 | BSW3: 24 | BSX3: 25 | BSY3: 26 | BSZ3: 27 | BTA3: 28 | BTB3: 29 | BTC3: 30 | BTD3: 31 | BTE3: 32 | BTF3: 33 | BTG3: 34 | BTH3: 35 | BTI3: 36 | BTJ3: 37 | BTK3: 38 | BTL3: 39 | BTM3: 40 | BTN3: 41 | BTO3: 42 | BTP3: 43 | BTQ3: 44 | BTR3: 45 | BTS3: 46 | BTT3: 47 | BTU3: 48 | BTV3: 49 | BTW3: 50 | BTX3: 51 | BTY3: 52 | BTZ3: 53 | BUA3: 54 | BUB3: 55 | BUC3: 56 | BUD3: 57 | BUE3: 58 | BUF3: 59 | BUG3: 60 | BUH3: 61 | BUI3: 62 | BUJ3: 63 | BUK3: 64 | BUL3: 65 | BUM3: 66 | BUN3: 67 | BUO3: 68 | BUP3: 1 | BUQ3: 2 | BUR3: 3 | BUS3: 4 | BUT3: 5 | BUU3: 6 | BUV3: 7 | BUW3: 8 | BUX3: 9 | BUY3: 10 | BUZ3: 11 | BVA3: 12 | BVB3: 13 | BVC3: 14 | BVD3: 15 | BVE3: 16 | BVF3: 17 | BVG3: 18 | BVH3: 19 | BVI3: 20 | BVJ3: 21 | BVK3: 22 | BVL3: 23 | BVM3: 24 | BVN3: 25 | BVO3: 26 | BVP3: 27 | BVQ3: 28 | BVR3: 29 | BVS3: 30 | BVT3: 31 | BVU3: 32 | BVV3: 33 | BVW3: 34 | BVX3: 35 | BVY3: 36 | BVZ3: 37 | BWA3: 38 | BWB3: 39 | BWC3: 40 | BWD3: 41 | BWE3: 42 | BWF3: 43 | BWG3: 44 | BWH3: 45 | BWI3: 46 | BWJ3: 47 | BWK3: 48 | BWL3: 49 | BWM3: 50 | BWN3: 51 | BWO3: 52 | BWP3: 53 | BWQ3: 54 | BWR3: 55 | BWS3: 56 | BWT3: 57 | BWU3: 58 | BWV3: 59 | BWW3: 60 | BWX3: 61 | BWY3: 62 | BWZ3: 63 | BXA3: 64 | BXB3: 65 | BXC3: 1 | BXD3: 2 | BXE3: 3 | BXF3: 4 | BXG3: 5 | BXH3: 6 | BXI3: 7 | BXJ3: 8 | BXK3: 9 | BXL3: 10 | BXM3: 11 | BXN3: 12 | BXO3: 13 | BXP3: 14 | BXQ3: 15 | BXR3: 16 | BXS3: 17 | BXT3: 18 | BXU3: 19 | BXV3: 20 | BXW3: 21 | BXX3: 22 | BXY3: 23 | BXZ3: 24 | BYA3: 25 | BYB3: 26 | BYC3: 27 | BYD3: 28 | BYE3: 29 | BYF3: 30 | BYG3: 31 | BYH3: 32 | BYI3: 33 | BYJ3: 34 | BYK3: 35 | BYL3: 36 | BYM3: 37 | BYN3: 38 | BYO3: 39 | BYP3: 40 | BYQ3: 41 | BYR3: 42 | BYS3: 43 | BYT3: 44 | BYU3: 45 | BYV3: 46 | BYW3: 47 | BYX3: 48 | BYY3: 49 | BYZ3: 50 | BZA3: 51 | BZB3: 52 | BZC3: 53 | BZD3: 54 | BZE3: 55 | BZF3: 56 | BZG3: 57 | BZH3: 58 | BZI3: 59 | BZJ3: 60 | BZK3: 61 | BZL3: 62 | BZM3: 63 | BZN3: 64 | BZO3: 65 | BZP3: 1 | BZQ3: 2 | BZR3: 3 | BZS3: 4 | BZT3: 5 | BZU3: 6 | BZV3: 7 | BZW3: 8 | BZX3: 9 | BZY3: 10 | BZZ3: 11 | CAA3: 12 | CAB3: 13 | CAC3: 14 | CAD3: 15 | CAE3: 16 | CAF3: 17 | CAG3: 18 | CAH3: 19 | CAI3: 20 | CAJ3: 21 | CAK3: 22 | CAL3: 23 | CAM3: 24 | CAN3: 25 | CAO3: 26 | CAP3: 27 | CAQ3: 28 | CAR3: 29 | CAS3: 30 | CAT3: 31 | CAU3: 32 | CAV3: 33 | CAW3: 34 | CAX3: 35 | CAY3: 36 | CAZ3: 37 | CBA3: 38 | CBB3: 39 | CBC3: 40 | CBD3: 41 | CBE3: 42 | CBF3: 43 | CBG3: 44 | CBH3: 45 | CBI3: 46 | CBJ3: 47 | CBK3: 48 | CBL3: 49 | CBM3: 50 | CBN3: 51 | CBO3: 52 | CBP3: 53 | CBQ3: 54 | CBR3: 55 | CBS3: 56 | CBT3: 57 | CBU3: 58 | CBV3: 59 | CBW3: 60 | CBX3: 61 | CBY3: 62 | CBZ3: 63 | CCA3: 64 | CCB3: 65 | CCC3: 1 | CCD3: 2 | CCE3: 3 | CCF3: 4 | CCG3: 5 | CCH3: 6 | CCI3: 7 | CCJ3: 8 | CCK3: 9 | CCL3: 10 | CCM3: 11 | CCN3: 12 | CCO3: 13 | CCP3: 14 | CCQ3: 15 | CCR3: 16 | CCS3: 17 | CCT3: 18 | CCU3: 19 | CCV3: 20 | CCW3: 21 | CCX3: 22 | CCY3: 23 | CCZ3: 24 | CDA3: 25 | CDB3: 26 | CDC3: 27 | CDD3: 28 | CDE3: 29 | CDF3: 30 | CDG3: 31 | CDH3: 32 | CDI3: 33 | CDJ3: 34 | CDK3: 35 | CDL3: 36 | CDM3: 37 | CDN3: 38 | CDO3: 39 | CDP3: 40 | CDQ3: 41 | CDR3: 42 | CDS3: 43 | CDT3: 44 | CDU3: 45 | CDV3: 46 | CDW3: 47 | CDX3: 48 | CDY3: 49 | CDZ3: 50 | CEA3: 51 | CEB3: 52 | CEC3: 53 | CED3: 54 | CEE3: 55 | CEF3: 56 | CEG3: 57 | CEH3: 58 | CEI3: 59 | CEJ3: 60 | CEK3: 61 | CEL3: 62 | CEM3: 63 | CEN3: 64 | CEO3: 65 | CEP3: 1 | CEQ3: 2 | CER3: 3 | CES3: 4 | CET3: 5 | CEU3: 6 | CEV3: 7 | CEW3: 8 | CEX3: 9 | CEY3: 10 | CEZ3: 11 | CFA3: 12 | CFB3: 13 | CFC3: 14 | CFD3: 15 | CFE3: 16 | CFF3: 17 | CFG3: 18 | CFH3: 19 | CFI3: 20 | CFJ3: 21 | CFK3: 22 | CFL3: 23 | CFM3: 24 | CFN3: 25 | CFO3: 26 | CFP3: 27 | CFQ3: 28 | CFR3: 29 | CFS3: 30 | CFT3: 31 | CFU3: 32 | CFV3: 33 | CFW3: 34 | CFX3: 35 | CFY3: 36 | CFZ3: 37 | CGA3: 38 | CGB3: 39 | CGC3: 40 | CGD3: 41 | CGE3: 42 | CGF3: 43 | CGG3: 44 | CGH3: 45 | CGI3: 46 | CGJ3: 47 | CGK3: 48 | CGL3: 49 | CGM3: 50 | CGN3: 51 | CGO3: 52 | CGP3: 53 | CGQ3: 54 | CGR3: 55 | CGS3: 56 | CGT3: 57 | CGU3: 58 | CGV3: 59 | CGW3: 60 | CGX3: 61 | CGY3: 62 | CGZ3: 63 | CHA3: 64 | CHB3: 65
A4: v, m/s | B4: T, K | E4: Cp | F4: Cp max | G4: Cp min | H4: k | I4: k max | J4: k min | K4: mu | L4: mu max | M4: mu min | N4: rho | O4: rho max | P4: rho min | Q4: hlv | R4: hlv máx | S4: hlv mín | T4: Tm | U4: Tm máx | V4: Tm mín | W4: Re(vsup_in) | X4: Pr | Y4: Re(vsup) | Z4: Re(vsup)máx | AA4: Re(vsup)mín | AB4: Nulv | AC4: Nulv máx | AD4: Nulv mín | AE4: Re(vporo) | AF4: Re(vporo)max | AG4: Re(vporo)min | AH4: h, W/(m2·K) | AI4: Pin, Pa | AJ4: PS_68, Pa | AK4: ∆P, Pa | AL4: Tair_PS, K | AM4: Tair_out, K | AN4: Tair_out_ext, K | AO4: m_in, kg/s | AP4: Diff_mair/2, kg/s | AQ4: HF, W | AR4: Awire, m2 | AS4: Vair+Extrus, m3 | AT4: mcpT_PS | DJ4: mcp_PS | FZ4: mcpv_PS | IP4: h_T | LC4: hlocal_T | NP4: HF_T | QC4: A_PS | SS4: Awires_T | VF4: vlocal_PS | XV4: vsup_PS | AAI4: P_PS | ACY4: mcpP_PS | AFO4: T_PS | AIE4: Vair_T | AKT4: Vtot_T | ANH4: P_T | APU4: SE_T | ASH4: dh_T | AUU4: Tm_PS | AXK4: hlv_T | AZX4: hl_T | BCK4: hSTAR_T | BEX4: rho_PS | BHN4: mu_PS | BKD4: k_PS | BMT4: cp_PS | BPJ4: Por2D_PS | BRZ4: vsup_PS | BUP4: Re(PS)_T(vsup) | BXC4: Pr(PS)_T | BZP4: Nulv_T | CCC4: Nul_T | CEP4: Re(PS)_T (vporo)
A5: 0.5 | B5: 700 | E5: =AVERAGE(BNA5:BNE5) -> 1073.4792 | F5: =MAX(BNA5:BNE5) -> 1074.135 | G5: =MIN(BNA5:BNE5) -> 1072.2637 | H5: =AVERAGE(BKK5:BKO5) -> 0.051991936 | I5: =MAX(BKK5:BKO5) -> 0.052142115 | J5: =MIN(BKK5:BKO5) -> 0.05171313 | K5: =AVERAGE(BHU5:BHY5) -> 3.3231795e-05 | L5: =MAX(BHU5:BHY5) -> 3.3312145e-05 | M5: =MIN(BHU5:BHY5) -> 3.3082575e-05 | N5: =AVERAGE(BFE5:BFI5) -> 0.50676237 | O5: =MAX(BFE5:BFI5) -> 0.51044745 | P5: =MIN(BFE5:BFI5) -> 0.50478496 | Q5: =AVERAGE(AXQ5:AXT5) -> 980672.85 | R5: =MAX(AXQ5:AXT5) -> 987329.59 | S5: =MIN(AXQ5:AXT5) -> 973578.37 | T5: =AVERAGE(AVB5:AVF5) -> 696.71934 | U5: =MAX(AVB5:AVF5) -> 699.43713 | V5: =MIN(AVB5:AVF5) -> 691.67814 | W5: =(N5*$A$5*$ASH$24)/K5 -> 5.5362152 | X5: =AVERAGE(BXI5:BXL5) -> 0.68614867 | Y5: =AVERAGE(BUV5:BUY5) -> 31.532906 | Z5: =MAX(BUV5:BUY5) -> 31.655136 | AA5: =MIN(BUV5:BUY5) -> 31.40093 | AB5: =AVERAGE(BZV5:BZY5) -> 9.9541401 | AC5: =MAX(BZV5:BZY5) -> 10.015077 | AD5: =MIN(BZV5:BZY5) -> 9.8960802 | AE5: =AVERAGE(CEV5:CEY5) -> 21.150066 | AF5: =MAX(CEV5:CEY5) -> 21.231393 | AG5: =MIN(CEV5:CEY5) -> 21.061763 | AH5: 6.050657 | AI5: 230.4487 | AJ5: =ACX5 -> -0.2733161 | AK5: =AI5-AJ5 -> 230.72202 | AL5: 700.0004 | AM5: 700.0009 | AN5: =AM5 -> 700.0009 | AO5: -3.133413e-06 | AP5: 1.271658e-09 | AQ5: -1.314144 | AR5: 0.0005429756 | AS5: 4.244629e-07 | AT5: -0.9388441 | AU5: -1.076361 | AV5: -1.467758 | AW5: -1.948972 | AX5: -2.164393 | AY5: -2.275662 | AZ5: -2.334991 | BA5: -2.367321 | BB5: -2.384629 | BC5: -2.392601 | BD5: -2.393698 | BE5: -2.398386 | BF5: -2.398436 | BG5: -2.397395 | BH5: -2.398571 | BI5: -2.398571 | BJ5: -2.396695 | BK5: -2.397679 | BL5: -2.399437 | BM5: -2.397859 | BN5: -2.397494 | BO5: -2.399047 | BP5: -2.398527 | BQ5: -2.399161 | BR5: -2.399559 | BS5: -2.401047 | BT5: -2.399743 | BU5: -2.398696 | BV5: -2.401943 | BW5: -2.399822 | BX5: -2.396576 | BY5: -2.399945 | BZ5: -2.401211 | CA5: -2.398739 | CB5: -2.397925 | CC5: -2.400809 | CD5: -2.398763 | CE5: -2.397984 | CF5: -2.398704 | CG5: -2.397734 | CH5: -2.396553 | CI5: -2.399455 | CJ5: -2.399255 | CK5: -2.399914 | CL5: -2.400548 | CM5: -2.3992 | CN5: -2.400635 | CO5: -2.398746 | CP5: -2.399698 | CQ5: -2.401659 | CR5: -2.398204 | CS5: -2.39808 | CT5: -2.399226 | CU5: -2.39732 | CV5: -2.397686 | CW5: -2.398908 | CX5: -2.398921 | CY5: -2.399245 | CZ5: -2.398823 | DA5: -2.399387 | DB5: -2.399067 | DC5: -2.398416 | DD5: -2.401887 | DE5: -2.399573 | DF5: -2.397628 | DG5: -2.398357 | DH5: -2.399486 | DI5: -2.395781 | DJ5: -0.00312948 | DK5: -0.003154534 | DL5: -0.003239375 | DM5: -0.003340448 | DN5: -0.003384446 | DO5: -0.003404916 | DP5: -0.003415029 | DQ5: -0.003422576 | DR5: -0.003427402 | DS5: -0.003428638 | DT5: -0.003424956 | DU5: -0.003429023 | DV5: -0.003427748 | DW5: -0.003425576 | DX5: -0.003426906 | DY5: -0.003426729 | DZ5: -0.003423959 | EA5: -0.003425319 | EB5: -0.003427807 | EC5: -0.003425541 | ED5: -0.003425013 | EE5: -0.003427228 | EF5: -0.003426484 | EG5: -0.003427389 | EH5: -0.003427957 | EI5: -0.003430083 | EJ5: -0.00342822 | EK5: -0.003426724 | EL5: -0.003431363 | EM5: -0.003428333 | EN5: -0.003423696 | EO5: -0.003428508 | EP5: -0.003430317 | EQ5: -0.003426786 | ER5: -0.003425623 | ES5: -0.003429743 | ET5: -0.00342682 | EU5: -0.003425707 | EV5: -0.003426736 | EW5: -0.00342535 | EX5: -0.003423662 | EY5: -0.003427809 | EZ5: -0.003427523 | FA5: -0.003428464 | FB5: -0.00342937 | FC5: -0.003427444 | FD5: -0.003429495 | FE5: -0.003426796 | FF5: -0.003428156 | FG5: -0.003430957 | FH5: -0.003426022 | FI5: -0.003425845 | FJ5: -0.003427482 | FK5: -0.003424758 | FL5: -0.003425281 | FM5: -0.003427028 | FN5: -0.003427046 | FO5: -0.003427509 | FP5: -0.003426906 | FQ5: -0.003427712 | FR5: -0.003427255 | FS5: -0.003426325 | FT5: -0.003431283 | FU5: -0.003427977 | FV5: -0.003425199 | FW5: -0.003426237 | FX5: -0.00342784 | FY5: -0.003422544 | FZ5: 0.00156474 | GA5: 0.002061471 | GB5: 0.004632337 | GC5: 0.007603867 | GD5: 0.008895056 | GE5: 0.009399594 | GF5: 0.009676311 | GG5: 0.009805247 | GH5: 0.009896803 | GI5: 0.009913516 | GJ5: 0.009932725 | GK5: 0.009938207 | GL5: 0.009950357 | GM5: 0.009938347 | GN5: 0.009956778 | GO5: 0.009944435 | GP5: 0.009943689 | GQ5: 0.009941322 | GR5: 0.009958219 | GS5: 0.009942654 | GT5: 0.009951352 | GU5: 0.009953396 | GV5: 0.009956945 | GW5: 0.009943667 | GX5: 0.009957858 | GY5: 0.009965332 | GZ5: 0.009958857 | HA5: 0.009946581 | HB5: 0.009978104 | HC5: 0.009956411 | HD5: 0.009948703 | HE5: 0.009952769 | HF5: 0.009976219 | HG5: 0.00995375 | HH5: 0.009957307 | HI5: 0.009962064 | HJ5: 0.009956923 | HK5: 0.00994877 | HL5: 0.009959754 | HM5: 0.009944764 | HN5: 0.009949835 | HO5: 0.009956386 | HP5: 0.009967292 | HQ5: 0.009957731 | HR5: 0.00997066 | HS5: 0.009958436 | HT5: 0.009975798 | HU5: 0.009958351 | HV5: 0.009971145 | HW5: 0.009974897 | HX5: 0.009963631 | HY5: 0.009961955 | HZ5: 0.009972041 | IA5: 0.009955597 | IB5: 0.009960958 | IC5: 0.009958661 | ID5: 0.009972231 | IE5: 0.009959826 | IF5: 0.00996745 | IG5: 0.009959698 | IH5: 0.009972115 | II5: 0.009959182 | IJ5: 0.009988239 | IK5: 0.009956486 | IL5: 0.009996788 | IM5: 0.0093111 | IN5: 0.006654505 | IO5: 0.005427922 | IP5: 238.3089 | IQ5: 144.3953 | IR5: 59.61244 | IS5: 30.38277 | IT5: 16.27168 | IU5: 8.382611 | IV5: 4.36186 | IW5: 2.202841 | IX5: 1.137542 | IY5: 0.5729851 | IZ5: 0.294799 | JA5: 0.1480982 | JB5: 0.07620714 | JC5: 0.03831339 | JD5: 0.01969707 | JE5: 0.009901553 | JF5: 0.005095839 | JG5: 0.002569635 | JH5: 0.001319879 | JI5: 0.000662864 | JJ5: 0.0003377352 | JK5: 0.0001707576 | JL5: 8.640889e-05 | JM5: 4.518737e-05 | JN5: 2.166557e-05 | JO5: 1.209176e-05 | JP5: 4.367765e-06 | JQ5: 4.373955e-06 | JR5: 7.470802e-08 | JS5: 2.118581e-06 | JT5: -3.854059e-07 | JU5: 1.697145e-06 | JV5: -9.730965e-07 | JW5: 1.466223e-06 | JX5: -7.803679e-07 | JY5: 1.137709e-06 | JZ5: -6.2809e-07 | KA5: 1.169528e-06 | KB5: -9.233944e-07 | KC5: 1.184269e-06 | KD5: -8.120193e-07 | KE5: 1.199344e-06 | KF5: -1.404502e-06 | KG5: 1.971206e-06 | KH5: -6.382258e-07 | KI5: 8.96511e-07 | KJ5: -1.372088e-06 | KK5: 9.325653e-07 | KL5: -6.808054e-07 | KM5: 1.291863e-06 | KN5: -8.845148e-07 | KO5: 1.158508e-06 | KP5: -9.389309e-07 | KQ5: 1.447544e-06 | KR5: -8.748926e-07 | KS5: 1.461214e-06 | KT5: -4.140562e-07 | KU5: 8.94483e-07 | KV5: 8.286579e-07 | KW5: 9.76827e-07 | KX5: -1.695492e-06 | KY5: 5.363115e-07 | KZ5: 7.866213e-06 | LA5: -4.408221e-05 | LB5: -0.0003013757 | LC5: 14789.93 | LD5: 17613.06 | LE5: 17668.61 | LF5: 17626.62 | LG5: 17704.19 | LH5: 17645.33 | LI5: 17695.1 | LJ5: 17708.57 | LK5: 17687.37 | LL5: 17646.23 | LM5: 17686.47 | LN5: 17722.56 | LO5: 17725.76 | LP5: 17663.3 | LQ5: 17743.69 | LR5: 17642.55 | LS5: 17708.71 | LT5: 17759.14 | LU5: 17720.71 | LV5: 17720.12 | LW5: 17688.23 | LX5: 17602.15 | LY5: 17727.39 | LZ5: 17658.04 | MA5: 17749.57 | MB5: 17661.26 | MC5: 17728.13 | MD5: 17701.24 | ME5: 17688.71 | MF5: 17678.28 | MG5: 17704.84 | MH5: 17636.27 | MI5: 17607.66 | MJ5: 17700.23 | MK5: 17695.38 | ML5: 17706.8 | MM5: 17674.73 | MN5: 17747.55 | MO5: 17688.77 | MP5: 17697.86 | MQ5: 17710.4 | MR5: 17637.54 | MS5: 17665.48 | MT5: 17686.14 | MU5: 17690.02 | MV5: 17654.79 | MW5: 17719.82 | MX5: 17664.89 | MY5: 17696.79 | MZ5: 17704.37 | NA5: 17658.84 | NB5: 17671.38 | NC5: 17619.02 | ND5: 17720.87 | NE5: 17694 | NF5: 17756.28 | NG5: 17680.3 | NH5: 17673.29 | NI5: 17692.76 | NJ5: 17723.15 | NK5: 17712.35 | NL5: 17687.11 | NM5: 17650.06 | NN5: 17751.83 | NO5: 14899.23 | NP5: -0.4051323 | NQ5: -0.4898174 | NR5: -0.2023531 | NS5: -0.1030476 | NT5: -0.05524647 | NU5: -0.02842284 | NV5: -0.01480783 | NW5: -0.007470055 | NX5: -0.003863262 | NY5: -0.001942312 | NZ5: -0.001001476 | OA5: -0.0005024158 | OB5: -0.0002587612 | OC5: -0.000130064 | OD5: -6.683017e-05 | OE5: -3.360104e-05 | OF5: -1.728045e-05 | OG5: -8.718486e-06 | OH5: -4.479402e-06 | OI5: -2.248972e-06 | OJ5: -1.14578e-06 | OK5: -5.79938e-07 | OL5: -2.93265e-07 | OM5: -1.533045e-07 | ON5: -7.351267e-08 | OO5: -4.104203e-08 | OP5: -1.482002e-08 | OQ5: -1.483788e-08 | OR5: -2.536679e-10 | OS5: -7.185427e-09 | OT5: 1.309027e-09 | OU5: -5.754456e-09 | OV5: 3.303315e-09 | OW5: -4.973413e-09 | OX5: 2.649902e-09 | OY5: -3.860378e-09 | OZ5: 2.130488e-09 | PA5: -3.969364e-09 | PB5: 3.134268e-09 | PC5: -4.01809e-09 | PD5: 2.756997e-09 | PE5: -4.068547e-09 | PF5: 4.762701e-09 | PG5: -6.691627e-09 | PH5: 2.168169e-09 | PI5: -3.040571e-09 | PJ5: 4.653111e-09 | PK5: -3.164758e-09 | PL5: 2.3125e-09 | PM5: -4.384244e-09 | PN5: 3.000332e-09 | PO5: -3.928358e-09 | PP5: 3.186828e-09 | PQ5: -4.912215e-09 | PR5: 2.969857e-09 | PS5: -4.958479e-09 | PT5: 1.403818e-09 | PU5: -3.040836e-09 | PV5: -2.810755e-09 | PW5: -3.313935e-09 | PX5: 5.750236e-09 | PY5: -1.819773e-09 | PZ5: -2.668664e-08 | QA5: 1.496105e-07 | QB5: 5.122033e-07 | QC5: 5.3138e-06 | QD5: 5.313073e-06 | QE5: 3.564746e-06 | QF5: 3.563904e-06 | QG5: 3.564277e-06 | QH5: 3.563944e-06 | QI5: 3.564572e-06 | QJ5: 3.563686e-06 | QK5: 3.564496e-06 | QL5: 3.563536e-06 | QM5: 3.564789e-06 | QN5: 3.563678e-06 | QO5: 3.564551e-06 | QP5: 3.563844e-06 | QQ5: 3.564489e-06 | QR5: 3.564108e-06 | QS5: 3.564233e-06 | QT5: 3.563812e-06 | QU5: 3.564622e-06 | QV5: 3.563678e-06 | QW5: 3.564567e-06 | QX5: 3.563854e-06 | QY5: 3.564945e-06 | QZ5: 3.563902e-06 | RA5: 3.564379e-06 | RB5: 3.56368e-06 | RC5: 3.56441e-06 | RD5: 3.563731e-06 | RE5: 3.564607e-06 | RF5: 3.563858e-06 | RG5: 3.564898e-06 | RH5: 3.563768e-06 | RI5: 3.564858e-06 | RJ5: 3.563818e-06 | RK5: 3.564644e-06 | RL5: 3.563827e-06 | RM5: 3.564439e-06 | RN5: 3.563753e-06 | RO5: 3.564478e-06 | RP5: 3.563875e-06 | RQ5: 3.564676e-06 | RR5: 3.563739e-06 | RS5: 3.564813e-06 | RT5: 3.564007e-06 | RU5: 3.564467e-06 | RV5: 3.563828e-06 | RW5: 3.56441e-06 | RX5: 3.563801e-06 | RY5: 3.564509e-06 | RZ5: 3.563911e-06 | SA5: 3.564838e-06 | SB5: 3.564055e-06 | SC5: 3.56489e-06 | SD5: 3.563696e-06 | SE5: 3.564462e-06 | SF5: 3.563648e-06 | SG5: 3.564393e-06 | SH5: 3.563573e-06 | SI5: 3.564398e-06 | SJ5: 3.563694e-06 | SK5: 3.564613e-06 | SL5: 3.56382e-06 | SM5: 3.564606e-06 | SN5: 3.563718e-06 | SO5: 3.564525e-06 | SP5: 3.563732e-06 | SQ5: 5.312049e-06 | SR5: 5.3138e-06 | SS5: 4.250076e-06 | ST5: 8.480496e-06 | SU5: 8.486196e-06 | SV5: 8.479113e-06 | SW5: 8.488132e-06 | SX5: 8.476726e-06 | SY5: 8.487105e-06 | SZ5: 8.477749e-06 | TA5: 8.490375e-06 | TB5: 8.474531e-06 | TC5: 8.49287e-06 | TD5: 8.481126e-06 | TE5: 8.488744e-06 | TF5: 8.486854e-06 | TG5: 8.482247e-06 | TH5: 8.483779e-06 | TI5: 8.477727e-06 | TJ5: 8.482223e-06 | TK5: 8.484495e-06 | TL5: 8.482029e-06 | TM5: 8.481351e-06 | TN5: 8.490662e-06 | TO5: 8.484803e-06 | TP5: 8.4816e-06 | TQ5: 8.482663e-06 | TR5: 8.485535e-06 | TS5: 8.482609e-06 | TT5: 8.480812e-06 | TU5: 8.488644e-06 | TV5: 8.479058e-06 | TW5: 8.491222e-06 | TX5: 8.47667e-06 | TY5: 8.486607e-06 | TZ5: 8.479972e-06 | UA5: 8.489271e-06 | UB5: 8.48279e-06 | UC5: 8.480025e-06 | UD5: 8.484971e-06 | UE5: 8.485724e-06 | UF5: 8.482219e-06 | UG5: 8.488091e-06 | UH5: 8.480776e-06 | UI5: 8.47756e-06 | UJ5: 8.486718e-06 | UK5: 8.492953e-06 | UL5: 8.478901e-06 | UM5: 8.478159e-06 | UN5: 8.484012e-06 | UO5: 8.491781e-06 | UP5: 8.484347e-06 | UQ5: 8.480165e-06 | UR5: 8.477189e-06 | US5: 8.485257e-06 | UT5: 8.483706e-06 | UU5: 8.486348e-06 | UV5: 8.483493e-06 | UW5: 8.476009e-06 | UX5: 8.498865e-06 | UY5: 8.479842e-06 | UZ5: 8.481377e-06 | VA5: 8.478713e-06 | VB5: 8.482819e-06 | VC5: 8.481413e-06 | VD5: 8.484743e-06 | VE5: 4.248877e-06 | VF5: 0.5000001 | VG5: 0.6022826 | VH5: 1.220799 | VI5: 1.637132 | VJ5: 1.766606 | VK5: 1.834401 | VL5: 1.872175 | VM5: 1.89828 | VN5: 1.90577 | VO5: 1.914693 | VP5: 1.911837 | VQ5: 1.91879 | VR5: 1.914972 | VS5: 1.918111 | VT5: 1.915273 | VU5: 1.918835 | VV5: 1.914323 | VW5: 1.918776 | VX5: 1.916207 | VY5: 1.919338 | VZ5: 1.915183 | WA5: 1.920068 | WB5: 1.915738 | WC5: 1.920274 | WD5: 1.917015 | WE5: 1.921688 | WF5: 1.917078 | WG5: 1.920024 | WH5: 1.918341 | WI5: 1.920722 | WJ5: 1.914684 | WK5: 1.921462 | WL5: 1.918086 | WM5: 1.920473 | WN5: 1.916381 | WO5: 1.922515 | WP5: 1.917142 | WQ5: 1.920824 | WR5: 1.917199 | WS5: 1.920334 | WT5: 1.915853 | WU5: 1.921834 | WV5: 1.917529 | WW5: 1.921667 | WX5: 1.918844 | WY5: 1.921869 | WZ5: 1.918849 | XA5: 1.921359 | XB5: 1.918653 | XC5: 1.923608 | XD5: 1.917151 | XE5: 1.921141 | XF5: 1.918151 | XG5: 1.921075 | XH5: 1.917484 | XI5: 1.92269 | XJ5: 1.918521 | XK5: 1.923105 | XL5: 1.918776 | XM5: 1.922676 | XN5: 1.918948 | XO5: 1.922172 | XP5: 1.921178 | XQ5: 1.9231 | XR5: 1.92078 | XS5: 1.870901 | XT5: 1.198915 | XU5: 1.180418 | XV5: - | XW5: - | XX5: - | XY5: - | XZ5: - | YA5: - | YB5: - | YC5: - | YD5: - | YE5: - | YF5: - | YG5: - | YH5: - | YI5: - | YJ5: - | YK5: - | YL5: - | YM5: - | YN5: - | YO5: - | YP5: - | YQ5: - | YR5: - | YS5: - | YT5: - | YU5: - | YV5: - | YW5: - | YX5: - | YY5: - | YZ5: - | ZA5: - | ZB5: - | ZC5: - | ZD5: - | ZE5: - | ZF5: - | ZG5: - | ZH5: - | ZI5: - | ZJ5: - | ZK5: - | ZL5: - | ZM5: - | ZN5: - | ZO5: - | ZP5: - | ZQ5: - | ZR5: - | ZS5: - | ZT5: - | ZU5: - | ZV5: - | ZW5: - | ZX5: - | ZY5: - | ZZ5: - | AAA5: - | AAB5: - | AAC5: - | AAD5: - | AAE5: - | AAF5: - | AAG5: - | AAH5: - | AAI5: 230.4488 | AAJ5: 230.3605 | AAK5: 229.042 | AAL5: 225.2229 | AAM5: 221.4404 | AAN5: 217.8256 | AAO5: 214.2039 | AAP5: 210.5811 | AAQ5: 206.9465 | AAR5: 203.3168 | AAS5: 199.6688 | AAT5: 196.0383 | AAU5: 192.396 | AAV5: 188.7615 | AAW5: 185.1129 | AAX5: 181.4818 | AAY5: 177.8363 | AAZ5: 174.1957 | ABA5: 170.5493 | ABB5: 166.9157 | ABC5: 163.262 | ABD5: 159.6258 | ABE5: 155.9801 | ABF5: 152.3413 | ABG5: 148.6892 | ABH5: 145.0572 | ABI5: 141.409 | ABJ5: 137.7704 | ABK5: 134.1237 | ABL5: 130.4867 | ABM5: 126.8383 | ABN5: 123.2001 | ABO5: 119.5493 | ABP5: 115.9149 | ABQ5: 112.261 | ABR5: 108.6236 | ABS5: 104.9758 | ABT5: 101.3328 | ABU5: 97.68014 | ABV5: 94.04384 | ABW5: 90.39078 | ABX5: 86.74502 | ABY5: 83.098 | ABZ5: 79.46095 | ACA5: 75.80489 | ACB5: 72.16752 | ACC5: 68.5197 | ACD5: 64.87973 | ACE5: 61.22777 | ACF5: 57.58908 | ACG5: 53.93826 | ACH5: 50.29494 | ACI5: 46.641 | ACJ5: 43.00635 | ACK5: 39.34892 | ACL5: 35.70731 | ACM5: 32.05625 | ACN5: 28.41268 | ACO5: 24.75954 | ACP5: 21.12225 | ACQ5: 17.46876 | ACR5: 13.82608 | ACS5: 10.17604 | ACT5: 6.536553 | ACU5: 2.856021 | ACV5: -0.4453607 | ACW5: -0.4824373 | ACX5: -0.2733161 | ACY5: -0.7211848 | ACZ5: -0.7265595 | ADA5: -0.7419181 | ADB5: -0.7518847 | ADC5: -0.7489992 | ADD5: -0.7412481 | ADE5: -0.7310311 | ADF5: -0.7202603 | ADG5: -0.7087946 | ADH5: -0.6966511 | ADI5: -0.6833518 | ADJ5: -0.6717547 | ADK5: -0.6589991 | ADL5: -0.6461643 | ADM5: -0.6338796 | ADN5: -0.6214443 | ADO5: -0.6084401 | ADP5: -0.5962184 | ADQ5: -0.5841271 | ADR5: -0.5713347 | ADS5: -0.5586811 | ADT5: -0.5465993 | ADU5: -0.533973 | ADV5: -0.521665 | ADW5: -0.50919 | ADX5: -0.4970906 | ADY5: -0.484292 | ADZ5: -0.4716281 | AEA5: -0.4597342 | AEB5: -0.4468969 | AEC5: -0.4337741 | AED5: -0.4219317 | AEE5: -0.4096039 | AEF5: -0.3967773 | AEG5: -0.3840735 | AEH5: -0.3720988 | AEI5: -0.3592622 | AEJ5: -0.3466753 | AEK5: -0.3342342 | AEL5: -0.321677 | AEM5: -0.3089803 | AEN5: -0.2968593 | AEO5: -0.2843257 | AEP5: -0.2719685 | AEQ5: -0.2594542 | AER5: -0.2468773 | AES5: -0.2345009 | AET5: -0.2218706 | AEU5: -0.2094036 | AEV5: -0.1971344 | AEW5: -0.1843229 | AEX5: -0.1718377 | AEY5: -0.1593651 | AEZ5: -0.1468455 | AFA5: -0.1342867 | AFB5: -0.1219064 | AFC5: -0.1093687 | AFD5: -0.09691447 | AFE5: -0.08434412 | AFF5: -0.07193956 | AFG5: -0.05937756 | AFH5: -0.04689719 | AFI5: -0.03441564 | AFJ5: -0.02196036 | AFK5: -0.009236364 | AFL5: 0.001403458 | AFM5: 0.001350855 | AFN5: 0.0008392958 | AFO5: 300 | AFP5: 383.3647 | AFQ5: 505.0856 | AFR5: 630.4507 | AFS5: 663.9508 | AFT5: 681.0554 | AFU5: 690.2368 | AFV5: 694.9751 | AFW5: 697.4395 | AFX5: 698.6867 | AFY5: 699.3362 | AFZ5: 699.6594 | AGA5: 699.8265 | AGB5: 699.9107 | AGC5: 699.954 | AGD5: 699.9757 | AGE5: 699.9869 | AGF5: 699.9925 | AGG5: 699.9954 | AGH5: 699.9969 | AGI5: 699.9976 | AGJ5: 699.998 | AGK5: 699.9982 | AGL5: 699.9983 | AGM5: 699.9984 | AGN5: 699.9984 | AGO5: 699.9984 | AGP5: 699.9984 | AGQ5: 699.9984 | AGR5: 699.9984 | AGS5: 699.9984 | AGT5: 699.9984 | AGU5: 699.9984 | AGV5: 699.9984 | AGW5: 699.9984 | AGX5: 699.9984 | AGY5: 699.9984 | AGZ5: 699.9984 | AHA5: 699.9984 | AHB5: 699.9984 | AHC5: 699.9984 | AHD5: 699.9984 | AHE5: 699.9984 | AHF5: 699.9984 | AHG5: 699.9984 | AHH5: 699.9984 | AHI5: 699.9984 | AHJ5: 699.9984 | AHK5: 699.9984 | AHL5: 699.9984 | AHM5: 699.9984 | AHN5: 699.9984 | AHO5: 699.9984 | AHP5: 699.9984 | AHQ5: 699.9984 | AHR5: 699.9984 | AHS5: 699.9984 | AHT5: 699.9984 | AHU5: 699.9984 | AHV5: 699.9984 | AHW5: 699.9984 | AHX5: 699.9984 | AHY5: 699.9984 | AHZ5: 699.9984 | AIA5: 699.9984 | AIB5: 699.9985 | AIC5: 699.9999 | AID5: 700.0004 | AIE5: 1.487821e-08 | AIF5: 1.706871e-09 | AIG5: 1.533098e-09 | AIH5: 1.535107e-09 | AII5: 1.544418e-09 | AIJ5: 1.538454e-09 | AIK5: 1.537338e-09 | AIL5: 1.539846e-09 | AIM5: 1.545049e-09 | AIN5: 1.538162e-09 | AIO5: 1.54002e-09 | AIP5: 1.546323e-09 | AIQ5: 1.539177e-09 | AIR5: 1.539849e-09 | AIS5: 1.544598e-09 | AIT5: 1.540474e-09 | AIU5: 1.535758e-09 | AIV5: 1.541425e-09 | AIW5: 1.544385e-09 | AIX5: 1.532412e-09 | AIY5: 1.534507e-09 | AIZ5: 1.545736e-09 | AJA5: 1.536229e-09 | AJB5: 1.536519e-09 | AJC5: 1.542486e-09 | AJD5: 1.540706e-09 | AJE5: 1.541041e-09 | AJF5: 1.539855e-09 | AJG5: 1.545202e-09 | AJH5: 1.540445e-09 | AJI5: 1.538049e-09 | AJJ5: 1.546304e-09 | AJK5: 1.54086e-09 | AJL5: 1.538296e-09 | AJM5: 1.537653e-09 | AJN5: 1.54458e-09 | AJO5: 1.535618e-09 | AJP5: 1.534858e-09 | AJQ5: 1.544094e-09 | AJR5: 1.537588e-09 | AJS5: 1.532761e-09 | AJT5: 1.543435e-09 | AJU5: 1.542641e-09 | AJV5: 1.538819e-09 | AJW5: 1.538554e-09 | AJX5: 1.54625e-09 | AJY5: 1.54077e-09 | AJZ5: 1.540136e-09 | AKA5: 1.545467e-09 | AKB5: 1.539233e-09 | AKC5: 1.53761e-09 | AKD5: 1.541235e-09 | AKE5: 1.544247e-09 | AKF5: 1.53395e-09 | AKG5: 1.537008e-09 | AKH5: 1.54387e-09 | AKI5: 1.534986e-09 | AKJ5: 1.535187e-09 | AKK5: 1.543453e-09 | AKL5: 1.540749e-09 | AKM5: 1.537907e-09 | AKN5: 1.540307e-09 | AKO5: 1.545626e-09 | AKP5: 1.539753e-09 | AKQ5: 1.537006e-09 | AKR5: 1.710984e-09 | AKT5: =P80_C3_LAMINAR!$B$1*P80_C3_LAMINAR!$B$3 -> 1.487864e-08 | AKU5: =P80_C3_LAMINAR!$B$1*(P80_C3_LAMINAR!$B$2) -> 2.12552e-09 | AKV5: =P80_C3_LAMINAR!$B$1*($D$2) -> 2.39121e-09 | AKW5: =P80_C3_LAMINAR!$B$1*($D$2) -> 2.39121e-09 | AKX5: =P80_C3_LAMINAR!$B$1*($D$2) -> 2.39121e-09 | AKY5: =P80_C3_LAMINAR!$B$1*($D$2) -> 2.39121e-09 | AKZ5: =P80_C3_LAMINAR!$B$1*($D$2) -> 2.39121e-09 | ALA5: =P80_C3_LAMINAR!$B$1*($D$2) -> 2.39121e-09 | ALB5: =P80_C3_LAMINAR!$B$1*($D$2) -> 2.39121e-09 | ALC5: =P80_C3_LAMINAR!$B$1*($D$2) -> 2.39121e-09 | ... ANF5: =P80_C3_LAMINAR!$B$1*($D$2) -> 2.39121e-09 | ANG5: =P80_C3_LAMINAR!$B$1*($B$2) -> 2.12552e-09 | ANH5: =AIF5/(AKU5)*100 -> 80.30369 | ANI5: =AIG5/(AKV5)*100 -> 64.1139 | ANJ5: =AIH5/(AKW5)*100 -> 64.197917 | ANK5: =AII5/(AKX5)*100 -> 64.587301 | ANL5: =AIJ5/(AKY5)*100 -> 64.337888 | ANM5: =AIK5/(AKZ5)*100 -> 64.291217 | ANN5: =AIL5/(ALA5)*100 -> 64.396101 | ANO5: =AIM5/(ALB5)*100 -> 64.613689 | ... APT5: =AKR5/(ANG5)*100 -> 80.497196 | APU5: =SS5/AKU5 -> 1999.5465 | APV5: =ST5/AKV5 -> 3546.5292 | APW5: =SU5/AKW5 -> 3548.9129 | APX5: =SV5/AKX5 -> 3545.9508 | APY5: =SW5/AKY5 -> 3549.7225 | APZ5: =SX5/AKZ5 -> 3544.9526 | AQA5: =SY5/ALA5 -> 3549.293 | AQB5: =SZ5/ALB5 -> 3545.3804 | ... ASG5: =VE5/ANG5 -> 1998.9824 | ASH5: =4*(ANH5/100)/APU5 -> 0.0016064381 | ASI5: =4*(ANI5/100)/APV5 -> 0.00072311714 | ASJ5: =4*(ANJ5/100)/APW5 -> 0.00072357839 | ASK5: =4*(ANK5/100)/APX5 -> 0.00072857526 | ASL5: =4*(ANL5/100)/APY5 -> 0.00072499061 | ASM5: =4*(ANM5/100)/APZ5 -> 0.00072543952 | ASN5: =4*(ANN5/100)/AQA5 -> 0.00072573439 | ASO5: =4*(ANO5/100)/AQB5 -> 0.00072899021 | ... AUT5: =4*(APT5/100)/ASG5 -> 0.0016107635 | AUU5: =AT5/DJ5 -> 300.00003 | AUV5: =AU5/DK5 -> 341.21078 | AUW5: =AV5/DL5 -> 453.09913 | AUX5: =AW5/DM5 -> 583.44629 | AUY5: =AX5/DN5 -> 639.51175 | AUZ5: =AY5/DO5 -> 668.346 | AVA5: =AZ5/DP5 -> 683.73973 | AVB5: =BA5/DQ5 -> 691.67814 | ... AXJ5: =DI5/FY5 -> 700.00006 | AXK5: =-NP5/(AKU5*($B$5-AVERAGE(AUV5:AUW5))) -> 629377.48 | AXL5: =-NQ5/(AKV5*($B$5-AVERAGE(AUW5:AUX5))) -> 1127188 | AXM5: =-NR5/(AKW5*($B$5-AVERAGE(AUX5:AUY5))) -> 955973.71 | AXN5: =-NS5/(AKX5*($B$5-AVERAGE(AUY5:AUZ5))) -> 935387.11 | AXO5: =-NT5/(AKY5*($B$5-AVERAGE(AUZ5:AVA5))) -> 964388.33 | AXP5: =-NU5/(AKZ5*($B$5-AVERAGE(AVA5:AVB5))) -> 967075.09 | AXQ5: =-NV5/(ALA5*($B$5-AVERAGE(AVB5:AVC5))) -> 985475.57 | AXR5: =-NW5/(ALB5*($B$5-AVERAGE(AVC5:AVD5))) -> 973578.37 | ... AZW5: =-QB5/(ANG5*($B$5-AVERAGE(AXH5:AXI5))) -> -151507.92 | AZX5: =-NP5/(SS5*($B$5-AVERAGE(AUU5:AUV5))) -> 251.25171 | AZY5: =-NQ5/(ST5*($B$5-AVERAGE(AUV5:AUW5))) -> 190.71835 | AZZ5: =-NR5/(SU5*($B$5-AVERAGE(AUW5:AUX5))) -> 131.21294 | BAA5: =-NS5/(SV5*($B$5-AVERAGE(AUX5:AUY5))) -> 137.29075 | BAB5: =-NT5/(SW5*($B$5-AVERAGE(AUY5:AUZ5))) -> 141.27445 | BAC5: =-NU5/(SX5*($B$5-AVERAGE(AUZ5:AVA5))) -> 139.96017 | BAD5: =-NV5/(SY5*($B$5-AVERAGE(AVA5:AVB5))) -> 141.95225 | BAE5: =-NW5/(SZ5*($B$5-AVERAGE(AVB5:AVC5))) -> 140.22176 | ... BCJ5: =-QB5/(VE5*($B$5-AVERAGE(AXG5:AXH5))) -> -40.887506 | BCK5: =-NP5/(SS5*($B$5-300)) -> 238.30886 | BCL5: =-NQ5/(ST5*($B$5-300)) -> 144.39527 | BCM5: =-NR5/(SU5*($B$5-300)) -> 59.612428 | BCN5: =-NS5/(SV5*($B$5-300)) -> 30.382777 | BCO5: =-NT5/(SW5*($B$5-300)) -> 16.271681 | BCP5: =-NU5/(SX5*($B$5-300)) -> 8.3826114 | BCQ5: =-NV5/(SY5*($B$5-300)) -> 4.3618613 | BCR5: =-NW5/(SZ5*($B$5-300)) -> 2.2028415 | ... BEW5: =-QB5/(VE5*($B$5-300)) -> -0.00030137569 | BEX5: =101325*0.02897/(8.314*AUU5) -> 1.1768843 | BEY5: =101325*0.02897/(8.314*AUV5) -> 1.0347426 | BEZ5: =101325*0.02897/(8.314*AUW5) -> 0.77922317 | BFA5: =101325*0.02897/(8.314*AUX5) -> 0.60513769 | BFB5: =101325*0.02897/(8.314*AUY5) -> 0.55208577 | BFC5: =101325*0.02897/(8.314*AUZ5) -> 0.5282673 | BFD5: =101325*0.02897/(8.314*AVA5) -> 0.51637389 | BFE5: =101325*0.02897/(8.314*AVB5) -> 0.51044745 | ... BHM5: =101325*0.02897/(8.314*AXJ5) -> 0.50437902 | BHN5: =+(-0.000000838278+0.0000000835717342*(AUU5)-0.0000000000769429583*(AUU5)^2+ 4.6437266E-14*(AUU5)^3-1.06585607E-17*(AUU5)^4) -> 1.8475849e-05 | BHO5: =+(-0.000000838278+0.0000000835717342*(AUV5)-0.0000000000769429583*(AUV5)^2+ 4.6437266E-14*(AUV5)^3-1.06585607E-17*(AUV5)^4) -> 2.0419495e-05 | BHP5: =+(-0.000000838278+0.0000000835717342*(AUW5)-0.0000000000769429583*(AUW5)^2+ 4.6437266E-14*(AUW5)^3-1.06585607E-17*(AUW5)^4) -> 2.5102098e-05 | BHQ5: =+(-0.000000838278+0.0000000835717342*(AUX5)-0.0000000000769429583*(AUX5)^2+ 4.6437266E-14*(AUX5)^3-1.06585607E-17*(AUX5)^4) -> 2.9717059e-05 | BHR5: =+(-0.000000838278+0.0000000835717342*(AUY5)-0.0000000000769429583*(AUY5)^2+ 4.6437266E-14*(AUY5)^3-1.06585607E-17*(AUY5)^4) -> 3.1501713e-05 | BHS5: =+(-0.000000838278+0.0000000835717342*(AUZ5)-0.0000000000769429583*(AUZ5)^2+ 4.6437266E-14*(AUZ5)^3-1.06585607E-17*(AUZ5)^4) -> 3.2383926e-05 | BHT5: =+(-0.000000838278+0.0000000835717342*(AVA5)-0.0000000000769429583*(AVA5)^2+ 4.6437266E-14*(AVA5)^3-1.06585607E-17*(AVA5)^4) -> 3.2846302e-05 | BHU5: =+(-0.000000838278+0.0000000835717342*(AVB5)-0.0000000000769429583*(AVB5)^2+ 4.6437266E-14*(AVB5)^3-1.06585607E-17*(AVB5)^4) -> 3.3082575e-05 | ... BKC5: =+(-0.000000838278+0.0000000835717342*(AXJ5)-0.0000000000769429583*(AXJ5)^2+ 4.6437266E-14*(AXJ5)^3-1.06585607E-17*(AXJ5)^4) -> 3.332875e-05 | BKD5: =+(-0.00227583562+0.000115480022*(AUU5)-0.0000000790252856*(AUU5)^2+0.0000000000411702505*(AUU5)^3-7.43864331E-15*(AUU5)^4) -> 0.026307242 | BKE5: =+(-0.00227583562+0.000115480022*(AUV5)-0.0000000790252856*(AUV5)^2+0.0000000000411702505*(AUV5)^3-7.43864331E-15*(AUV5)^4) -> 0.029461365 | BKF5: =+(-0.00227583562+0.000115480022*(AUW5)-0.0000000790252856*(AUW5)^2+0.0000000000411702505*(AUW5)^3-7.43864331E-15*(AUW5)^4) -> 0.037340429 | BKG5: =+(-0.00227583562+0.000115480022*(AUX5)-0.0000000790252856*(AUX5)^2+0.0000000000411702505*(AUX5)^3-7.43864331E-15*(AUX5)^4) -> 0.045514463 | BKH5: =+(-0.00227583562+0.000115480022*(AUY5)-0.0000000790252856*(AUY5)^2+0.0000000000411702505*(AUY5)^3-7.43864331E-15*(AUY5)^4) -> 0.048779267 | BKI5: =+(-0.00227583562+0.000115480022*(AUZ5)-0.0000000790252856*(AUZ5)^2+0.0000000000411702505*(AUZ5)^3-7.43864331E-15*(AUZ5)^4) -> 0.050412044 | BKJ5: =+(-0.00227583562+0.000115480022*(AVA5)-0.0000000790252856*(AVA5)^2+0.0000000000411702505*(AVA5)^3-7.43864331E-15*(AVA5)^4) -> 0.051272361 | BKK5: =+(-0.00227583562+0.000115480022*(AVB5)-0.0000000790252856*(AVB5)^2+0.0000000000411702505*(AVB5)^3-7.43864331E-15*(AVB5)^4) -> 0.05171313 | ... BMS5: =+(-0.00227583562+0.000115480022*(AXJ5)-0.0000000790252856*(AXJ5)^2+0.0000000000411702505*(AXJ5)^3-7.43864331E-15*(AXJ5)^4) -> 0.052173171 | BMT5: =+(1047.63657-0.372589265*(AUU5)+0.000945304214*(AUU5)^2-0.000000602409443*(AUU5)^3+0.00000000012858961*(AUU5)^4) -> 1005.7137 | BMU5: =+(1047.63657-0.372589265*(AUV5)+0.000945304214*(AUV5)^2-0.000000602409443*(AUV5)^3+0.00000000012858961*(AUV5)^4) -> 1008.374 | BMV5: =+(1047.63657-0.372589265*(AUW5)+0.000945304214*(AUW5)^2-0.000000602409443*(AUW5)^3+0.00000000012858961*(AUW5)^4) -> 1022.2697 | BMW5: =+(1047.63657-0.372589265*(AUX5)+0.000945304214*(AUX5)^2-0.000000602409443*(AUX5)^3+0.00000000012858961*(AUX5)^4) -> 1047.2972 | BMX5: =+(1047.63657-0.372589265*(AUY5)+0.000945304214*(AUY5)^2-0.000000602409443*(AUY5)^3+0.00000000012858961*(AUY5)^4) -> 1059.9185 | BMY5: =+(1047.63657-0.372589265*(AUZ5)+0.000945304214*(AUZ5)^2-0.000000602409443*(AUZ5)^3+0.00000000012858961*(AUZ5)^4) -> 1066.6859 | BMZ5: =+(1047.63657-0.372589265*(AVA5)+0.000945304214*(AVA5)^2-0.000000602409443*(AVA5)^3+0.00000000012858961*(AVA5)^4) -> 1070.3571 | BNA5: =+(1047.63657-0.372589265*(AVB5)+0.000945304214*(AVB5)^2-0.000000602409443*(AVB5)^3+0.00000000012858961*(AVB5)^4) -> 1072.2637 | ... BPI5: =+(1047.63657-0.372589265*(AXJ5)+0.000945304214*(AXJ5)^2-0.000000602409443*(AXJ5)^3+0.00000000012858961*(AXJ5)^4) -> 1074.2711 | BPJ5: =QC5/$B$1*100 -> 100 | BPK5: =QD5/$B$1*100 -> 99.986319 | BPL5: =QE5/$B$1*100 -> 67.084685 | BPM5: =QF5/$B$1*100 -> 67.06884 | BPN5: =QG5/$B$1*100 -> 67.075859 | BPO5: =QH5/$B$1*100 -> 67.069592 | BPP5: =QI5/$B$1*100 -> 67.081411 | BPQ5: =QJ5/$B$1*100 -> 67.064737 | ... BRY5: =SR5/$B$1*100 -> 100 | BRZ5: =VF5/(BPJ5/100) -> 0.5000001 | BSA5: =VG5/(BPK5/100) -> 0.60236501 | BSB5: =VH5/(BPL5/100) -> 1.8197879 | BSC5: =VI5/(BPM5/100) -> 2.4409726 | BSD5: =VJ5/(BPN5/100) -> 2.6337434 | BSE5: =VK5/(BPO5/100) -> 2.735071 | BSF5: =VL5/(BPP5/100) -> 2.7908999 | BSG5: =VM5/(BPQ5/100) -> 2.8305188 | ... BUO5: =XU5/(BRY5/100) -> 1.180418 | BUP5: =AVERAGE(BEY5:BEZ5)*ASH5*AVERAGE(BSA5:BSB5)/AVERAGE(BHO5:BHP5) -> 77.525969 | BUQ5: =AVERAGE(BEZ5:BFA5)*ASI5*AVERAGE(BSB5:BSC5)/AVERAGE(BHP5:BHQ5) -> 38.902969 | BUR5: =AVERAGE(BFA5:BFB5)*ASJ5*AVERAGE(BSC5:BSD5)/AVERAGE(BHQ5:BHR5) -> 34.705632 | BUS5: =AVERAGE(BFB5:BFC5)*ASK5*AVERAGE(BSD5:BSE5)/AVERAGE(BHR5:BHS5) -> 33.073891 | BUT5: =AVERAGE(BFC5:BFD5)*ASL5*AVERAGE(BSE5:BSF5)/AVERAGE(BHS5:BHT5) -> 32.079621 | BUU5: =AVERAGE(BFD5:BFE5)*ASM5*AVERAGE(BSF5:BSG5)/AVERAGE(BHT5:BHU5) -> 31.756772 | BUV5: =AVERAGE(BFE5:BFF5)*ASN5*AVERAGE(BSG5:BSH5)/AVERAGE(BHU5:BHV5) -> 31.603564 | BUW5: =AVERAGE(BFF5:BFG5)*ASO5*AVERAGE(BSH5:BSI5)/AVERAGE(BHV5:BHW5) -> 31.655136 | ... BXB5: =AVERAGE(BHK5:BHL5)*AUT5*AVERAGE(BUM5:BUN5)/AVERAGE(BKA5:BKB5) -> 48.618551 | BXC5: =AVERAGE(BHO5:BHP5)*AVERAGE(BMU5:BMV5)/AVERAGE(BKE5:BKF5) -> 0.69188364 | BXD5: =AVERAGE(BHP5:BHQ5)*AVERAGE(BMV5:BMW5)/AVERAGE(BKF5:BKG5) -> 0.68464221 | BXE5: =AVERAGE(BHQ5:BHR5)*AVERAGE(BMW5:BMX5)/AVERAGE(BKG5:BKH5) -> 0.68403889 | BXF5: =AVERAGE(BHR5:BHS5)*AVERAGE(BMX5:BMY5)/AVERAGE(BKH5:BKI5) -> 0.68483561 | BXG5: =AVERAGE(BHS5:BHT5)*AVERAGE(BMY5:BMZ5)/AVERAGE(BKI5:BKJ5) -> 0.68545322 | BXH5: =AVERAGE(BHT5:BHU5)*AVERAGE(BMZ5:BNA5)/AVERAGE(BKJ5:BKK5) -> 0.6858276 | BXI5: =AVERAGE(BHU5:BHV5)*AVERAGE(BNA5:BNB5)/AVERAGE(BKK5:BKL5) -> 0.6860325 | BXJ5: =AVERAGE(BHV5:BHW5)*AVERAGE(BNB5:BNC5)/AVERAGE(BKL5:BKM5) -> 0.68614046 | ... BZO5: =AVERAGE(BKA5:BKB5)*AVERAGE(BPG5:BPH5)/AVERAGE(BMQ5:BMR5) -> 0.68625519 | BZP5: =AXK5*ASH5^2/AVERAGE(BKE5:BKF5) -> 48.627401 | BZQ5: =AXL5*ASI5^2/AVERAGE(BKF5:BKG5) -> 14.227398 | BZR5: =AXM5*ASJ5^2/AVERAGE(BKG5:BKH5) -> 10.616083 | BZS5: =AXN5*ASK5^2/AVERAGE(BKH5:BKI5) -> 10.011441 | BZT5: =AXO5*ASL5^2/AVERAGE(BKI5:BKJ5) -> 9.9699357 | BZU5: =AXP5*ASM5^2/AVERAGE(BKJ5:BKK5) -> 9.8836319 | BZV5: =AXQ5*ASN5^2/AVERAGE(BKK5:BKL5) -> 10.015077 | BZW5: =AXR5*ASO5^2/AVERAGE(BKL5:BKM5) -> 9.9504857 | ... CCB5: =AZW5*AUT5^2/AVERAGE(BMQ5:BMR5) -> -7.5344652 | CCC5: =AZX5*ASH5/AVERAGE(BKE5:BKF5) -> 12.084116 | CCD5: =AZY5*ASI5/AVERAGE(BKF5:BKG5) -> 3.3289937 | CCE5: =AZZ5*ASJ5/AVERAGE(BKG5:BKH5) -> 2.0137679 | CCF5: =BAA5*ASK5/AVERAGE(BKH5:BKI5) -> 2.0168428 | CCG5: =BAB5*ASL5/AVERAGE(BKI5:BKJ5) -> 2.0145203 | CCH5: =BAC5*ASM5/AVERAGE(BKJ5:BKK5) -> 1.9717853 | CCI5: =BAD5*ASN5/AVERAGE(BKK5:BKL5) -> 1.9878014 | CCJ5: =BAE5*ASO5/AVERAGE(BKL5:BKM5) -> 1.9659256 | ... CEO5: =BCJ5*AUT5/AVERAGE(BMQ5:BMR5) -> -1.2623388 | CEP5: =AVERAGE(BEY5:BEZ5)*ASH5*AVERAGE(VG5:VH5)/AVERAGE(BHO5:BHP5) -> 58.351463 | CEQ5: =AVERAGE(BEZ5:BFA5)*ASI5*AVERAGE(VH5:VI5)/AVERAGE(BHP5:BHQ5) -> 26.094402 | CER5: =AVERAGE(BFA5:BFB5)*ASJ5*AVERAGE(VI5:VJ5)/AVERAGE(BHQ5:BHR5) -> 23.277929 | CES5: =AVERAGE(BFB5:BFC5)*ASK5*AVERAGE(VJ5:VK5)/AVERAGE(BHR5:BHS5) -> 22.183541 | CET5: =AVERAGE(BFC5:BFD5)*ASL5*AVERAGE(VK5:VL5)/AVERAGE(BHS5:BHT5) -> 21.517586 | CEU5: =AVERAGE(BFD5:BFE5)*ASM5*AVERAGE(VL5:VM5)/AVERAGE(BHT5:BHU5) -> 21.300225 | CEV5: =AVERAGE(BFE5:BFF5)*ASN5*AVERAGE(VM5:VN5)/AVERAGE(BHU5:BHV5) -> 21.19726 | CEW5: =AVERAGE(BFF5:BFG5)*ASO5*AVERAGE(VN5:VO5)/AVERAGE(BHV5:BHW5) -> 21.231393 | ... CHB5: =AVERAGE(BHK5:BHL5)*AUT5*AVERAGE(XS5:XT5)/AVERAGE(BKA5:BKB5) -> 37.415691
B6: 1100 | E6: =AVERAGE(BMZ6:BND6) -> 1167.0601 | F6: =MAX(BMZ6:BND6) -> 1167.9764 | G6: =MIN(BMZ6:BND6) -> 1165.0962 | H6: =AVERAGE(BKJ6:BKN6) -> 0.072786765 | I6: =MAX(BKJ6:BKN6) -> 0.073015393 | J6: =MIN(BKJ6:BKN6) -> 0.072298255 | K6: =AVERAGE(BHT6:BHX6) -> 4.4064697e-05 | L6: =MAX(BHT6:BHX6) -> 4.4180838e-05 | M6: =MIN(BHT6:BHX6) -> 4.3816415e-05 | N6: =AVERAGE(BFD6:BFH6) -> 0.32240863 | O6: =MAX(BFD6:BFH6) -> 0.32522268 | P6: =MIN(BFD6:BFH6) -> 0.32109829 | Q6: =AVERAGE(AXP6:AXS6) -> 1344415.5 | R6: =MAX(AXP6:AXS6) -> 1356193.6 | S6: =MIN(AXP6:AXS6) -> 1337067.1 | T6: =AVERAGE(AVA6:AVE6) -> 1095.1106 | U6: =MAX(AVA6:AVE6) -> 1099.5553 | V6: =MIN(AVA6:AVE6) -> 1085.6111 | W6: =(N6*$A$5*$ASH$24)/K6 -> 2.6563071 | X6: =AVERAGE(BXH6:BXK6) -> 0.70656094 | Y6: =AVERAGE(BUU6:BUX6) -> 23.796025 | Z6: =MAX(BUU6:BUX6) -> 23.85982 | AA6: =MIN(BUU6:BUX6) -> 23.687849 | AB6: =AVERAGE(BZU6:BZX6) -> 9.736562 | AC6: =MAX(BZU6:BZX6) -> 9.8092707 | AD6: =MIN(BZU6:BZX6) -> 9.6791941 | AE6: =AVERAGE(CEU6:CEX6) -> 15.96059 | AF6: =MAX(CEU6:CEX6) -> 16.003005 | AG6: =MIN(CEU6:CEX6) -> 15.888315 | AH6: 6.296875 | AI6: 466.2123 | AJ6: =ACX6 -> -0.392424 | AK6: =AI6-AJ6 -> 466.60472 | AL6: 1100.001 | AM6: 1100.002 | AN6: =AM6 -> 1100.002 | AO6: -3.140688e-06 | AP6: 8.512393e-10 | AQ6: -2.73524 | AR6: 0.0005429756 | AS6: 4.244629e-07 | AT6: -0.941023 | AU6: -1.297562 | AV6: -2.185848 | AW6: -3.256792 | AX6: -3.675253 | AY6: -3.843936 | AZ6: -3.915125 | BA6: -3.948015 | BB6: -3.963328 | BC6: -3.968389 | BD6: -3.965322 | BE6: -3.970719 | BF6: -3.969404 | BG6: -3.966804 | BH6: -3.968689 | BI6: -3.968514 | BJ6: -3.965213 | BK6: -3.966715 | BL6: -3.969611 | BM6: -3.96674 | BN6: -3.96588 | BO6: -3.96857 | BP6: -3.967557 | BQ6: -3.96863 | BR6: -3.969364 | BS6: -3.971693 | BT6: -3.969658 | BU6: -3.967639 | BV6: -3.973409 | BW6: -3.969818 | BX6: -3.964322 | BY6: -3.97052 | BZ6: -3.972177 | CA6: -3.968115 | CB6: -3.96687 | CC6: -3.971536 | CD6: -3.968173 | CE6: -3.966736 | CF6: -3.968087 | CG6: -3.965968 | CH6: -3.964013 | CI6: -3.96859 | CJ6: -3.968358 | CK6: -3.9695 | CL6: -3.97054 | CM6: -3.968372 | CN6: -3.970701 | CO6: -3.967679 | CP6: -3.969229 | CQ6: -3.972574 | CR6: -3.967012 | CS6: -3.966741 | CT6: -3.968537 | CU6: -3.965447 | CV6: -3.965912 | CW6: -3.968234 | CX6: -3.967867 | CY6: -3.968486 | CZ6: -3.967859 | DA6: -3.968785 | DB6: -3.968108 | DC6: -3.967164 | DD6: -3.972926 | DE6: -3.969025 | DF6: -3.965886 | DG6: -3.967092 | DH6: -3.969241 | DI6: -3.96227 | DJ6: -0.003136743 | DK6: -0.003205718 | DL6: -0.003376187 | DM6: -0.003548921 | DN6: -0.003600521 | DO6: -0.003606499 | DP6: -0.003606379 | DQ6: -0.003608879 | DR6: -0.003611312 | DS6: -0.003611112 | DT6: -0.003606296 | DU6: -0.003610368 | DV6: -0.003608823 | DW6: -0.003606314 | DX6: -0.003607967 | DY6: -0.003607782 | DZ6: -0.003604771 | EA6: -0.003606131 | EB6: -0.003608763 | EC6: -0.003606151 | ED6: -0.00360537 | EE6: -0.003607815 | EF6: -0.003606894 | EG6: -0.00360787 | EH6: -0.003608537 | EI6: -0.003610654 | EJ6: -0.003608804 | EK6: -0.003606969 | EL6: -0.003612214 | EM6: -0.003608949 | EN6: -0.003603953 | EO6: -0.003609587 | EP6: -0.003611094 | EQ6: -0.003607401 | ER6: -0.00360627 | ES6: -0.003610512 | ET6: -0.003607454 | EU6: -0.003606148 | EV6: -0.003607376 | EW6: -0.00360545 | EX6: -0.003603673 | EY6: -0.003607833 | EZ6: -0.003607622 | FA6: -0.003608661 | FB6: -0.003609606 | FC6: -0.003607635 | FD6: -0.003609753 | FE6: -0.003607005 | FF6: -0.003608414 | FG6: -0.003611455 | FH6: -0.003606399 | FI6: -0.003606152 | FJ6: -0.003607785 | FK6: -0.003604976 | FL6: -0.003605399 | FM6: -0.003607509 | FN6: -0.003607176 | FO6: -0.003607739 | FP6: -0.003607169 | FQ6: -0.00360801 | FR6: -0.003607395 | FS6: -0.003606537 | FT6: -0.003611775 | FU6: -0.003608228 | FV6: -0.003605376 | FW6: -0.003606467 | FX6: -0.003608403 | FY6: -0.003602062 | FZ6: 0.001568371 | GA6: 0.002484459 | GB6: 0.006922429 | GC6: 0.01270594 | GD6: 0.01498609 | GE6: 0.01569457 | GF6: 0.01600531 | GG6: 0.01612316 | GH6: 0.01621561 | GI6: 0.01620861 | GJ6: 0.01621843 | GK6: 0.01622042 | GL6: 0.01623353 | GM6: 0.01621121 | GN6: 0.01624313 | GO6: 0.01622261 | GP6: 0.01621869 | GQ6: 0.0162168 | GR6: 0.01624337 | GS6: 0.01621718 | GT6: 0.01623008 | GU6: 0.01623574 | GV6: 0.01624031 | GW6: 0.01621978 | GX6: 0.01624469 | GY6: 0.01625555 | GZ6: 0.01624629 | HA6: 0.01622607 | HB6: 0.01628029 | HC6: 0.01624406 | HD6: 0.0162318 | HE6: 0.01624444 | HF6: 0.01627863 | HG6: 0.01624281 | HH6: 0.01625097 | HI6: 0.01625826 | HJ6: 0.01625018 | HK6: 0.01623716 | HL6: 0.01625745 | HM6: 0.01622921 | HN6: 0.01623728 | HO6: 0.01624832 | HP6: 0.01626607 | HQ6: 0.01625235 | HR6: 0.01627359 | HS6: 0.01625472 | HT6: 0.01628233 | HU6: 0.01625528 | HV6: 0.01627716 | HW6: 0.01628506 | HX6: 0.0162678 | HY6: 0.01626585 | HZ6: 0.01628122 | IA6: 0.01625593 | IB6: 0.01626426 | IC6: 0.01626378 | ID6: 0.0162817 | IE6: 0.0162639 | IF6: 0.01627854 | IG6: 0.01626624 | IH6: 0.01628509 | II6: 0.01626637 | IJ6: 0.01631476 | IK6: 0.016264 | IL6: 0.01632216 | IM6: 0.01506111 | IN6: 0.01053347 | IO6: 0.008562346 | IP6: 271.0479 | IQ6: 162.0617 | IR6: 59.60474 | IS6: 25.90681 | IT6: 11.39421 | IU6: 4.812811 | IV6: 2.042193 | IW6: 0.8463547 | IX6: 0.3567902 | IY6: 0.1476711 | IZ6: 0.06208832 | JA6: 0.02564432 | JB6: 0.0107887 | JC6: 0.004463858 | JD6: 0.001873893 | JE6: 0.0007720047 | JF6: 0.0003215481 | JG6: 0.0001348219 | JH6: 5.519792e-05 | JI6: 2.405135e-05 | JJ6: 9.641664e-06 | JK6: 5.163904e-06 | JL6: 1.704363e-06 | JM6: 2.440091e-06 | JN6: -3.897237e-07 | JO6: 9.193909e-07 | JP6: -1.303557e-06 | JQ6: 1.887647e-06 | JR6: -1.550292e-06 | JS6: 1.887718e-06 | JT6: -7.940987e-07 | JU6: 1.644978e-06 | JV6: -9.434953e-07 | JW6: 1.922586e-06 | JX6: -6.043364e-07 | JY6: 1.258712e-06 | JZ6: -6.684391e-07 | KA6: 1.467489e-06 | KB6: -9.317549e-07 | KC6: 1.521994e-06 | KD6: -8.023051e-07 | KE6: 1.383148e-06 | KF6: -1.631618e-06 | KG6: 2.631959e-06 | KH6: -2.880198e-07 | KI6: 9.81749e-07 | KJ6: -1.477415e-06 | KK6: 1.333366e-06 | KL6: -4.223514e-07 | KM6: 1.455466e-06 | KN6: -6.631638e-07 | KO6: 1.186554e-06 | KP6: -9.140906e-07 | KQ6: 1.991521e-06 | KR6: -8.301415e-07 | KS6: 1.625282e-06 | KT6: -3.28357e-08 | KU6: 9.510941e-07 | KV6: -1.822848e-06 | KW6: 1.226069e-06 | KX6: -1.703485e-06 | KY6: 6.578477e-07 | KZ6: 1.372243e-05 | LA6: -6.91655e-05 | LB6: -0.000492558 | LC6: 20693.2 | LD6: 24651.12 | LE6: 24736.38 | LF6: 24679.27 | LG6: 24787.67 | LH6: 24704.3 | LI6: 24773.17 | LJ6: 24791.41 | LK6: 24761.38 | LL6: 24703.58 | LM6: 24759.79 | LN6: 24810.25 | LO6: 24814.69 | LP6: 24727.23 | LQ6: 24839.76 | LR6: 24698.18 | LS6: 24790.79 | LT6: 24861.39 | LU6: 24807.58 | LV6: 24806.75 | LW6: 24762.11 | LX6: 24641.61 | LY6: 24816.94 | LZ6: 24719.84 | MA6: 24847.98 | MB6: 24724.36 | MC6: 24817.97 | MD6: 24780.33 | ME6: 24762.78 | MF6: 24748.19 | MG6: 24785.37 | MH6: 24689.37 | MI6: 24649.31 | MJ6: 24778.91 | MK6: 24772.13 | ML6: 24788.11 | MM6: 24743.22 | MN6: 24845.16 | MO6: 24762.88 | MP6: 24775.59 | MQ6: 24793.16 | MR6: 24691.15 | MS6: 24730.27 | MT6: 24759.18 | MU6: 24764.62 | MV6: 24715.3 | MW6: 24806.33 | MX6: 24729.44 | MY6: 24774.09 | MZ6: 24784.7 | NA6: 24720.97 | NB6: 24738.52 | NC6: 24665.22 | ND6: 24807.8 | NE6: 24770.18 | NF6: 24857.37 | NG6: 24751.01 | NH6: 24741.2 | NI6: 24768.46 | NJ6: 24811 | NK6: 24795.88 | NL6: 24760.55 | NM6: 24708.68 | NN6: 24851.15 | NO6: 20857.74 | NP6: -0.9215793 | NQ6: -1.099491 | NR6: -0.404654 | NS6: -0.1757334 | NT6: -0.07737243 | NU6: -0.0326375 | NV6: -0.01386585 | NW6: -0.005740146 | NX6: -0.002423426 | NY6: -0.001001154 | NZ6: -0.0004218464 | OA6: -0.0001739942 | OB6: -7.326603e-05 | OC6: -3.030729e-05 | OD6: -1.271586e-05 | OE6: -5.239614e-06 | OF6: -2.180798e-06 | OG6: -9.148714e-07 | OH6: -3.746612e-07 | OI6: -1.632034e-07 | OJ6: -6.541947e-08 | OK6: -3.507597e-08 | OL6: -1.156895e-08 | OM6: -1.65567e-08 | ON6: 2.644716e-09 | OO6: -6.241219e-09 | OP6: 8.846049e-09 | OQ6: -1.280703e-08 | OR6: 1.05279e-08 | OS6: -1.280486e-08 | OT6: 5.394294e-09 | OU6: -1.115515e-08 | OV6: 6.405659e-09 | OW6: -1.304278e-08 | OX6: 4.1043e-09 | OY6: -8.541912e-09 | OZ6: 4.534704e-09 | PA6: -9.961284e-09 | PB6: 6.325292e-09 | PC6: -1.032791e-08 | PD6: 5.448031e-09 | PE6: -9.384136e-09 | PF6: 1.106571e-08 | PG6: -1.786935e-08 | PH6: 1.956911e-09 | PI6: -6.659322e-09 | PJ6: 1.002061e-08 | PK6: -9.049831e-09 | PL6: 2.869212e-09 | PM6: -9.878944e-09 | PN6: 4.498991e-09 | PO6: -8.046913e-09 | PP6: 6.205035e-09 | PQ6: -1.351639e-08 | PR6: 5.635896e-09 | PS6: -1.103046e-08 | PT6: 2.226526e-10 | PU6: -6.466576e-09 | PV6: 1.236597e-08 | PW6: -8.319005e-09 | PX6: 1.155469e-08 | PY6: -4.464322e-09 | PZ6: -9.310849e-08 | QA6: 4.694812e-07 | QB6: 1.674255e-06 | QC6: 5.3138e-06 | QD6: 5.313073e-06 | QE6: 3.564746e-06 | QF6: 3.563904e-06 | QG6: 3.564277e-06 | QH6: 3.563944e-06 | QI6: 3.564572e-06 | QJ6: 3.563686e-06 | QK6: 3.564496e-06 | QL6: 3.563536e-06 | QM6: 3.564789e-06 | QN6: 3.563678e-06 | QO6: 3.564551e-06 | QP6: 3.563844e-06 | QQ6: 3.564489e-06 | QR6: 3.564108e-06 | QS6: 3.564233e-06 | QT6: 3.563812e-06 | QU6: 3.564622e-06 | QV6: 3.563678e-06 | QW6: 3.564567e-06 | QX6: 3.563854e-06 | QY6: 3.564945e-06 | QZ6: 3.563902e-06 | RA6: 3.564379e-06 | RB6: 3.56368e-06 | RC6: 3.56441e-06 | RD6: 3.563731e-06 | RE6: 3.564607e-06 | RF6: 3.563858e-06 | RG6: 3.564898e-06 | RH6: 3.563768e-06 | RI6: 3.564858e-06 | RJ6: 3.563818e-06 | RK6: 3.564644e-06 | RL6: 3.563827e-06 | RM6: 3.564439e-06 | RN6: 3.563753e-06 | RO6: 3.564478e-06 | RP6: 3.563875e-06 | RQ6: 3.564676e-06 | RR6: 3.563739e-06 | RS6: 3.564813e-06 | RT6: 3.564007e-06 | RU6: 3.564467e-06 | RV6: 3.563828e-06 | RW6: 3.56441e-06 | RX6: 3.563801e-06 | RY6: 3.564509e-06 | RZ6: 3.563911e-06 | SA6: 3.564838e-06 | SB6: 3.564055e-06 | SC6: 3.56489e-06 | SD6: 3.563696e-06 | SE6: 3.564462e-06 | SF6: 3.563648e-06 | SG6: 3.564393e-06 | SH6: 3.563573e-06 | SI6: 3.564398e-06 | SJ6: 3.563694e-06 | SK6: 3.564613e-06 | SL6: 3.56382e-06 | SM6: 3.564606e-06 | SN6: 3.563718e-06 | SO6: 3.564525e-06 | SP6: 3.563732e-06 | SQ6: 5.312049e-06 | SR6: 5.3138e-06 | SS6: 4.250076e-06 | ST6: 8.480496e-06 | SU6: 8.486196e-06 | SV6: 8.479113e-06 | SW6: 8.488132e-06 | SX6: 8.476726e-06 | SY6: 8.487105e-06 | SZ6: 8.477749e-06 | TA6: 8.490375e-06 | TB6: 8.474531e-06 | TC6: 8.49287e-06 | TD6: 8.481126e-06 | TE6: 8.488744e-06 | TF6: 8.486854e-06 | TG6: 8.482247e-06 | TH6: 8.483779e-06 | TI6: 8.477727e-06 | TJ6: 8.482223e-06 | TK6: 8.484495e-06 | TL6: 8.482029e-06 | TM6: 8.481351e-06 | TN6: 8.490662e-06 | TO6: 8.484803e-06 | TP6: 8.4816e-06 | TQ6: 8.482663e-06 | TR6: 8.485535e-06 | TS6: 8.482609e-06 | TT6: 8.480812e-06 | TU6: 8.488644e-06 | TV6: 8.479058e-06 | TW6: 8.491222e-06 | TX6: 8.47667e-06 | TY6: 8.486607e-06 | TZ6: 8.479972e-06 | UA6: 8.489271e-06 | UB6: 8.48279e-06 | UC6: 8.480025e-06 | UD6: 8.484971e-06 | UE6: 8.485724e-06 | UF6: 8.482219e-06 | UG6: 8.488091e-06 | UH6: 8.480776e-06 | UI6: 8.47756e-06 | UJ6: 8.486718e-06 | UK6: 8.492953e-06 | UL6: 8.478901e-06 | UM6: 8.478159e-06 | UN6: 8.484012e-06 | UO6: 8.491781e-06 | UP6: 8.484347e-06 | UQ6: 8.480165e-06 | UR6: 8.477189e-06 | US6: 8.485257e-06 | UT6: 8.483706e-06 | UU6: 8.486348e-06 | UV6: 8.483493e-06 | UW6: 8.476009e-06 | UX6: 8.498865e-06 | UY6: 8.479842e-06 | UZ6: 8.481377e-06 | VA6: 8.478713e-06 | VB6: 8.482819e-06 | VC6: 8.481413e-06 | VD6: 8.484743e-06 | VE6: 4.248877e-06 | VF6: 0.4999997 | VG6: 0.7125528 | VH6: 1.747708 | VI6: 2.563855 | VJ6: 2.816235 | VK6: 2.926585 | VL6: 2.975247 | VM6: 3.004183 | VN6: 3.010676 | VO6: 3.018062 | VP6: 3.012634 | VQ6: 3.020395 | VR6: 3.015547 | VS6: 3.018246 | VT6: 3.015755 | VU6: 3.019535 | VV6: 3.014235 | VW6: 3.01942 | VX6: 3.017289 | VY6: 3.020271 | VZ6: 3.015429 | WA6: 3.021436 | WB6: 3.01661 | WC6: 3.021864 | WD6: 3.018823 | WE6: 3.024281 | WF6: 3.019092 | WG6: 3.021883 | WH6: 3.021555 | WI6: 3.023493 | WJ6: 3.015893 | WK6: 3.025294 | WL6: 3.02156 | WM6: 3.023645 | WN6: 3.01927 | WO6: 3.026991 | WP6: 3.020501 | WQ6: 3.024446 | WR6: 3.020821 | WS6: 3.023565 | WT6: 3.018479 | WU6: 3.025856 | WV6: 3.021262 | WW6: 3.026043 | WX6: 3.023579 | WY6: 3.026652 | WZ6: 3.023895 | XA6: 3.026143 | XB6: 3.023903 | XC6: 3.030068 | XD6: 3.021963 | XE6: 3.026469 | XF6: 3.023613 | XG6: 3.026505 | XH6: 3.022647 | XI6: 3.029291 | XJ6: 3.024466 | XK6: 3.029832 | XL6: 3.025195 | XM6: 3.029543 | XN6: 3.025468 | XO6: 3.028907 | XP6: 3.029373 | XQ6: 3.030673 | XR6: 3.028677 | XS6: 2.967965 | XT6: 1.882166 | XU6: 1.856816 | XV6: - | XW6: - | XX6: - | XY6: - | XZ6: - | YA6: - | YB6: - | YC6: - | YD6: - | YE6: - | YF6: - | YG6: - | YH6: - | YI6: - | YJ6: - | YK6: - | YL6: - | YM6: - | YN6: - | YO6: - | YP6: - | YQ6: - | YR6: - | YS6: - | YT6: - | YU6: - | YV6: - | YW6: - | YX6: - | YY6: - | YZ6: - | ZA6: - | ZB6: - | ZC6: - | ZD6: - | ZE6: - | ZF6: - | ZG6: - | ZH6: - | ZI6: - | ZJ6: - | ZK6: - | ZL6: - | ZM6: - | ZN6: - | ZO6: - | ZP6: - | ZQ6: - | ZR6: - | ZS6: - | ZT6: - | ZU6: - | ZV6: - | ZW6: - | ZX6: - | ZY6: - | ZZ6: - | AAA6: - | AAB6: - | AAC6: - | AAD6: - | AAE6: - | AAF6: - | AAG6: - | AAH6: - | AAI6: 466.2123 | AAJ6: 466.0607 | AAK6: 463.8543 | AAL6: 456.5908 | AAM6: 449.1403 | AAN6: 441.8488 | AAO6: 434.5151 | AAP6: 427.1722 | AAQ6: 419.8116 | AAR6: 412.4575 | AAS6: 405.0742 | AAT6: 397.7212 | AAU6: 390.3528 | AAV6: 382.9927 | AAW6: 375.6114 | AAX6: 368.2579 | AAY6: 360.8839 | AAZ6: 353.5095 | ABA6: 346.1324 | ABB6: 338.7732 | ABC6: 331.3805 | ABD6: 324.0149 | ABE6: 316.6385 | ABF6: 309.268 | ABG6: 301.8769 | ABH6: 294.5205 | ABI6: 287.1378 | ABJ6: 279.766 | ABK6: 272.386 | ABL6: 265.0179 | ABM6: 257.6339 | ABN6: 250.2627 | ABO6: 242.8744 | ABP6: 235.5112 | ABQ6: 228.1141 | ABR6: 220.7438 | ABS6: 213.3606 | ABT6: 205.9782 | ABU6: 198.5838 | ABV6: 191.2154 | ABW6: 183.8198 | ABX6: 176.4311 | ABY6: 169.0475 | ABZ6: 161.676 | ACA6: 154.273 | ACB6: 146.9006 | ACC6: 139.5137 | ACD6: 132.1354 | ACE6: 124.739 | ACF6: 117.363 | ACG6: 109.97 | ACH6: 102.5833 | ACI6: 95.18296 | ACJ6: 87.81358 | ACK6: 80.4047 | ACL6: 73.02032 | ACM6: 65.62481 | ACN6: 58.23604 | ACO6: 50.83369 | ACP6: 43.45718 | ACQ6: 36.05489 | ACR6: 28.66578 | ACS6: 21.26993 | ACT6: 13.88765 | ACU6: 6.439009 | ACV6: -0.3435103 | ACW6: -0.7110795 | ACX6: -0.392424 | ACY6: -1.462388 | ACZ6: -1.493896 | ADA6: -1.566088 | ADB6: -1.619639 | ADC6: -1.616347 | ADD6: -1.592778 | ADE6: -1.566193 | ADF6: -1.540791 | ADG6: -1.515216 | ADH6: -1.488658 | ADI6: -1.459947 | ADJ6: -1.435113 | ADK6: -1.407885 | ADL6: -1.380415 | ADM6: -1.354363 | ADN6: -1.327832 | ADO6: -1.300119 | ADP6: -1.274011 | ADQ6: -1.248284 | ADR6: -1.220912 | ADS6: -1.193904 | ADT6: -1.16816 | ADU6: -1.141242 | ADV6: -1.11499 | ADW6: -1.088451 | ADX6: -1.062603 | ADY6: -1.035387 | ADZ6: -1.008288 | AEA6: -0.9830709 | AEB6: -0.9556535 | AEC6: -0.9276782 | AED6: -0.9025473 | AEE6: -0.8762066 | AEF6: -0.8488347 | AEG6: -0.8217989 | AEH6: -0.7962193 | AEI6: -0.7688889 | AEJ6: -0.7419908 | AEK6: -0.7155246 | AEL6: -0.6886331 | AEM6: -0.6615935 | AEN6: -0.6356857 | AEO6: -0.6090116 | AEP6: -0.5826397 | AEQ6: -0.5559856 | AER6: -0.5291442 | AES6: -0.5027777 | AET6: -0.4758222 | AEU6: -0.4492604 | AEV6: -0.4230759 | AEW6: -0.395796 | AEX6: -0.3691262 | AEY6: -0.3425483 | AEZ6: -0.3158122 | AFA6: -0.2890421 | AFB6: -0.2626183 | AFC6: -0.2358822 | AFD6: -0.2092861 | AFE6: -0.1824955 | AFF6: -0.1559971 | AFG6: -0.1292217 | AFH6: -0.1025577 | AFI6: -0.07595953 | AFJ6: -0.04934084 | AFK6: -0.02227914 | AFL6: 0.0009005227 | AFM6: 0.001931126 | AFN6: 0.001278067 | AFO6: 300 | AFP6: 505.8817 | AFQ6: 754.2315 | AFR6: 992.0388 | AFS6: 1052.421 | AFT6: 1079.346 | AFU6: 1091.267 | AFV6: 1096.323 | AFW6: 1098.463 | AFX6: 1099.352 | AFY6: 1099.73 | AFZ6: 1099.885 | AGA6: 1099.95 | AGB6: 1099.977 | AGC6: 1099.988 | AGD6: 1099.993 | AGE6: 1099.995 | AGF6: 1099.996 | AGG6: 1099.996 | AGH6: 1099.996 | AGI6: 1099.996 | AGJ6: 1099.996 | AGK6: 1099.996 | AGL6: 1099.996 | AGM6: 1099.996 | AGN6: 1099.996 | AGO6: 1099.996 | AGP6: 1099.996 | AGQ6: 1099.996 | AGR6: 1099.996 | AGS6: 1099.996 | AGT6: 1099.996 | AGU6: 1099.996 | AGV6: 1099.996 | AGW6: 1099.996 | AGX6: 1099.996 | AGY6: 1099.996 | AGZ6: 1099.996 | AHA6: 1099.996 | AHB6: 1099.996 | AHC6: 1099.996 | AHD6: 1099.996 | AHE6: 1099.996 | AHF6: 1099.996 | AHG6: 1099.996 | AHH6: 1099.996 | AHI6: 1099.996 | AHJ6: 1099.996 | AHK6: 1099.996 | AHL6: 1099.996 | AHM6: 1099.996 | AHN6: 1099.996 | AHO6: 1099.996 | AHP6: 1099.996 | AHQ6: 1099.996 | AHR6: 1099.996 | AHS6: 1099.996 | AHT6: 1099.996 | AHU6: 1099.996 | AHV6: 1099.996 | AHW6: 1099.996 | AHX6: 1099.996 | AHY6: 1099.996 | AHZ6: 1099.996 | AIA6: 1099.996 | AIB6: 1099.997 | AIC6: 1100 | AID6: 1100.001 | AIE6: 1.487821e-08 | AIF6: 1.706871e-09 | AIG6: 1.533098e-09 | AIH6: 1.535107e-09 | AII6: 1.544418e-09 | AIJ6: 1.538454e-09 | AIK6: 1.537338e-09 | AIL6: 1.539846e-09 | AIM6: 1.545049e-09 | AIN6: 1.538162e-09 | AIO6: 1.54002e-09 | AIP6: 1.546323e-09 | AIQ6: 1.539177e-09 | AIR6: 1.539849e-09 | AIS6: 1.544598e-09 | AIT6: 1.540474e-09 | AIU6: 1.535758e-09 | AIV6: 1.541425e-09 | AIW6: 1.544385e-09 | AIX6: 1.532412e-09 | AIY6: 1.534507e-09 | AIZ6: 1.545736e-09 | AJA6: 1.536229e-09 | AJB6: 1.536519e-09 | AJC6: 1.542486e-09 | AJD6: 1.540706e-09 | AJE6: 1.541041e-09 | AJF6: 1.539855e-09 | AJG6: 1.545202e-09 | AJH6: 1.540445e-09 | AJI6: 1.538049e-09 | AJJ6: 1.546304e-09 | AJK6: 1.54086e-09 | AJL6: 1.538296e-09 | AJM6: 1.537653e-09 | AJN6: 1.54458e-09 | AJO6: 1.535618e-09 | AJP6: 1.534858e-09 | AJQ6: 1.544094e-09 | AJR6: 1.537588e-09 | AJS6: 1.532761e-09 | AJT6: 1.543435e-09 | AJU6: 1.542641e-09 | AJV6: 1.538819e-09 | AJW6: 1.538554e-09 | AJX6: 1.54625e-09 | AJY6: 1.54077e-09 | AJZ6: 1.540136e-09 | AKA6: 1.545467e-09 | AKB6: 1.539233e-09 | AKC6: 1.53761e-09 | AKD6: 1.541235e-09 | AKE6: 1.544247e-09 | AKF6: 1.53395e-09 | AKG6: 1.537008e-09 | AKH6: 1.54387e-09 | AKI6: 1.534986e-09 | AKJ6: 1.535187e-09 | AKK6: 1.543453e-09 | AKL6: 1.540749e-09 | AKM6: 1.537907e-09 | AKN6: 1.540307e-09 | AKO6: 1.545626e-09 | AKP6: 1.539753e-09 | AKQ6: 1.537006e-09 | AKR6: 1.710984e-09 | AKT6: =P80_C3_LAMINAR!$B$1*P80_C3_LAMINAR!$B$3 -> 1.487864e-08 | AKU6: =P80_C3_LAMINAR!$B$1*(P80_C3_LAMINAR!$B$2) -> 2.12552e-09 | AKV6: =P80_C3_LAMINAR!$B$1*($D$2) -> 2.39121e-09 | AKW6: =P80_C3_LAMINAR!$B$1*($D$2) -> 2.39121e-09 | AKX6: =P80_C3_LAMINAR!$B$1*($D$2) -> 2.39121e-09 | AKY6: =P80_C3_LAMINAR!$B$1*($D$2) -> 2.39121e-09 | AKZ6: =P80_C3_LAMINAR!$B$1*($D$2) -> 2.39121e-09 | ALA6: =P80_C3_LAMINAR!$B$1*($D$2) -> 2.39121e-09 | ALB6: =P80_C3_LAMINAR!$B$1*($D$2) -> 2.39121e-09 | ALC6: =P80_C3_LAMINAR!$B$1*($D$2) -> 2.39121e-09 | ... ANF6: =P80_C3_LAMINAR!$B$1*($D$2) -> 2.39121e-09 | ANG6: =P80_C3_LAMINAR!$B$1*($B$2) -> 2.12552e-09 | ANH6: =AIF6/(AKU6)*100 -> 80.30369 | ANI6: =AIG6/(AKV6)*100 -> 64.1139 | ANJ6: =AIH6/(AKW6)*100 -> 64.197917 | ANK6: =AII6/(AKX6)*100 -> 64.587301 | ANL6: =AIJ6/(AKY6)*100 -> 64.337888 | ANM6: =AIK6/(AKZ6)*100 -> 64.291217 | ANN6: =AIL6/(ALA6)*100 -> 64.396101 | ANO6: =AIM6/(ALB6)*100 -> 64.613689 | ... APT6: =AKR6/(ANG6)*100 -> 80.497196 | APU6: =SS6/AKU6 -> 1999.5465 | APV6: =ST6/AKV6 -> 3546.5292 | APW6: =SU6/AKW6 -> 3548.9129 | APX6: =SV6/AKX6 -> 3545.9508 | APY6: =SW6/AKY6 -> 3549.7225 | APZ6: =SX6/AKZ6 -> 3544.9526 | AQA6: =SY6/ALA6 -> 3549.293 | AQB6: =SZ6/ALB6 -> 3545.3804 | ... ASG6: =VE6/ANG6 -> 1998.9824 | ASH6: =4*(ANH6/100)/APU6 -> 0.0016064381 | ASI6: =4*(ANI6/100)/APV6 -> 0.00072311714 | ASJ6: =4*(ANJ6/100)/APW6 -> 0.00072357839 | ASK6: =4*(ANK6/100)/APX6 -> 0.00072857526 | ASL6: =4*(ANL6/100)/APY6 -> 0.00072499061 | ASM6: =4*(ANM6/100)/APZ6 -> 0.00072543952 | ASN6: =4*(ANN6/100)/AQA6 -> 0.00072573439 | ASO6: =4*(ANO6/100)/AQB6 -> 0.00072899021 | ... AUT6: =4*(APT6/100)/ASG6 -> 0.0016107635 | AUU6: =AT6/DJ6 -> 300.00003 | AUV6: =AU6/DK6 -> 404.76486 | AUW6: =AV6/DL6 -> 647.43096 | AUX6: =AW6/DM6 -> 917.68512 | AUY6: =AX6/DN6 -> 1020.7559 | AUZ6: =AY6/DO6 -> 1065.8359 | AVA6: =AZ6/DP6 -> 1085.6111 | AVB6: =BA6/DQ6 -> 1093.9727 | ... AXJ6: =DI6/FY6 -> 1100.0005 | AXK6: =-NP6/(AKU6*($B$6-AVERAGE(AUV6:AUW6))) -> 755491.72 | AXL6: =-NQ6/(AKV6*($B$6-AVERAGE(AUW6:AUX6))) -> 1448470.4 | AXM6: =-NR6/(AKW6*($B$6-AVERAGE(AUX6:AUY6))) -> 1293976.7 | AXN6: =-NS6/(AKX6*($B$6-AVERAGE(AUY6:AUZ6))) -> 1296050.6 | AXO6: =-NT6/(AKY6*($B$6-AVERAGE(AUZ6:AVA6))) -> 1332852.2 | AXP6: =-NU6/(AKZ6*($B$6-AVERAGE(AVA6:AVB6))) -> 1337067.1 | AXQ6: =-NV6/(ALA6*($B$6-AVERAGE(AVB6:AVC6))) -> 1356193.6 | AXR6: =-NW6/(ALB6*($B$6-AVERAGE(AVC6:AVD6))) -> 1338885.6 | ... AZW6: =-QB6/(ANG6*($B$6-AVERAGE(AXH6:AXI6))) -> -236744.26 | AZX6: =-NP6/(SS6*($B$6-AVERAGE(AUU6:AUV6))) -> 290.03908 | AZY6: =-NQ6/(ST6*($B$6-AVERAGE(AUV6:AUW6))) -> 225.90853 | AZZ6: =-NR6/(SU6*($B$6-AVERAGE(AUW6:AUX6))) -> 150.21263 | BAA6: =-NS6/(SV6*($B$6-AVERAGE(AUX6:AUY6))) -> 158.47627 | BAB6: =-NT6/(SW6*($B$6-AVERAGE(AUY6:AUZ6))) -> 160.75315 | BAC6: =-NU6/(SX6*($B$6-AVERAGE(AUZ6:AVA6))) -> 158.59965 | BAD6: =-NV6/(SY6*($B$6-AVERAGE(AVA6:AVB6))) -> 160.04458 | BAE6: =-NW6/(SZ6*($B$6-AVERAGE(AVB6:AVC6))) -> 158.35628 | ... BCJ6: =-QB6/(VE6*($B$6-AVERAGE(AXG6:AXH6))) -> -57.641984 | BCK6: =-NP6/(SS6*($B$6-300)) -> 271.04789 | BCL6: =-NQ6/(ST6*($B$6-300)) -> 162.06172 | BCM6: =-NR6/(SU6*($B$6-300)) -> 59.604739 | BCN6: =-NS6/(SV6*($B$6-300)) -> 25.906808 | BCO6: =-NT6/(SW6*($B$6-300)) -> 11.394208 | BCP6: =-NU6/(SX6*($B$6-300)) -> 4.8128104 | BCQ6: =-NV6/(SY6*($B$6-300)) -> 2.0421937 | BCR6: =-NW6/(SZ6*($B$6-300)) -> 0.84635468 | ... BEW6: =-QB6/(VE6*($B$6-300)) -> -0.00049255809 | BEX6: =101325*0.02897/(8.314*AUU6) -> 1.1768843 | BEY6: =101325*0.02897/(8.314*AUV6) -> 0.87227271 | BEZ6: =101325*0.02897/(8.314*AUW6) -> 0.5453328 | BFA6: =101325*0.02897/(8.314*AUX6) -> 0.38473473 | BFB6: =101325*0.02897/(8.314*AUY6) -> 0.34588617 | BFC6: =101325*0.02897/(8.314*AUZ6) -> 0.33125676 | BFD6: =101325*0.02897/(8.314*AVA6) -> 0.32522268 | BFE6: =101325*0.02897/(8.314*AVB6) -> 0.32273689 | ... BHM6: =101325*0.02897/(8.314*AXJ6) -> 0.32096835 | BHN6: =+(-0.000000838278+0.0000000835717342*(AUU6)-0.0000000000769429583*(AUU6)^2+ 4.6437266E-14*(AUU6)^3-1.06585607E-17*(AUU6)^4) -> 1.8475849e-05 | BHO6: =+(-0.000000838278+0.0000000835717342*(AUV6)-0.0000000000769429583*(AUV6)^2+ 4.6437266E-14*(AUV6)^3-1.06585607E-17*(AUV6)^4) -> 2.3176074e-05 | BHP6: =+(-0.000000838278+0.0000000835717342*(AUW6)-0.0000000000769429583*(AUW6)^2+ 4.6437266E-14*(AUW6)^3-1.06585607E-17*(AUW6)^4) -> 3.1746214e-05 | BHQ6: =+(-0.000000838278+0.0000000835717342*(AUX6)-0.0000000000769429583*(AUX6)^2+ 4.6437266E-14*(AUX6)^3-1.06585607E-17*(AUX6)^4) -> 3.9385772e-05 | BHR6: =+(-0.000000838278+0.0000000835717342*(AUY6)-0.0000000000769429583*(AUY6)^2+ 4.6437266E-14*(AUY6)^3-1.06585607E-17*(AUY6)^4) -> 4.2115749e-05 | BHS6: =+(-0.000000838278+0.0000000835717342*(AUZ6)-0.0000000000769429583*(AUZ6)^2+ 4.6437266E-14*(AUZ6)^3-1.06585607E-17*(AUZ6)^4) -> 4.3298885e-05 | BHT6: =+(-0.000000838278+0.0000000835717342*(AVA6)-0.0000000000769429583*(AVA6)^2+ 4.6437266E-14*(AVA6)^3-1.06585607E-17*(AVA6)^4) -> 4.3816415e-05 | BHU6: =+(-0.000000838278+0.0000000835717342*(AVB6)-0.0000000000769429583*(AVB6)^2+ 4.6437266E-14*(AVB6)^3-1.06585607E-17*(AVB6)^4) -> 4.4034989e-05 | ... BKC6: =+(-0.000000838278+0.0000000835717342*(AXJ6)-0.0000000000769429583*(AXJ6)^2+ 4.6437266E-14*(AXJ6)^3-1.06585607E-17*(AXJ6)^4) -> 4.4192465e-05 | BKD6: =+(-0.00227583562+0.000115480022*(AUU6)-0.0000000790252856*(AUU6)^2+0.0000000000411702505*(AUU6)^3-7.43864331E-15*(AUU6)^4) -> 0.026307242 | BKE6: =+(-0.00227583562+0.000115480022*(AUV6)-0.0000000790252856*(AUV6)^2+0.0000000000411702505*(AUV6)^3-7.43864331E-15*(AUV6)^4) -> 0.034049862 | BKF6: =+(-0.00227583562+0.000115480022*(AUW6)-0.0000000790252856*(AUW6)^2+0.0000000000411702505*(AUW6)^3-7.43864331E-15*(AUW6)^4) -> 0.049230598 | BKG6: =+(-0.00227583562+0.000115480022*(AUX6)-0.0000000790252856*(AUX6)^2+0.0000000000411702505*(AUX6)^3-7.43864331E-15*(AUX6)^4) -> 0.063689469 | BKH6: =+(-0.00227583562+0.000115480022*(AUY6)-0.0000000790252856*(AUY6)^2+0.0000000000411702505*(AUY6)^3-7.43864331E-15*(AUY6)^4) -> 0.068972949 | BKI6: =+(-0.00227583562+0.000115480022*(AUZ6)-0.0000000790252856*(AUZ6)^2+0.0000000000411702505*(AUZ6)^3-7.43864331E-15*(AUZ6)^4) -> 0.071282842 | BKJ6: =+(-0.00227583562+0.000115480022*(AVA6)-0.0000000790252856*(AVA6)^2+0.0000000000411702505*(AVA6)^3-7.43864331E-15*(AVA6)^4) -> 0.072298255 | BKK6: =+(-0.00227583562+0.000115480022*(AVB6)-0.0000000790252856*(AVB6)^2+0.0000000000411702505*(AVB6)^3-7.43864331E-15*(AVB6)^4) -> 0.072728159 | ... BMS6: =+(-0.00227583562+0.000115480022*(AXJ6)-0.0000000790252856*(AXJ6)^2+0.0000000000411702505*(AXJ6)^3-7.43864331E-15*(AXJ6)^4) -> 0.073038304 | BMT6: =+(1047.63657-0.372589265*(AUU6)+0.000945304214*(AUU6)^2-0.000000602409443*(AUU6)^3+0.00000000012858961*(AUU6)^4) -> 1005.7137 | BMU6: =+(1047.63657-0.372589265*(AUV6)+0.000945304214*(AUV6)^2-0.000000602409443*(AUV6)^3+0.00000000012858961*(AUV6)^4) -> 1015.2022 | BMV6: =+(1047.63657-0.372589265*(AUW6)+0.000945304214*(AUW6)^2-0.000000602409443*(AUW6)^3+0.00000000012858961*(AUW6)^4) -> 1061.7614 | BMW6: =+(1047.63657-0.372589265*(AUX6)+0.000945304214*(AUX6)^2-0.000000602409443*(AUX6)^3+0.00000000012858961*(AUX6)^4) -> 1127.4411 | BMX6: =+(1047.63657-0.372589265*(AUY6)+0.000945304214*(AUY6)^2-0.000000602409443*(AUY6)^3+0.00000000012858961*(AUY6)^4) -> 1151.1652 | BMY6: =+(1047.63657-0.372589265*(AUZ6)+0.000945304214*(AUZ6)^2-0.000000602409443*(AUZ6)^3+0.00000000012858961*(AUZ6)^4) -> 1160.9401 | BMZ6: =+(1047.63657-0.372589265*(AVA6)+0.000945304214*(AVA6)^2-0.000000602409443*(AVA6)^3+0.00000000012858961*(AVA6)^4) -> 1165.0962 | BNA6: =+(1047.63657-0.372589265*(AVB6)+0.000945304214*(AVB6)^2-0.000000602409443*(AVB6)^3+0.00000000012858961*(AVB6)^4) -> 1166.8283 | ... BPI6: =+(1047.63657-0.372589265*(AXJ6)+0.000945304214*(AXJ6)^2-0.000000602409443*(AXJ6)^3+0.00000000012858961*(AXJ6)^4) -> 1168.0677 | BPJ6: =QC6/$B$1*100 -> 100 | BPK6: =QD6/$B$1*100 -> 99.986319 | BPL6: =QE6/$B$1*100 -> 67.084685 | BPM6: =QF6/$B$1*100 -> 67.06884 | BPN6: =QG6/$B$1*100 -> 67.075859 | BPO6: =QH6/$B$1*100 -> 67.069592 | BPP6: =QI6/$B$1*100 -> 67.081411 | BPQ6: =QJ6/$B$1*100 -> 67.064737 | ... BRY6: =SR6/$B$1*100 -> 100 | BRZ6: =VF6/(BPJ6/100) -> 0.4999997 | BSA6: =VG6/(BPK6/100) -> 0.7126503 | BSB6: =VH6/(BPL6/100) -> 2.6052265 | BSC6: =VI6/(BPM6/100) -> 3.8227216 | BSD6: =VJ6/(BPN6/100) -> 4.1985821 | BSE6: =VK6/(BPO6/100) -> 4.363505 | BSF6: =VL6/(BPP6/100) -> 4.4352779 | BSG6: =VM6/(BPQ6/100) -> 4.479527 | ... BUO6: =XU6/(BRY6/100) -> 1.856816 | BUP6: =AVERAGE(BEY6:BEZ6)*ASH6*AVERAGE(BSA6:BSB6)/AVERAGE(BHO6:BHP6) -> 68.786154 | BUQ6: =AVERAGE(BEZ6:BFA6)*ASI6*AVERAGE(BSB6:BSC6)/AVERAGE(BHP6:BHQ6) -> 30.387892 | BUR6: =AVERAGE(BFA6:BFB6)*ASJ6*AVERAGE(BSC6:BSD6)/AVERAGE(BHQ6:BHR6) -> 26.015186 | BUS6: =AVERAGE(BFB6:BFC6)*ASK6*AVERAGE(BSD6:BSE6)/AVERAGE(BHR6:BHS6) -> 24.72704 | BUT6: =AVERAGE(BFC6:BFD6)*ASL6*AVERAGE(BSE6:BSF6)/AVERAGE(BHS6:BHT6) -> 24.035418 | BUU6: =AVERAGE(BFD6:BFE6)*ASM6*AVERAGE(BSF6:BSG6)/AVERAGE(BHT6:BHU6) -> 23.849664 | BUV6: =AVERAGE(BFE6:BFF6)*ASN6*AVERAGE(BSG6:BSH6)/AVERAGE(BHU6:BHV6) -> 23.786767 | BUW6: =AVERAGE(BFF6:BFG6)*ASO6*AVERAGE(BSH6:BSI6)/AVERAGE(BHV6:BHW6) -> 23.85982 | ... BXB6: =AVERAGE(BHK6:BHL6)*AUT6*AVERAGE(BUM6:BUN6)/AVERAGE(BKA6:BKB6) -> 36.900077 | BXC6: =AVERAGE(BHO6:BHP6)*AVERAGE(BMU6:BMV6)/AVERAGE(BKE6:BKF6) -> 0.68486408 | BXD6: =AVERAGE(BHP6:BHQ6)*AVERAGE(BMV6:BMW6)/AVERAGE(BKF6:BKG6) -> 0.68952458 | BXE6: =AVERAGE(BHQ6:BHR6)*AVERAGE(BMW6:BMX6)/AVERAGE(BKG6:BKH6) -> 0.69993402 | BXF6: =AVERAGE(BHR6:BHS6)*AVERAGE(BMX6:BMY6)/AVERAGE(BKH6:BKI6) -> 0.70402663 | BXG6: =AVERAGE(BHS6:BHT6)*AVERAGE(BMY6:BMZ6)/AVERAGE(BKI6:BKJ6) -> 0.70564075 | BXH6: =AVERAGE(BHT6:BHU6)*AVERAGE(BMZ6:BNA6)/AVERAGE(BKJ6:BKK6) -> 0.70629493 | BXI6: =AVERAGE(BHU6:BHV6)*AVERAGE(BNA6:BNB6)/AVERAGE(BKK6:BKL6) -> 0.70656127 | BXJ6: =AVERAGE(BHV6:BHW6)*AVERAGE(BNB6:BNC6)/AVERAGE(BKL6:BKM6) -> 0.70667097 | ... BZO6: =AVERAGE(BKA6:BKB6)*AVERAGE(BPG6:BPH6)/AVERAGE(BMQ6:BMR6) -> 0.70674939 | BZP6: =AXK6*ASH6^2/AVERAGE(BKE6:BKF6) -> 46.82142 | BZQ6: =AXL6*ASI6^2/AVERAGE(BKF6:BKG6) -> 13.41485 | BZR6: =AXM6*ASJ6^2/AVERAGE(BKG6:BKH6) -> 10.213621 | BZS6: =AXN6*ASK6^2/AVERAGE(BKH6:BKI6) -> 9.8102484 | BZT6: =AXO6*ASL6^2/AVERAGE(BKI6:BKJ6) -> 9.7584196 | BZU6: =AXP6*ASM6^2/AVERAGE(BKJ6:BKK6) -> 9.7037257 | BZV6: =AXQ6*ASN6^2/AVERAGE(BKK6:BKL6) -> 9.8092707 | BZW6: =AXR6*ASO6^2/AVERAGE(BKL6:BKM6) -> 9.7540575 | ... CCB6: =AZW6*AUT6^2/AVERAGE(BMQ6:BMR6) -> -8.4099518 | CCC6: =AZX6*ASH6/AVERAGE(BKE6:BKF6) -> 11.189415 | CCD6: =AZY6*ASI6/AVERAGE(BKF6:BKG6) -> 2.8933445 | CCE6: =AZZ6*ASJ6/AVERAGE(BKG6:BKH6) -> 1.6386044 | CCF6: =BAA6*ASK6/AVERAGE(BKH6:BKI6) -> 1.6464473 | CCG6: =BAB6*ASL6/AVERAGE(BKI6:BKJ6) -> 1.6233964 | CCH6: =BAC6*ASM6/AVERAGE(BKJ6:BKK6) -> 1.5866689 | CCI6: =BAD6*ASN6/AVERAGE(BKK6:BKL6) -> 1.5950647 | CCJ6: =BAE6*ASO6/AVERAGE(BKL6:BKM6) -> 1.5825427 | ... CEO6: =BCJ6*AUT6/AVERAGE(BMQ6:BMR6) -> -1.2712214 | CEP6: =AVERAGE(BEY6:BEZ6)*ASH6*AVERAGE(VG6:VH6)/AVERAGE(BHO6:BHP6) -> 51.006077 | CEQ6: =AVERAGE(BEZ6:BFA6)*ASI6*AVERAGE(VH6:VI6)/AVERAGE(BHP6:BHQ6) -> 20.382758 | CER6: =AVERAGE(BFA6:BFB6)*ASJ6*AVERAGE(VI6:VJ6)/AVERAGE(BHQ6:BHR6) -> 17.449039 | CES6: =AVERAGE(BFB6:BFC6)*ASK6*AVERAGE(VJ6:VK6)/AVERAGE(BHR6:BHS6) -> 16.585085 | CET6: =AVERAGE(BFC6:BFD6)*ASL6*AVERAGE(VK6:VL6)/AVERAGE(BHS6:BHT6) -> 16.121889 | CEU6: =AVERAGE(BFD6:BFE6)*ASM6*AVERAGE(VL6:VM6)/AVERAGE(BHT6:BHU6) -> 15.996693 | CEV6: =AVERAGE(BFE6:BFF6)*ASN6*AVERAGE(VM6:VN6)/AVERAGE(BHU6:BHV6) -> 15.954347 | CEW6: =AVERAGE(BFF6:BFG6)*ASO6*AVERAGE(VN6:VO6)/AVERAGE(BHV6:BHW6) -> 16.003005 | ... CHB6: =AVERAGE(BHK6:BHL6)*AUT6*AVERAGE(XS6:XT6)/AVERAGE(BKA6:BKB6) -> 28.370809
