Workbook

Sheet RAW_DATA
A1: 1 | B1: 2 | C1: 3 | D1: 4 | E1: 5 | F1: 6 | G1: 7 | H1: 8 | I1: 9 | J1: 1 | K1: 2 | L1: 3 | M1: 4 | N1: 5 | O1: 6 | P1: 7 | Q1: 8 | R1: 9 | S1: 10 | T1: 11 | U1: 12 | V1: 13 | W1: 14 | X1: 15 | Y1: 16 | Z1: 17 | AA1: 18 | AB1: 19 | AC1: 20 | AD1: 21 | AE1: 22 | AF1: 23 | AG1: 24 | AH1: 25 | AI1: 26 | AJ1: 27 | AK1: 28 | AL1: 29 | AM1: 30 | AN1: 31 | AO1: 32 | AP1: 33 | AQ1: 34 | AR1: 35 | AS1: 36 | AT1: 37 | AU1: 38 | AV1: 39 | AW1: 40 | AX1: 41 | AY1: 42 | AZ1: 43 | BA1: 44 | BB1: 45 | BC1: 46 | BD1: 47 | BE1: 48 | BF1: 49 | BG1: 50 | BH1: 51 | BI1: 52 | BJ1: 53 | BK1: 54 | BL1: 55 | BM1: 56 | BN1: 57 | BO1: 58 | BP1: 59 | BQ1: 60 | BR1: 61 | BS1: 62 | BT1: 63 | BU1: 64 | BV1: 65 | BW1: 66 | BX1: 67 | BY1: 68 | BZ1: 1 | CA1: 2 | CB1: 3 | CC1: 4 | CD1: 5 | CE1: 6 | CF1: 7 | CG1: 8 | CH1: 9 | CI1: 10 | CJ1: 11 | CK1: 12 | CL1: 13 | CM1: 14 | CN1: 15 | CO1: 16 | CP1: 17 | CQ1: 18 | CR1: 19 | CS1: 20 | CT1: 21 | CU1: 22 | CV1: 23 | CW1: 24 | CX1: 25 | CY1: 26 | CZ1: 27 | DA1: 28 | DB1: 29 | DC1: 30 | DD1: 31 | DE1: 32 | DF1: 33 | DG1: 34 | DH1: 35 | DI1: 36 | DJ1: 37 | DK1: 38 | DL1: 39 | DM1: 40 | DN1: 41 | DO1: 42 | DP1: 43 | DQ1: 44 | DR1: 45 | DS1: 46 | DT1: 47 | DU1: 48 | DV1: 49 | DW1: 50 | DX1: 51 | DY1: 52 | DZ1: 53 | EA1: 54 | EB1: 55 | EC1: 56 | ED1: 57 | EE1: 58 | EF1: 59 | EG1: 60 | EH1: 61 | EI1: 62 | EJ1: 63 | EK1: 64 | EL1: 65 | EM1: 66 | EN1: 67 | EO1: 68 | EP1: 1 | EQ1: 2 | ER1: 3 | ES1: 4 | ET1: 5 | EU1: 6 | EV1: 7 | EW1: 8 | EX1: 9 | EY1: 10 | EZ1: 11 | FA1: 12 | FB1: 13 | FC1: 14 | FD1: 15 | FE1: 16 | FF1: 17 | FG1: 18 | FH1: 19 | FI1: 20 | FJ1: 21 | FK1: 22 | FL1: 23 | FM1: 24 | FN1: 25 | FO1: 26 | FP1: 27 | FQ1: 28 | FR1: 29 | FS1: 30 | FT1: 31 | FU1: 32 | FV1: 33 | FW1: 34 | FX1: 35 | FY1: 36 | FZ1: 37 | GA1: 38 | GB1: 39 | GC1: 40 | GD1: 41 | GE1: 42 | GF1: 43 | GG1: 44 | GH1: 45 | GI1: 46 | GJ1: 47 | GK1: 48 | GL1: 49 | GM1: 50 | GN1: 51 | GO1: 52 | GP1: 53 | GQ1: 54 | GR1: 55 | GS1: 56 | GT1: 57 | GU1: 58 | GV1: 59 | GW1: 60 | GX1: 61 | GY1: 62 | GZ1: 63 | HA1: 64 | HB1: 65 | HC1: 66 | HD1: 67 | HE1: 68 | HF1: 1 | HG1: 2 | HH1: 3 | HI1: 4 | HJ1: 5 | HK1: 6 | HL1: 7 | HM1: 8 | HN1: 9 | HO1: 10 | HP1: 11 | HQ1: 12 | HR1: 13 | HS1: 14 | HT1: 15 | HU1: 16 | HV1: 17 | HW1: 18 | HX1: 19 | HY1: 20 | HZ1: 21 | IA1: 22 | IB1: 23 | IC1: 24 | ID1: 25 | IE1: 26 | IF1: 27 | IG1: 28 | IH1: 29 | II1: 30 | IJ1: 31 | IK1: 32 | IL1: 33 | IM1: 34 | IN1: 35 | IO1: 36 | IP1: 37 | IQ1: 38 | IR1: 39 | IS1: 40 | IT1: 41 | IU1: 42 | IV1: 43 | IW1: 44 | IX1: 45 | IY1: 46 | IZ1: 47 | JA1: 48 | JB1: 49 | JC1: 50 | JD1: 51 | JE1: 52 | JF1: 53 | JG1: 54 | JH1: 55 | JI1: 56 | JJ1: 57 | JK1: 58 | JL1: 59 | JM1: 60 | JN1: 61 | JO1: 62 | JP1: 63 | JQ1: 64 | JR1: 65 | JS1: 1 | JT1: 2 | JU1: 3 | JV1: 4 | JW1: 5 | JX1: 6 | JY1: 7 | JZ1: 8 | KA1: 9 | KB1: 10 | KC1: 11 | KD1: 12 | KE1: 13 | KF1: 14 | KG1: 15 | KH1: 16 | KI1: 17 | KJ1: 18 | KK1: 19 | KL1: 20 | KM1: 21 | KN1: 22 | KO1: 23 | KP1: 24 | KQ1: 25 | KR1: 26 | KS1: 27 | KT1: 28 | KU1: 29 | KV1: 30 | KW1: 31 | KX1: 32 | KY1: 33 | KZ1: 34 | LA1: 35 | LB1: 36 | LC1: 37 | LD1: 38 | LE1: 39 | LF1: 40 | LG1: 41 | LH1: 42 | LI1: 43 | LJ1: 44 | LK1: 45 | LL1: 46 | LM1: 47 | LN1: 48 | LO1: 49 | LP1: 50 | LQ1: 51 | LR1: 52 | LS1: 53 | LT1: 54 | LU1: 55 | LV1: 56 | LW1: 57 | LX1: 58 | LY1: 59 | LZ1: 60 | MA1: 61 | MB1: 62 | MC1: 63 | MD1: 64 | ME1: 65 | MF1: 1 | MG1: 2 | MH1: 3 | MI1: 4 | MJ1: 5 | MK1: 6 | ML1: 7 | MM1: 8 | MN1: 9 | MO1: 10 | MP1: 11 | MQ1: 12 | MR1: 13 | MS1: 14 | MT1: 15 | MU1: 16 | MV1: 17 | MW1: 18 | MX1: 19 | MY1: 20 | MZ1: 21 | NA1: 22 | NB1: 23 | NC1: 24 | ND1: 25 | NE1: 26 | NF1: 27 | NG1: 28 | NH1: 29 | NI1: 30 | NJ1: 31 | NK1: 32 | NL1: 33 | NM1: 34 | NN1: 35 | NO1: 36 | NP1: 37 | NQ1: 38 | NR1: 39 | NS1: 40 | NT1: 41 | NU1: 42 | NV1: 43 | NW1: 44 | NX1: 45 | NY1: 46 | NZ1: 47 | OA1: 48 | OB1: 49 | OC1: 50 | OD1: 51 | OE1: 52 | OF1: 53 | OG1: 54 | OH1: 55 | OI1: 56 | OJ1: 57 | OK1: 58 | OL1: 59 | OM1: 60 | ON1: 61 | OO1: 62 | OP1: 63 | OQ1: 64 | OR1: 65 | OS1: 1 | OT1: 2 | OU1: 3 | OV1: 4 | OW1: 5 | OX1: 6 | OY1: 7 | OZ1: 8 | PA1: 9 | PB1: 10 | PC1: 11 | PD1: 12 | PE1: 13 | PF1: 14 | PG1: 15 | PH1: 16 | PI1: 17 | PJ1: 18 | PK1: 19 | PL1: 20 | PM1: 21 | PN1: 22 | PO1: 23 | PP1: 24 | PQ1: 25 | PR1: 26 | PS1: 27 | PT1: 28 | PU1: 29 | PV1: 30 | PW1: 31 | PX1: 32 | PY1: 33 | PZ1: 34 | QA1: 35 | QB1: 36 | QC1: 37 | QD1: 38 | QE1: 39 | QF1: 40 | QG1: 41 | QH1: 42 | QI1: 43 | QJ1: 44 | QK1: 45 | QL1: 46 | QM1: 47 | QN1: 48 | QO1: 49 | QP1: 50 | QQ1: 51 | QR1: 52 | QS1: 53 | QT1: 54 | QU1: 55 | QV1: 56 | QW1: 57 | QX1: 58 | QY1: 59 | QZ1: 60 | RA1: 61 | RB1: 62 | RC1: 63 | RD1: 64 | RE1: 65 | RF1: 66 | RG1: 67 | RH1: 68 | RI1: 1 | RJ1: 2 | RK1: 3 | RL1: 4 | RM1: 5 | RN1: 6 | RO1: 7 | RP1: 8 | RQ1: 9 | RR1: 10 | RS1: 11 | RT1: 12 | RU1: 13 | RV1: 14 | RW1: 15 | RX1: 16 | RY1: 17 | RZ1: 18 | SA1: 19 | SB1: 20 | SC1: 21 | SD1: 22 | SE1: 23 | SF1: 24 | SG1: 25 | SH1: 26 | SI1: 27 | SJ1: 28 | SK1: 29 | SL1: 30 | SM1: 31 | SN1: 32 | SO1: 33 | SP1: 34 | SQ1: 35 | SR1: 36 | SS1: 37 | ST1: 38 | SU1: 39 | SV1: 40 | SW1: 41 | SX1: 42 | SY1: 43 | SZ1: 44 | TA1: 45 | TB1: 46 | TC1: 47 | TD1: 48 | TE1: 49 | TF1: 50 | TG1: 51 | TH1: 52 | TI1: 53 | TJ1: 54 | TK1: 55 | TL1: 56 | TM1: 57 | TN1: 58 | TO1: 59 | TP1: 60 | TQ1: 61 | TR1: 62 | TS1: 63 | TT1: 64 | TU1: 65 | TV1: 1 | TW1: 2 | TX1: 3 | TY1: 4 | TZ1: 5 | UA1: 6 | UB1: 7 | UC1: 8 | UD1: 9 | UE1: 10 | UF1: 11 | UG1: 12 | UH1: 13 | UI1: 14 | UJ1: 15 | UK1: 16 | UL1: 17 | UM1: 18 | UN1: 19 | UO1: 20 | UP1: 21 | UQ1: 22 | UR1: 23 | US1: 24 | UT1: 25 | UU1: 26 | UV1: 27 | UW1: 28 | UX1: 29 | UY1: 30 | UZ1: 31 | VA1: 32 | VB1: 33 | VC1: 34 | VD1: 35 | VE1: 36 | VF1: 37 | VG1: 38 | VH1: 39 | VI1: 40 | VJ1: 41 | VK1: 42 | VL1: 43 | VM1: 44 | VN1: 45 | VO1: 46 | VP1: 47 | VQ1: 48 | VR1: 49 | VS1: 50 | VT1: 51 | VU1: 52 | VV1: 53 | VW1: 54 | VX1: 55 | VY1: 56 | VZ1: 57 | WA1: 58 | WB1: 59 | WC1: 60 | WD1: 61 | WE1: 62 | WF1: 63 | WG1: 64 | WH1: 65 | WI1: 66 | WJ1: 67 | WK1: 68 | WL1: 1 | WM1: 2 | WN1: 3 | WO1: 4 | WP1: 5 | WQ1: 6 | WR1: 7 | WS1: 8 | WT1: 9 | WU1: 10 | WV1: 11 | WW1: 12 | WX1: 13 | WY1: 14 | WZ1: 15 | XA1: 16 | XB1: 17 | XC1: 18 | XD1: 19 | XE1: 20 | XF1: 21 | XG1: 22 | XH1: 23 | XI1: 24 | XJ1: 25 | XK1: 26 | XL1: 27 | XM1: 28 | XN1: 29 | XO1: 30 | XP1: 31 | XQ1: 32 | XR1: 33 | XS1: 34 | XT1: 35 | XU1: 36 | XV1: 37 | XW1: 38 | XX1: 39 | XY1: 40 | XZ1: 41 | YA1: 42 | YB1: 43 | YC1: 44 | YD1: 45 | YE1: 46 | YF1: 47 | YG1: 48 | YH1: 49 | YI1: 50 | YJ1: 51 | YK1: 52 | YL1: 53 | YM1: 54 | YN1: 55 | YO1: 56 | YP1: 57 | YQ1: 58 | YR1: 59 | YS1: 60 | YT1: 61 | YU1: 62 | YV1: 63 | YW1: 64 | YX1: 65 | YY1: 1 | YZ1: 2 | ZA1: 3 | ZB1: 4 | ZC1: 5 | ZD1: 6 | ZE1: 7 | ZF1: 8 | ZG1: 9 | ZH1: 10 | ZI1: 11 | ZJ1: 12 | ZK1: 13 | ZL1: 14 | ZM1: 15 | ZN1: 16 | ZO1: 17 | ZP1: 18 | ZQ1: 19 | ZR1: 20 | ZS1: 21 | ZT1: 22 | ZU1: 23 | ZV1: 24 | ZW1: 25 | ZX1: 26 | ZY1: 27 | ZZ1: 28 | AAA1: 29 | AAB1: 30 | AAC1: 31 | AAD1: 32 | AAE1: 33 | AAF1: 34 | AAG1: 35 | AAH1: 36 | AAI1: 37 | AAJ1: 38 | AAK1: 39 | AAL1: 40 | AAM1: 41 | AAN1: 42 | AAO1: 43 | AAP1: 44 | AAQ1: 45 | AAR1: 46 | AAS1: 47 | AAT1: 48 | AAU1: 49 | AAV1: 50 | AAW1: 51 | AAX1: 52 | AAY1: 53 | AAZ1: 54 | ABA1: 55 | ABB1: 56 | ABC1: 57 | ABD1: 58 | ABE1: 59 | ABF1: 60 | ABG1: 61 | ABH1: 62 | ABI1: 63 | ABJ1: 64 | ABK1: 65 | ABL1: 66 | ABM1: 67 | ABN1: 68 | ABO1: 1 | ABP1: 2 | ABQ1: 3 | ABR1: 4 | ABS1: 5 | ABT1: 6 | ABU1: 7 | ABV1: 8 | ABW1: 9 | ABX1: 10 | ABY1: 11 | ABZ1: 12 | ACA1: 13 | ACB1: 14 | ACC1: 15 | ACD1: 16 | ACE1: 17 | ACF1: 18 | ACG1: 19 | ACH1: 20 | ACI1: 21 | ACJ1: 22 | ACK1: 23 | ACL1: 24 | ACM1: 25 | ACN1: 26 | ACO1: 27 | ACP1: 28 | ACQ1: 29 | ACR1: 30 | ACS1: 31 | ACT1: 32 | ACU1: 33 | ACV1: 34 | ACW1: 35 | ACX1: 36 | ACY1: 37 | ACZ1: 38 | ADA1: 39 | ADB1: 40 | ADC1: 41 | ADD1: 42 | ADE1: 43 | ADF1: 44 | ADG1: 45 | ADH1: 46 | ADI1: 47 | ADJ1: 48 | ADK1: 49 | ADL1: 50 | ADM1: 51 | ADN1: 52 | ADO1: 53 | ADP1: 54 | ADQ1: 55 | ADR1: 56 | ADS1: 57 | ADT1: 58 | ADU1: 59 | ADV1: 60 | ADW1: 61 | ADX1: 62 | ADY1: 63 | ADZ1: 64 | AEA1: 65 | AEB1: 66 | AEC1: 67 | AED1: 68 | AEE1: 1 | AEF1: 2 | AEG1: 3 | AEH1: 4 | AEI1: 5 | AEJ1: 6 | AEK1: 7 | AEL1: 8 | AEM1: 9 | AEN1: 10 | AEO1: 11 | AEP1: 12 | AEQ1: 13 | AER1: 14 | AES1: 15 | AET1: 16 | AEU1: 17 | AEV1: 18 | AEW1: 19 | AEX1: 20 | AEY1: 21 | AEZ1: 22 | AFA1: 23 | AFB1: 24 | AFC1: 25 | AFD1: 26 | AFE1: 27 | AFF1: 28 | AFG1: 29 | AFH1: 30 | AFI1: 31 | AFJ1: 32 | AFK1: 33 | AFL1: 34 | AFM1: 35 | AFN1: 36 | AFO1: 37 | AFP1: 38 | AFQ1: 39 | AFR1: 40 | AFS1: 41 | AFT1: 42 | AFU1: 43 | AFV1: 44 | AFW1: 45 | AFX1: 46 | AFY1: 47 | AFZ1: 48 | AGA1: 49 | AGB1: 50 | AGC1: 51 | AGD1: 52 | AGE1: 53 | AGF1: 54 | AGG1: 55 | AGH1: 56 | AGI1: 57 | AGJ1: 58 | AGK1: 59 | AGL1: 60 | AGM1: 61 | AGN1: 62 | AGO1: 63 | AGP1: 64 | AGQ1: 65 | AGR1: 66 | AGS1: 67 | AGT1: 68 | AGU1: 1 | AGV1: 2 | AGW1: 3 | AGX1: 4 | AGY1: 5 | AGZ1: 6 | AHA1: 7 | AHB1: 8 | AHC1: 9 | AHD1: 10 | AHE1: 11 | AHF1: 12 | AHG1: 13 | AHH1: 14 | AHI1: 15 | AHJ1: 16 | AHK1: 17 | AHL1: 18 | AHM1: 19 | AHN1: 20 | AHO1: 21 | AHP1: 22 | AHQ1: 23 | AHR1: 24 | AHS1: 25 | AHT1: 26 | AHU1: 27 | AHV1: 28 | AHW1: 29 | AHX1: 30 | AHY1: 31 | AHZ1: 32 | AIA1: 33 | AIB1: 34 | AIC1: 35 | AID1: 36 | AIE1: 37 | AIF1: 38 | AIG1: 39 | AIH1: 40 | AII1: 41 | AIJ1: 42 | AIK1: 43 | AIL1: 44 | AIM1: 45 | AIN1: 46 | AIO1: 47 | AIP1: 48 | AIQ1: 49 | AIR1: 50 | AIS1: 51 | AIT1: 52 | AIU1: 53 | AIV1: 54 | AIW1: 55 | AIX1: 56 | AIY1: 57 | AIZ1: 58 | AJA1: 59 | AJB1: 60 | AJC1: 61 | AJD1: 62 | AJE1: 63 | AJF1: 64 | AJG1: 65 | AJH1: 66
A2: GLOBALES | J2: mcpT_PS | BZ2: mcp_PS | EP2: mcpv_PS | HF2: h_T | JS2: hlocal_T | MF2: HF_T | OS2: A_PS | RI2: Awires_T | TV2: vlocal_PS | WL2: vsup_PS | YY2: P_PS | ABO2: mcpP_PS | AEE2: T_PS | AGU2: Vair_T
A3: {=TRANSPOSE($M$7:$M$15)} -> 72.46491 | B3: 12578.43 | C3: 1499.866 | D3: 1499.279 | E3: -3.514361e-05 | F3: -8.058448e-09 | G3: -47.21601 | H3: 0.0005429756 | I3: 4.244629e-07 | J3: {=TRANSPOSE(N7:N75)} -> -10.60339 | K3: -11.17078 | L3: -15.82714 | M3: -23.49254 | N3: -28.6769 | O3: -32.2633 | P3: -35.3906 | Q3: -38.1757 | R3: -40.80721 | S3: -43.15226 | T3: -45.35299 | U3: -47.35392 | V3: -49.22369 | W3: -50.80294 | X3: -52.38674 | Y3: -53.69705 | Z3: -54.93986 | AA3: -56.01236 | AB3: -57.06008 | AC3: -57.88288 | AD3: -58.71726 | AE3: -59.40109 | AF3: -60.0668 | AG3: -60.60158 | AH3: -61.12916 | AI3: -61.56822 | AJ3: -61.94164 | AK3: -62.27371 | AL3: -62.63819 | AM3: -62.85644 | AN3: -63.02587 | AO3: -63.28581 | AP3: -63.52094 | AQ3: -63.62694 | AR3: -63.76489 | AS3: -63.94901 | AT3: -64.01759 | AU3: -64.08306 | AV3: -64.20816 | AW3: -64.27324 | AX3: -64.3339 | AY3: -64.47409 | AZ3: -64.51983 | BA3: -64.582 | BB3: -64.65727 | BC3: -64.62453 | BD3: -64.7112 | BE3: -64.65349 | BF3: -64.7296 | BG3: -64.80364 | BH3: -64.73076 | BI3: -64.74384 | BJ3: -64.79338 | BK3: -64.75233 | BL3: -64.79599 | BM3: -64.79985 | BN3: -64.85032 | BO3: -64.83223 | BP3: -64.86796 | BQ3: -64.88229 | BR3: -64.87523 | BS3: -64.8542 | BT3: -64.94823 | BU3: -64.91568 | BV3: -64.85949 | BW3: -64.87139 | BX3: -64.89552 | BY3: -64.95889 | BZ3: {=TRANSPOSE(O7:O75)} -> -0.03534462 | CA3: -0.0352458 | CB3: -0.03591539 | CC3: -0.03714804 | CD3: -0.03805064 | CE3: -0.03863911 | CF3: -0.03915701 | CG3: -0.03967424 | CH3: -0.0401427 | CI3: -0.04054693 | CJ3: -0.04087783 | CK3: -0.04122426 | CL3: -0.0414921 | CM3: -0.04170246 | CN3: -0.04192432 | CO3: -0.04209731 | CP3: -0.04223254 | CQ3: -0.04237166 | CR3: -0.0425078 | CS3: -0.04258937 | CT3: -0.0426906 | CU3: -0.04277397 | CV3: -0.04285712 | CW3: -0.04290904 | CX3: -0.04297525 | CY3: -0.04303286 | CZ3: -0.04305212 | DA3: -0.04308565 | DB3: -0.04315291 | DC3: -0.04314839 | DD3: -0.04311876 | DE3: -0.04317536 | DF3: -0.04322348 | DG3: -0.04320118 | DH3: -0.04320689 | DI3: -0.04325827 | DJ3: -0.0432364 | DK3: -0.04322261 | DL3: -0.04325447 | DM3: -0.04325312 | DN3: -0.0432535 | DO3: -0.0433122 | DP3: -0.04331157 | DQ3: -0.04332542 | DR3: -0.04335143 | DS3: -0.04330798 | DT3: -0.04334732 | DU3: -0.04329153 | DV3: -0.04332791 | DW3: -0.04336407 | DX3: -0.04330403 | DY3: -0.04330222 | DZ3: -0.04332681 | EA3: -0.04329104 | EB3: -0.04331365 | EC3: -0.04330964 | ED3: -0.04333866 | EE3: -0.04332113 | EF3: -0.04334142 | EG3: -0.04334675 | EH3: -0.04333948 | EI3: -0.04332203 | EJ3: -0.04338291 | EK3: -0.04335832 | EL3: -0.04332025 | EM3: -0.04332111 | EN3: -0.04332166 | EO3: -0.04335254 | EP3: {=TRANSPOSE(P7:P75)} -> 0.1767222 | EQ3: 0.2043664 | ER3: 0.4468111 | ES3: 0.798269 | ET3: 1.062439 | EU3: 1.250588 | EV3: 1.424765 | EW3: 1.57942 | EX3: 1.729669 | EY3: 1.859793 | EZ3: 1.988551 | FA3: 2.097511 | FB3: 2.20602 | FC3: 2.292004 | FD3: 2.382769 | FE3: 2.452013 | FF3: 2.525326 | FG3: 2.58066 | FH3: 2.643709 | FI3: 2.685671 | FJ3: 2.737571 | FK3: 2.773673 | FL3: 2.818123 | FM3: 2.841858 | FN3: 2.879771 | FO3: 2.903589 | FP3: 2.931211 | FQ3: 2.948333 | FR3: 2.97907 | FS3: 2.989392 | FT3: 3.007027 | FU3: 3.018319 | FV3: 3.044303 | FW3: 3.048643 | FX3: 3.066391 | FY3: 3.076527 | FZ3: 3.090449 | GA3: 3.092366 | GB3: 3.11209 | GC3: 3.114914 | GD3: 3.133205 | GE3: 3.139722 | GF3: 3.154674 | GG3: 3.156466 | GH3: 3.173471 | GI3: 3.172436 | GJ3: 3.191162 | GK3: 3.186436 | GL3: 3.204079 | GM3: 3.207965 | GN3: 3.215504 | GO3: 3.217144 | GP3: 3.232493 | GQ3: 3.230026 | GR3: 3.245038 | GS3: 3.244684 | GT3: 3.263407 | GU3: 3.259636 | GV3: 3.275905 | GW3: 3.276438 | GX3: 3.291827 | GY3: 3.290132 | GZ3: 3.30848 | HA3: 3.303593 | HB3: 3.329366 | HC3: 3.231847 | HD3: 2.960587 | HE3: 2.924219 | HF3: {=TRANSPOSE(Q7:Q72)} -> 878.3948 | HG3: 683.5755 | HH3: 451.8567 | HI3: 309.3684 | HJ3: 270.4852 | HK3: 235.6354 | HL3: 223.2234 | HM3: 194.7559 | HN3: 188.0847 | HO3: 162.4902 | HP3: 157.9586 | HQ3: 134.1357 | HR3: 131.0872 | HS3: 109.7909 | HT3: 106.8345 | HU3: 88.62832 | HV3: 86.51052 | HW3: 71.24603 | HX3: 69.16267 | HY3: 56.89315 | HZ3: 54.91568 | IA3: 45.20182 | IB3: 43.32016 | IC3: 35.78379 | ID3: 34.14257 | IE3: 28.22606 | IF3: 26.92441 | IG3: 22.26059 | IH3: 21.09084 | II3: 17.5269 | IJ3: 16.52185 | IK3: 13.72525 | IL3: 12.90338 | IM3: 10.76984 | IN3: 10.07898 | IO3: 8.457735 | IP3: 7.854928 | IQ3: 6.613349 | IR3: 6.131821 | IS3: 5.181024 | IT3: 4.786411 | IU3: 4.054891 | IV3: 3.740244 | IW3: 3.172666 | IX3: 2.923762 | IY3: 2.487531 | IZ3: 2.279918 | JA3: 1.954978 | JB3: 1.784245 | JC3: 1.531458 | JD3: 1.397005 | JE3: 1.202472 | JF3: 1.094785 | JG3: 0.9467164 | JH3: 0.8596013 | JI3: 0.7463332 | JJ3: 0.6750601 | JK3: 0.5880039 | JL3: 0.5294628 | JM3: 0.4650672 | JN3: 0.4173306 | JO3: 0.3663564 | JP3: 0.3322463 | JQ3: 0.2664944 | JR3: 0.1149833 | JS3: {=TRANSPOSE(R7:R72)} -> 26313.22 | JT3: 31490.64 | JU3: 31696.88 | JV3: 31703.1 | JW3: 31860.95 | JX3: 31773.66 | JY3: 31869.64 | JZ3: 31912.98 | KA3: 31878.59 | KB3: 31822.21 | KC3: 31898.07 | KD3: 31980.46 | KE3: 31988.38 | KF3: 31890.61 | KG3: 32038.21 | KH3: 31868.22 | KI3: 31989.47 | KJ3: 32091.67 | KK3: 32023.59 | KL3: 32031.3 | KM3: 31974.99 | KN3: 31826.14 | KO3: 32054.16 | KP3: 31934 | KQ3: 32100.84 | KR3: 31945.23 | KS3: 32067.18 | KT3: 32021.84 | KU3: 31999.98 | KV3: 31983.65 | KW3: 32032.43 | KX3: 31910.31 | KY3: 31859.11 | KZ3: 32028.18 | LA3: 32019.9 | LB3: 32041.71 | LC3: 31984.11 | LD3: 32116.78 | LE3: 32010.74 | LF3: 32027.86 | LG3: 32050.85 | LH3: 31919.48 | LI3: 31970.29 | LJ3: 32008.07 | LK3: 32015.27 | LL3: 31951.82 | LM3: 32069.67 | LN3: 31970.48 | LO3: 32028.33 | LP3: 32042.23 | LQ3: 31959.92 | LR3: 31982.76 | LS3: 31888.07 | LT3: 32072.51 | LU3: 32023.94 | LV3: 32136.74 | LW3: 31999.28 | LX3: 31986.66 | LY3: 32021.94 | LZ3: 32076.99 | MA3: 32057.47 | MB3: 32011.83 | MC3: 31944.8 | MD3: 32129.04 | ME3: 26966.19 | MF3: {=TRANSPOSE(S7:S72)} -> -4.479894 | MG3: -6.956472 | MH3: -4.601453 | MI3: -3.147804 | MJ3: -2.755097 | MK3: -2.3969 | ML3: -2.273424 | MM3: -1.98131 | MN3: -1.916291 | MO3: -1.652434 | MP3: -1.609826 | MQ3: -1.365146 | MR3: -1.335319 | MS3: -1.118136 | MT3: -1.087436 | MU3: -0.9022837 | MV3: -0.8800952 | MW3: -0.7251897 | MX3: -0.7041724 | MY3: -0.5790832 | MZ3: -0.558911 | NA3: -0.460552 | NB3: -0.4410757 | NC3: -0.3642045 | ND3: -0.3475438 | NE3: -0.2874159 | NF3: -0.274067 | NG3: -0.2265455 | NH3: -0.2148392 | NI3: -0.1783339 | NJ3: -0.1683489 | NK3: -0.1396133 | NL3: -0.1314071 | NM3: -0.1095935 | NN3: -0.1026759 | NO3: -0.08609423 | NP3: -0.07993198 | NQ3: -0.06733689 | NR3: -0.06243953 | NS3: -0.05273589 | NT3: -0.04875299 | NU3: -0.04126634 | NV3: -0.03804978 | NW3: -0.03231062 | NX3: -0.02979765 | NY3: -0.02530984 | NZ3: -0.02319541 | OA3: -0.01990327 | OB3: -0.0181817 | OC3: -0.01559211 | OD3: -0.0142162 | OE3: -0.0122323 | OF3: -0.01114744 | OG3: -0.009637996 | OH3: -0.008753851 | OI3: -0.007597815 | OJ3: -0.006866179 | OK3: -0.005996838 | OL3: -0.005387714 | OM3: -0.004733292 | ON3: -0.004246111 | OO3: -0.003729282 | OP3: -0.003381501 | OQ3: -0.002713364 | OR3: -0.0005862601 | OS3: {=TRANSPOSE(T7:T75)} -> 5.3138e-06 | OT3: 5.313073e-06 | OU3: 3.564746e-06 | OV3: 3.563904e-06 | OW3: 3.564277e-06 | OX3: 3.563944e-06 | OY3: 3.564572e-06 | OZ3: 3.563686e-06 | PA3: 3.564496e-06 | PB3: 3.563536e-06 | PC3: 3.564789e-06 | PD3: 3.563678e-06 | PE3: 3.564551e-06 | PF3: 3.563844e-06 | PG3: 3.564489e-06 | PH3: 3.564108e-06 | PI3: 3.564233e-06 | PJ3: 3.563812e-06 | PK3: 3.564622e-06 | PL3: 3.563678e-06 | PM3: 3.564567e-06 | PN3: 3.563854e-06 | PO3: 3.564945e-06 | PP3: 3.563902e-06 | PQ3: 3.564379e-06 | PR3: 3.56368e-06 | PS3: 3.56441e-06 | PT3: 3.563731e-06 | PU3: 3.564607e-06 | PV3: 3.563858e-06 | PW3: 3.564898e-06 | PX3: 3.563768e-06 | PY3: 3.564858e-06 | PZ3: 3.563818e-06 | QA3: 3.564644e-06 | QB3: 3.563827e-06 | QC3: 3.564439e-06 | QD3: 3.563753e-06 | QE3: 3.564478e-06 | QF3: 3.563875e-06 | QG3: 3.564676e-06 | QH3: 3.563739e-06 | QI3: 3.564813e-06 | QJ3: 3.564007e-06 | QK3: 3.564467e-06 | QL3: 3.563828e-06 | QM3: 3.56441e-06 | QN3: 3.563801e-06 | QO3: 3.564509e-06 | QP3: 3.563911e-06 | QQ3: 3.564838e-06 | QR3: 3.564055e-06 | QS3: 3.56489e-06 | QT3: 3.563696e-06 | QU3: 3.564462e-06 | QV3: 3.563648e-06 | QW3: 3.564393e-06 | QX3: 3.563573e-06 | QY3: 3.564398e-06 | QZ3: 3.563694e-06 | RA3: 3.564613e-06 | RB3: 3.56382e-06 | RC3: 3.564606e-06 | RD3: 3.563718e-06 | RE3: 3.564525e-06 | RF3: 3.563732e-06 | RG3: 5.312049e-06 | RH3: 5.3138e-06 | RI3: {=TRANSPOSE(U7:U72)} -> 4.250076e-06 | RJ3: 8.480496e-06 | RK3: 8.486196e-06 | RL3: 8.479113e-06 | RM3: 8.488132e-06 | RN3: 8.476726e-06 | RO3: 8.487105e-06 | RP3: 8.477749e-06 | RQ3: 8.490375e-06 | RR3: 8.474531e-06 | RS3: 8.49287e-06 | RT3: 8.481126e-06 | RU3: 8.488744e-06 | RV3: 8.486854e-06 | RW3: 8.482247e-06 | RX3: 8.483779e-06 | RY3: 8.477727e-06 | RZ3: 8.482223e-06 | SA3: 8.484495e-06 | SB3: 8.482029e-06 | SC3: 8.481351e-06 | SD3: 8.490662e-06 | SE3: 8.484803e-06 | SF3: 8.4816e-06 | SG3: 8.482663e-06 | SH3: 8.485535e-06 | SI3: 8.482609e-06 | SJ3: 8.480812e-06 | SK3: 8.488644e-06 | SL3: 8.479058e-06 | SM3: 8.491222e-06 | SN3: 8.47667e-06 | SO3: 8.486607e-06 | SP3: 8.479972e-06 | SQ3: 8.489271e-06 | SR3: 8.48279e-06 | SS3: 8.480025e-06 | ST3: 8.484971e-06 | SU3: 8.485724e-06 | SV3: 8.482219e-06 | SW3: 8.488091e-06 | SX3: 8.480776e-06 | SY3: 8.47756e-06 | SZ3: 8.486718e-06 | TA3: 8.492953e-06 | TB3: 8.478901e-06 | TC3: 8.478159e-06 | TD3: 8.484012e-06 | TE3: 8.491781e-06 | TF3: 8.484347e-06 | TG3: 8.480165e-06 | TH3: 8.477189e-06 | TI3: 8.485257e-06 | TJ3: 8.483706e-06 | TK3: 8.486348e-06 | TL3: 8.483493e-06 | TM3: 8.476009e-06 | TN3: 8.498865e-06 | TO3: 8.479842e-06 | TP3: 8.481377e-06 | TQ3: 8.478713e-06 | TR3: 8.482819e-06 | TS3: 8.481413e-06 | TT3: 8.484743e-06 | TU3: 4.248877e-06 | TV3: {=TRANSPOSE(V7:V75)} -> 4.999975 | TW3: 5.632576 | TX3: 11.7087 | TY3: 18.60097 | TZ3: 21.76487 | UA3: 23.40387 | UB3: 25.38052 | UC3: 27.04584 | UD3: 28.55865 | UE3: 29.99079 | UF3: 31.17951 | UG3: 32.42162 | UH3: 33.38036 | UI3: 34.40851 | UJ3: 35.20393 | UK3: 36.09429 | UL3: 36.69734 | UM3: 37.48423 | UN3: 37.96721 | UO3: 38.64693 | UP3: 39.00949 | UQ3: 39.61288 | UR3: 39.8877 | US3: 40.41061 | UT3: 40.62228 | UU3: 41.08206 | UV3: 41.21283 | UW3: 41.62948 | UX3: 41.73001 | UY3: 42.08619 | UZ3: 42.08643 | VA3: 42.48107 | VB3: 42.5297 | VC3: 42.83119 | VD3: 42.82864 | VE3: 43.17947 | VF3: 43.14183 | VG3: 43.42023 | VH3: 43.41805 | VI3: 43.70689 | VJ3: 43.67092 | VK3: 44.00335 | VL3: 43.93079 | VM3: 44.23018 | VN3: 44.18149 | VO3: 44.42942 | VP3: 44.38734 | VQ3: 44.59391 | VR3: 44.56858 | VS3: 44.87077 | VT3: 44.7403 | VU3: 45.01051 | VV3: 44.95991 | VW3: 45.21052 | VX3: 45.15638 | VY3: 45.43876 | VZ3: 45.39082 | WA3: 45.64523 | WB3: 45.58991 | WC3: 45.858 | WD3: 45.79875 | WE3: 46.04824 | WF3: 46.03447 | WG3: 46.26567 | WH3: 46.29334 | WI3: 44.20103 | WJ3: 33.72943 | WK3: 35.84117 | WL3: {=TRANSPOSE(W7:W72)} -> - | WM3: - | WN3: - | WO3: - | WP3: - | WQ3: - | WR3: - | WS3: - | WT3: - | WU3: - | WV3: - | WW3: - | WX3: - | WY3: - | WZ3: - | XA3: - | XB3: - | XC3: - | XD3: - | XE3: - | XF3: - | XG3: - | XH3: - | XI3: - | XJ3: - | XK3: - | XL3: - | XM3: - | XN3: - | XO3: - | XP3: - | XQ3: - | XR3: - | XS3: - | XT3: - | XU3: - | XV3: - | XW3: - | XX3: - | XY3: - | XZ3: - | YA3: - | YB3: - | YC3: - | YD3: - | YE3: - | YF3: - | YG3: - | YH3: - | YI3: - | YJ3: - | YK3: - | YL3: - | YM3: - | YN3: - | YO3: - | YP3: - | YQ3: - | YR3: - | YS3: - | YT3: - | YU3: - | YV3: - | YW3: - | YX3: - | YY3: {=TRANSPOSE(X7:X75)} -> 12578.44 | YZ3: 12573.14 | ZA3: 12485.98 | ZB3: 12274.96 | ZC3: 12067.58 | ZD3: 11879.67 | ZE3: 11692.65 | ZF3: 11507.41 | ZG3: 11321.2 | ZH3: 11135.17 | ZI3: 10946.71 | ZJ3: 10760.02 | ZK3: 10570 | ZL3: 10382.64 | ZM3: 10190.53 | ZN3: 10001.79 | ZO3: 9807.658 | ZP3: 9617.435 | ZQ3: 9421.077 | ZR3: 9229.734 | ZS3: 9031.423 | ZT3: 8838.441 | ZU3: 8638.757 | ZV3: 8444.1 | ZW3: 8242.777 | ZX3: 8047.281 | ZY3: 7844.604 | ZZ3: 7647.95 | AAA3: 7444.2 | AAB3: 7246.366 | AAC3: 7041.405 | AAD3: 6842.571 | AAE3: 6635.702 | AAF3: 6435.612 | AAG3: 6227.903 | AAH3: 6026.803 | AAI3: 5818.297 | AAJ3: 5616.141 | AAK3: 5406.194 | AAL3: 5203.355 | AAM3: 4992.244 | AAN3: 4788.288 | AAO3: 4577.225 | AAP3: 4372.462 | AAQ3: 4159.821 | AAR3: 3954.027 | AAS3: 3740.944 | AAT3: 3534.252 | AAU3: 3320.169 | AAV3: 3113.145 | AAW3: 2898.027 | AAX3: 2689.629 | AAY3: 2473.321 | AAZ3: 2264.209 | ABA3: 2046.894 | ABB3: 1836.788 | ABC3: 1618.868 | ABD3: 1407.417 | ABE3: 1188.374 | ABF3: 976.883 | ABG3: 756.9146 | ABH3: 544.1063 | ABI3: 323.3829 | ABJ3: 109.8519 | ABK3: -117.5298 | ABL3: -297.0816 | ABM3: -269.8163 | ABN3: -262.8587 | ABO3: {=TRANSPOSE(Y7:Y75)} -> -444.58 | ABP3: -443.0582 | ABQ3: -448.4041 | ABR3: -455.4772 | ABS3: -458.619 | ABT3: -458.5058 | ABU3: -457.1896 | ABV3: -455.9665 | ABW3: -453.7434 | ABX3: -450.885 | ABY3: -446.6966 | ABZ3: -442.9202 | ACA3: -437.7595 | ACB3: -432.3105 | ACC3: -426.3841 | ACD3: -420.3664 | ACE3: -413.3356 | ACF3: -406.7908 | ACG3: -399.5673 | ACH3: -392.3622 | ACI3: -384.6192 | ACJ3: -377.2923 | ACK3: -369.2805 | ACL3: -361.5459 | ACM3: -353.2592 | ACN3: -345.5045 | ACO3: -336.7433 | ACP3: -328.7079 | ACQ3: -320.2437 | ACR3: -311.869 | ACS3: -302.6249 | ACT3: -294.627 | ACU3: -285.8131 | ACV3: -277.2285 | ACW3: -268.0805 | ACX3: -259.8951 | ACY3: -250.5589 | ACZ3: -241.9141 | ADA3: -232.8175 | ADB3: -224.2249 | ADC3: -214.8954 | ADD3: -206.5294 | ADE3: -197.2032 | ADF3: -188.5879 | ADG3: -179.2774 | ADH3: -170.3765 | ADI3: -161.1109 | ADJ3: -152.1458 | ADK3: -142.8022 | ADL3: -134.1476 | ADM3: -124.4508 | ADN3: -115.6028 | ADO3: -106.0923 | ADP3: -97.17582 | ADQ3: -87.5858 | ADR3: -78.67941 | ADS3: -69.08919 | ADT3: -60.08289 | ADU3: -50.41663 | ADV3: -41.45952 | ADW3: -31.71131 | ADX3: -22.67757 | ADY3: -12.93176 | ADZ3: -3.894365 | AEA3: 6.308186 | AEB3: 12.9855 | AEC3: 11.83771 | AED3: 10.98198 | AEE3: {=TRANSPOSE(Z7:Z75)} -> 300 | AEF3: 386.7937 | AEG3: 600.3831 | AEH3: 947.4288 | AEI3: 1068.042 | AEJ3: 1129.67 | AEK3: 1176.45 | AEL3: 1203.704 | AEM3: 1238.84 | AEN3: 1259.469 | AEO3: 1288.499 | AEP3: 1305.077 | AEQ3: 1329.123 | AER3: 1343.111 | AES3: 1362.964 | AET3: 1374.523 | AEU3: 1390.752 | AEV3: 1400.094 | AEW3: 1413.192 | AEX3: 1420.784 | AEY3: 1431.236 | AEZ3: 1437.367 | AFA3: 1445.63 | AFB3: 1450.606 | AFC3: 1457.078 | AFD3: 1461.003 | AFE3: 1466.127 | AFF3: 1469.26 | AFG3: 1473.207 | AFH3: 1475.737 | AFI3: 1478.864 | AFJ3: 1480.835 | AFK3: 1483.252 | AFL3: 1484.84 | AFM3: 1486.708 | AFN3: 1487.943 | AFO3: 1489.4 | AFP3: 1490.397 | AFQ3: 1491.511 | AFR3: 1492.292 | AFS3: 1493.157 | AFT3: 1493.77 | AFU3: 1494.434 | AFV3: 1494.921 | AFW3: 1495.435 | AFX3: 1495.821 | AFY3: 1496.212 | AFZ3: 1496.522 | AGA3: 1496.823 | AGB3: 1497.061 | AGC3: 1497.299 | AGD3: 1497.489 | AGE3: 1497.666 | AGF3: 1497.817 | AGG3: 1497.952 | AGH3: 1498.071 | AGI3: 1498.172 | AGJ3: 1498.268 | AGK3: 1498.345 | AGL3: 1498.42 | AGM3: 1498.477 | AGN3: 1498.538 | AGO3: 1498.579 | AGP3: 1498.629 | AGQ3: 1498.651 | AGR3: 1498.743 | AGS3: 1499.244 | AGT3: 1499.279 | AGU3: {=TRANSPOSE(AA7:AA73)} -> 1.487821e-08 | AGV3: 1.706871e-09 | AGW3: 1.533098e-09 | AGX3: 1.535107e-09 | AGY3: 1.544418e-09 | AGZ3: 1.538454e-09 | AHA3: 1.537338e-09 | AHB3: 1.539846e-09 | AHC3: 1.545049e-09 | AHD3: 1.538162e-09 | AHE3: 1.54002e-09 | AHF3: 1.546323e-09 | AHG3: 1.539177e-09 | AHH3: 1.539849e-09 | AHI3: 1.544598e-09 | AHJ3: 1.540474e-09 | AHK3: 1.535758e-09 | AHL3: 1.541425e-09 | AHM3: 1.544385e-09 | AHN3: 1.532412e-09 | AHO3: 1.534507e-09 | AHP3: 1.545736e-09 | AHQ3: 1.536229e-09 | AHR3: 1.536519e-09 | AHS3: 1.542486e-09 | AHT3: 1.540706e-09 | AHU3: 1.541041e-09 | AHV3: 1.539855e-09 | AHW3: 1.545202e-09 | AHX3: 1.540445e-09 | AHY3: 1.538049e-09 | AHZ3: 1.546304e-09 | AIA3: 1.54086e-09 | AIB3: 1.538296e-09 | AIC3: 1.537653e-09 | AID3: 1.54458e-09 | AIE3: 1.535618e-09 | AIF3: 1.534858e-09 | AIG3: 1.544094e-09 | AIH3: 1.537588e-09 | AII3: 1.532761e-09 | AIJ3: 1.543435e-09 | AIK3: 1.542641e-09 | AIL3: 1.538819e-09 | AIM3: 1.538554e-09 | AIN3: 1.54625e-09 | AIO3: 1.54077e-09 | AIP3: 1.540136e-09 | AIQ3: 1.545467e-09 | AIR3: 1.539233e-09 | AIS3: 1.53761e-09 | AIT3: 1.541235e-09 | AIU3: 1.544247e-09 | AIV3: 1.53395e-09 | AIW3: 1.537008e-09 | AIX3: 1.54387e-09 | AIY3: 1.534986e-09 | AIZ3: 1.535187e-09 | AJA3: 1.543453e-09 | AJB3: 1.540749e-09 | AJC3: 1.537907e-09 | AJD3: 1.540307e-09 | AJE3: 1.545626e-09 | AJF3: 1.539753e-09 | AJG3: 1.537006e-09 | AJH3: 1.710984e-09
K6: z | L6: PS | M6: Globales | N6: mcpT_PS | O6: mcp_PS | P6: mcpv_PS | Q6: h_T | R6: hlocal_T | S6: HF_T | T6: A_PS | U6: Awire_T | V6: vlocal_PS | W6: vsup_PS | X6: P_PS | Y6: mcpP_PS | Z6: T_PS | AA6: Vair_T | AB6: T | AC6: z | AD6: 1 | AE6: Seleccione las celdas horizontales donde desea colocar el resultado
K7: 0.799 | L7: 1 | M7: =+C14 -> 72.46491 | N7: =+C87 -> -10.60339 | O7: =+C162 -> -0.03534462 | P7: =+C237 -> 0.1767222 | Q7: =+B312 -> 878.3948 | R7: =+B384 -> 26313.22 | S7: =+B456 -> -4.479894 | T7: =+C528 -> 5.3138e-06 | U7: =+B603 -> 4.250076e-06 | V7: =+C675 -> 4.999975 | W7: - | X7: =+C750 -> 12578.44 | Y7: =+C825 -> -444.58 | Z7: =+C900 -> 300 | AA7: =+B975 -> 1.487821e-08 | AB7: 1 | AD7: 2 | AE7: En la barra de fórmulas, pega esta fórmula: = TRANSPONER ($ A $ 1: $ A $ 11)
A8: Pegar todos los datos según están copiados en el txt seleccionando la casilla situada bajo la negra | L8: 2 | M8: =+C22 -> 12578.43 | N8: =+D88 -> -11.17078 | O8: =+D163 -> -0.0352458 | P8: =+D238 -> 0.2043664 | Q8: =+C313 -> 683.5755 | R8: =+C385 -> 31490.64 | S8: =+C457 -> -6.956472 | T8: =+D529 -> 5.313073e-06 | U8: =+C604 -> 8.480496e-06 | V8: =+D676 -> 5.632576 | W8: - | X8: =+D751 -> 12573.14 | Y8: =+D826 -> -443.0582 | Z8: =+D901 -> 386.7937 | AA8: =+C976 -> 1.706871e-09 | AB8: 2 | AD8: 3 | AE8: Después de pegar la fórmula, presione Ctrl + Shift + Enter las teclas juntas, y las celdas en vertical se han convertido en una fila horizontal
J9: Mesh | L9: 3 | M9: =+C30 -> 1499.866 | N9: =+D89 -> -15.82714 | O9: =+D164 -> -0.03591539 | P9: =+D239 -> 0.4468111 | Q9: =+C314 -> 451.8567 | R9: =+C386 -> 31696.88 | S9: =+C458 -> -4.601453 | T9: =+D530 -> 3.564746e-06 | U9: =+C605 -> 8.486196e-06 | V9: =+D677 -> 11.7087 | W9: - | X9: =+D752 -> 12485.98 | Y9: =+D827 -> -448.4041 | Z9: =+D902 -> 600.3831 | AA9: =+C977 -> 1.533098e-09 | AB9: 3
B10: Surface | C10: Average | D10: of | E10: Heat | F10: Transfer | G10: Coefficient | H10: on | I10: Volume | J10: Mesh | L10: 4 | M10: =+D38 -> 1499.279 | N10: =+D90 -> -23.49254 | O10: =+D165 -> -0.03714804 | P10: =+D240 -> 0.798269 | Q10: =+C315 -> 309.3684 | R10: =+C387 -> 31703.1 | S10: =+C459 -> -3.147804 | T10: =+D531 -> 3.563904e-06 | U10: =+C606 -> 8.479113e-06 | V10: =+D678 -> 18.60097 | W10: - | X10: =+D753 -> 12274.96 | Y10: =+D828 -> -455.4772 | Z10: =+D903 -> 947.4288 | AA10: =+C978 -> 1.535107e-09 | AB10: 4
L11: 5 | M11: =+C48 -> -3.514361e-05 | N11: =+D91 -> -28.6769 | O11: =+D166 -> -0.03805064 | P11: =+D241 -> 1.062439 | Q11: =+C316 -> 270.4852 | R11: =+C388 -> 31860.95 | S11: =+C460 -> -2.755097 | T11: =+D532 -> 3.564277e-06 | U11: =+C607 -> 8.488132e-06 | V11: =+D679 -> 21.76487 | W11: - | X11: =+D754 -> 12067.58 | Y11: =+D829 -> -458.619 | Z11: =+D904 -> 1068.042 | AA11: =+C979 -> 1.544418e-09 | AB11: 5
A12: Part | B12: Value | C12: (W/m^2-K) | L12: 6 | M12: =+C57 -> -8.058448e-09 | N12: =+D92 -> -32.2633 | O12: =+D167 -> -0.03863911 | P12: =+D242 -> 1.250588 | Q12: =+C317 -> 235.6354 | R12: =+C389 -> 31773.66 | S12: =+C461 -> -2.3969 | T12: =+D533 -> 3.563944e-06 | U12: =+C608 -> 8.476726e-06 | V12: =+D680 -> 23.40387 | W12: - | X12: =+D755 -> 11879.67 | Y12: =+D830 -> -458.5058 | Z12: =+D905 -> 1129.67 | AA12: =+C980 -> 1.538454e-09 | AB12: 6
A13: ---------- | B13: --------------- | L13: 7 | M13: =+C65 -> -47.21601 | N13: =+D93 -> -35.3906 | O13: =+D168 -> -0.03915701 | P13: =+D243 -> 1.424765 | Q13: =+C318 -> 223.2234 | R13: =+C390 -> 31869.64 | S13: =+C462 -> -2.273424 | T13: =+D534 -> 3.564572e-06 | U13: =+C609 -> 8.487105e-06 | V13: =+D681 -> 25.38052 | W13: - | X13: =+D756 -> 11692.65 | Y13: =+D831 -> -457.1896 | Z13: =+D906 -> 1176.45 | AA13: =+C981 -> 1.537338e-09 | AB13: 7
A14: Box: | B14: Inter | C14: 72.46491 | L14: 8 | M14: =+C71 -> 0.0005429756 | N14: =+D94 -> -38.1757 | O14: =+D169 -> -0.03967424 | P14: =+D244 -> 1.57942 | Q14: =+C319 -> 194.7559 | R14: =+C391 -> 31912.98 | S14: =+C463 -> -1.98131 | T14: =+D535 -> 3.563686e-06 | U14: =+C610 -> 8.477749e-06 | V14: =+D682 -> 27.04584 | W14: - | X14: =+D757 -> 11507.41 | Y14: =+D832 -> -455.9665 | Z14: =+D907 -> 1203.704 | AA14: =+C982 -> 1.539846e-09 | AB14: 8
A15: ---------- | B15: --------------- | L15: 9 | M15: =+B81 -> 4.244629e-07 | N15: =+D95 -> -40.80721 | O15: =+D170 -> -0.0401427 | P15: =+D245 -> 1.729669 | Q15: =+C320 -> 188.0847 | R15: =+C392 -> 31878.59 | S15: =+C464 -> -1.916291 | T15: =+D536 -> 3.564496e-06 | U15: =+C611 -> 8.490375e-06 | V15: =+D683 -> 28.55865 | W15: - | X15: =+D758 -> 11321.2 | Y15: =+D833 -> -453.7434 | Z15: =+D908 -> 1238.84 | AA15: =+C983 -> 1.545049e-09 | AB15: 9
B16: Total: | C16: 72.46491 | L16: 10 | N16: =+D96 -> -43.15226 | O16: =+D171 -> -0.04054693 | P16: =+D246 -> 1.859793 | Q16: =+C321 -> 162.4902 | R16: =+C393 -> 31822.21 | S16: =+C465 -> -1.652434 | T16: =+D537 -> 3.563536e-06 | U16: =+C612 -> 8.474531e-06 | V16: =+D684 -> 29.99079 | W16: - | X16: =+D759 -> 11135.17 | Y16: =+D834 -> -450.885 | Z16: =+D909 -> 1259.469 | AA16: =+C984 -> 1.538162e-09 | AB16: 10
L17: 11 | N17: =+D97 -> -45.35299 | O17: =+D172 -> -0.04087783 | P17: =+D247 -> 1.988551 | Q17: =+C322 -> 157.9586 | R17: =+C394 -> 31898.07 | S17: =+C466 -> -1.609826 | T17: =+D538 -> 3.564789e-06 | U17: =+C613 -> 8.49287e-06 | V17: =+D685 -> 31.17951 | W17: - | X17: =+D760 -> 10946.71 | Y17: =+D835 -> -446.6966 | Z17: =+D910 -> 1288.499 | AA17: =+C985 -> 1.54002e-09 | AB17: 11
B18: Surface | C18: Average | D18: of | E18: Pressure | F18: on | G18: Volume | H18: Mesh | L18: 12 | N18: =+D98 -> -47.35392 | O18: =+D173 -> -0.04122426 | P18: =+D248 -> 2.097511 | Q18: =+C323 -> 134.1357 | R18: =+C395 -> 31980.46 | S18: =+C467 -> -1.365146 | T18: =+D539 -> 3.563678e-06 | U18: =+C614 -> 8.481126e-06 | V18: =+D686 -> 32.42162 | W18: - | X18: =+D761 -> 10760.02 | Y18: =+D836 -> -442.9202 | Z18: =+D911 -> 1305.077 | AA18: =+C986 -> 1.546323e-09 | AB18: 12
L19: 13 | N19: =+D99 -> -49.22369 | O19: =+D174 -> -0.0414921 | P19: =+D249 -> 2.20602 | Q19: =+C324 -> 131.0872 | R19: =+C396 -> 31988.38 | S19: =+C468 -> -1.335319 | T19: =+D540 -> 3.564551e-06 | U19: =+C615 -> 8.488744e-06 | V19: =+D687 -> 33.38036 | W19: - | X19: =+D762 -> 10570 | Y19: =+D837 -> -437.7595 | Z19: =+D912 -> 1329.123 | AA19: =+C987 -> 1.539177e-09 | AB19: 13
A20: Part | B20: Value | C20: (Pa) | L20: 14 | N20: =+D100 -> -50.80294 | O20: =+D175 -> -0.04170246 | P20: =+D250 -> 2.292004 | Q20: =+C325 -> 109.7909 | R20: =+C397 -> 31890.61 | S20: =+C469 -> -1.118136 | T20: =+D541 -> 3.563844e-06 | U20: =+C616 -> 8.486854e-06 | V20: =+D688 -> 34.40851 | W20: - | X20: =+D763 -> 10382.64 | Y20: =+D838 -> -432.3105 | Z20: =+D913 -> 1343.111 | AA20: =+C988 -> 1.539849e-09 | AB20: 14
A21: ------- | B21: ------------ | L21: 15 | N21: =+D101 -> -52.38674 | O21: =+D176 -> -0.04192432 | P21: =+D251 -> 2.382769 | Q21: =+C326 -> 106.8345 | R21: =+C398 -> 32038.21 | S21: =+C470 -> -1.087436 | T21: =+D542 -> 3.564489e-06 | U21: =+C617 -> 8.482247e-06 | V21: =+D689 -> 35.20393 | W21: - | X21: =+D764 -> 10190.53 | Y21: =+D839 -> -426.3841 | Z21: =+D914 -> 1362.964 | AA21: =+C989 -> 1.544598e-09 | AB21: 15
A22: Box: | B22: In | C22: 12578.43 | L22: 16 | N22: =+D102 -> -53.69705 | O22: =+D177 -> -0.04209731 | P22: =+D252 -> 2.452013 | Q22: =+C327 -> 88.62832 | R22: =+C399 -> 31868.22 | S22: =+C471 -> -0.9022837 | T22: =+D543 -> 3.564108e-06 | U22: =+C618 -> 8.483779e-06 | V22: =+D690 -> 36.09429 | W22: - | X22: =+D765 -> 10001.79 | Y22: =+D840 -> -420.3664 | Z22: =+D915 -> 1374.523 | AA22: =+C990 -> 1.540474e-09 | AB22: 16
A23: ------- | B23: ------------ | L23: 17 | N23: =+D103 -> -54.93986 | O23: =+D178 -> -0.04223254 | P23: =+D253 -> 2.525326 | Q23: =+C328 -> 86.51052 | R23: =+C400 -> 31989.47 | S23: =+C472 -> -0.8800952 | T23: =+D544 -> 3.564233e-06 | U23: =+C619 -> 8.477727e-06 | V23: =+D691 -> 36.69734 | W23: - | X23: =+D766 -> 9807.658 | Y23: =+D841 -> -413.3356 | Z23: =+D916 -> 1390.752 | AA23: =+C991 -> 1.535758e-09 | AB23: 17
B24: Total: | C24: 12578.43 | L24: 18 | N24: =+D104 -> -56.01236 | O24: =+D179 -> -0.04237166 | P24: =+D254 -> 2.58066 | Q24: =+C329 -> 71.24603 | R24: =+C401 -> 32091.67 | S24: =+C473 -> -0.7251897 | T24: =+D545 -> 3.563812e-06 | U24: =+C620 -> 8.482223e-06 | V24: =+D692 -> 37.48423 | W24: - | X24: =+D767 -> 9617.435 | Y24: =+D842 -> -406.7908 | Z24: =+D917 -> 1400.094 | AA24: =+C992 -> 1.541425e-09 | AB24: 18
L25: 19 | N25: =+D105 -> -57.06008 | O25: =+D180 -> -0.0425078 | P25: =+D255 -> 2.643709 | Q25: =+C330 -> 69.16267 | R25: =+C402 -> 32023.59 | S25: =+C474 -> -0.7041724 | T25: =+D546 -> 3.564622e-06 | U25: =+C621 -> 8.484495e-06 | V25: =+D693 -> 37.96721 | W25: - | X25: =+D768 -> 9421.077 | Y25: =+D843 -> -399.5673 | Z25: =+D918 -> 1413.192 | AA25: =+C993 -> 1.544385e-09 | AB25: 19
B26: Surface | C26: Average | D26: of | E26: Temperature | F26: on | G26: Volume | H26: Mesh | L26: 20 | N26: =+D106 -> -57.88288 | O26: =+D181 -> -0.04258937 | P26: =+D256 -> 2.685671 | Q26: =+C331 -> 56.89315 | R26: =+C403 -> 32031.3 | S26: =+C475 -> -0.5790832 | T26: =+D547 -> 3.563678e-06 | U26: =+C622 -> 8.482029e-06 | V26: =+D694 -> 38.64693 | W26: - | X26: =+D769 -> 9229.734 | Y26: =+D844 -> -392.3622 | Z26: =+D919 -> 1420.784 | AA26: =+C994 -> 1.532412e-09 | AB26: 20
L27: 21 | N27: =+D107 -> -58.71726 | O27: =+D182 -> -0.0426906 | P27: =+D257 -> 2.737571 | Q27: =+C332 -> 54.91568 | R27: =+C404 -> 31974.99 | S27: =+C476 -> -0.558911 | T27: =+D548 -> 3.564567e-06 | U27: =+C623 -> 8.481351e-06 | V27: =+D695 -> 39.00949 | W27: - | X27: =+D770 -> 9031.423 | Y27: =+D845 -> -384.6192 | Z27: =+D920 -> 1431.236 | AA27: =+C995 -> 1.534507e-09 | AB27: 21
A28: Part | B28: Value | C28: (K) | L28: 22 | N28: =+D108 -> -59.40109 | O28: =+D183 -> -0.04277397 | P28: =+D258 -> 2.773673 | Q28: =+C333 -> 45.20182 | R28: =+C405 -> 31826.14 | S28: =+C477 -> -0.460552 | T28: =+D549 -> 3.563854e-06 | U28: =+C624 -> 8.490662e-06 | V28: =+D696 -> 39.61288 | W28: - | X28: =+D771 -> 8838.441 | Y28: =+D846 -> -377.2923 | Z28: =+D921 -> 1437.367 | AA28: =+C996 -> 1.545736e-09 | AB28: 22
A29: -------- | B29: ------------ | L29: 23 | N29: =+D109 -> -60.0668 | O29: =+D184 -> -0.04285712 | P29: =+D259 -> 2.818123 | Q29: =+C334 -> 43.32016 | R29: =+C406 -> 32054.16 | S29: =+C478 -> -0.4410757 | T29: =+D550 -> 3.564945e-06 | U29: =+C625 -> 8.484803e-06 | V29: =+D697 -> 39.8877 | W29: - | X29: =+D772 -> 8638.757 | Y29: =+D847 -> -369.2805 | Z29: =+D922 -> 1445.63 | AA29: =+C997 -> 1.536229e-09 | AB29: 23
A30: Box: | B30: Out | C30: 1499.866 | L30: 24 | N30: =+D110 -> -60.60158 | O30: =+D185 -> -0.04290904 | P30: =+D260 -> 2.841858 | Q30: =+C335 -> 35.78379 | R30: =+C407 -> 31934 | S30: =+C479 -> -0.3642045 | T30: =+D551 -> 3.563902e-06 | U30: =+C626 -> 8.4816e-06 | V30: =+D698 -> 40.41061 | W30: - | X30: =+D773 -> 8444.1 | Y30: =+D848 -> -361.5459 | Z30: =+D923 -> 1450.606 | AA30: =+C998 -> 1.536519e-09 | AB30: 24
A31: -------- | B31: ------------ | L31: 25 | N31: =+D111 -> -61.12916 | O31: =+D186 -> -0.04297525 | P31: =+D261 -> 2.879771 | Q31: =+C336 -> 34.14257 | R31: =+C408 -> 32100.84 | S31: =+C480 -> -0.3475438 | T31: =+D552 -> 3.564379e-06 | U31: =+C627 -> 8.482663e-06 | V31: =+D699 -> 40.62228 | W31: - | X31: =+D774 -> 8242.777 | Y31: =+D849 -> -353.2592 | Z31: =+D924 -> 1457.078 | AA31: =+C999 -> 1.542486e-09 | AB31: 25
B32: Total: | C32: 1499.866 | L32: 26 | N32: =+D112 -> -61.56822 | O32: =+D187 -> -0.04303286 | P32: =+D262 -> 2.903589 | Q32: =+C337 -> 28.22606 | R32: =+C409 -> 31945.23 | S32: =+C481 -> -0.2874159 | T32: =+D553 -> 3.56368e-06 | U32: =+C628 -> 8.485535e-06 | V32: =+D700 -> 41.08206 | W32: - | X32: =+D775 -> 8047.281 | Y32: =+D850 -> -345.5045 | Z32: =+D925 -> 1461.003 | AA32: =+C1000 -> 1.540706e-09 | AB32: 26
L33: 27 | N33: =+D113 -> -61.94164 | O33: =+D188 -> -0.04305212 | P33: =+D263 -> 2.931211 | Q33: =+C338 -> 26.92441 | R33: =+C410 -> 32067.18 | S33: =+C482 -> -0.274067 | T33: =+D554 -> 3.56441e-06 | U33: =+C629 -> 8.482609e-06 | V33: =+D701 -> 41.21283 | W33: - | X33: =+D776 -> 7844.604 | Y33: =+D851 -> -336.7433 | Z33: =+D926 -> 1466.127 | AA33: =+C1001 -> 1.541041e-09 | AB33: 27
B34: Surface | C34: Average | D34: of | E34: Temperature | F34: on | G34: Volume | H34: Mesh | L34: 28 | N34: =+D114 -> -62.27371 | O34: =+D189 -> -0.04308565 | P34: =+D264 -> 2.948333 | Q34: =+C339 -> 22.26059 | R34: =+C411 -> 32021.84 | S34: =+C483 -> -0.2265455 | T34: =+D555 -> 3.563731e-06 | U34: =+C630 -> 8.480812e-06 | V34: =+D702 -> 41.62948 | W34: - | X34: =+D777 -> 7647.95 | Y34: =+D852 -> -328.7079 | Z34: =+D927 -> 1469.26 | AA34: =+C1002 -> 1.539855e-09 | AB34: 28
L35: 29 | N35: =+D115 -> -62.63819 | O35: =+D190 -> -0.04315291 | P35: =+D265 -> 2.97907 | Q35: =+C340 -> 21.09084 | R35: =+C412 -> 31999.98 | S35: =+C484 -> -0.2148392 | T35: =+D556 -> 3.564607e-06 | U35: =+C631 -> 8.488644e-06 | V35: =+D703 -> 41.73001 | W35: - | X35: =+D778 -> 7444.2 | Y35: =+D853 -> -320.2437 | Z35: =+D928 -> 1473.207 | AA35: =+C1003 -> 1.545202e-09 | AB35: 29
A36: Part | B36: Value | C36: (K) | L36: 30 | N36: =+D116 -> -62.85644 | O36: =+D191 -> -0.04314839 | P36: =+D266 -> 2.989392 | Q36: =+C341 -> 17.5269 | R36: =+C413 -> 31983.65 | S36: =+C485 -> -0.1783339 | T36: =+D557 -> 3.563858e-06 | U36: =+C632 -> 8.479058e-06 | V36: =+D704 -> 42.08619 | W36: - | X36: =+D779 -> 7246.366 | Y36: =+D854 -> -311.869 | Z36: =+D929 -> 1475.737 | AA36: =+C1004 -> 1.540445e-09 | AB36: 30
A37: ---------------- | B37: ------------ | L37: 31 | N37: =+D117 -> -63.02587 | O37: =+D192 -> -0.04311876 | P37: =+D267 -> 3.007027 | Q37: =+C342 -> 16.52185 | R37: =+C414 -> 32032.43 | S37: =+C486 -> -0.1683489 | T37: =+D558 -> 3.564898e-06 | U37: =+C633 -> 8.491222e-06 | V37: =+D705 -> 42.08643 | W37: - | X37: =+D780 -> 7041.405 | Y37: =+D855 -> -302.6249 | Z37: =+D930 -> 1478.864 | AA37: =+C1005 -> 1.538049e-09 | AB37: 31
A38: Plane | B38: Section | C38: 68 | D38: 1499.279 | L38: 32 | N38: =+D118 -> -63.28581 | O38: =+D193 -> -0.04317536 | P38: =+D268 -> 3.018319 | Q38: =+C343 -> 13.72525 | R38: =+C415 -> 31910.31 | S38: =+C487 -> -0.1396133 | T38: =+D559 -> 3.563768e-06 | U38: =+C634 -> 8.47667e-06 | V38: =+D706 -> 42.48107 | W38: - | X38: =+D781 -> 6842.571 | Y38: =+D856 -> -294.627 | Z38: =+D931 -> 1480.835 | AA38: =+C1006 -> 1.546304e-09 | AB38: 32
A39: ---------------- | B39: ------------ | L39: 33 | N39: =+D119 -> -63.52094 | O39: =+D194 -> -0.04322348 | P39: =+D269 -> 3.044303 | Q39: =+C344 -> 12.90338 | R39: =+C416 -> 31859.11 | S39: =+C488 -> -0.1314071 | T39: =+D560 -> 3.564858e-06 | U39: =+C635 -> 8.486607e-06 | V39: =+D707 -> 42.5297 | W39: - | X39: =+D782 -> 6635.702 | Y39: =+D857 -> -285.8131 | Z39: =+D932 -> 1483.252 | AA39: =+C1007 -> 1.54086e-09 | AB39: 33
B40: Total: | C40: 1499.279 | L40: 34 | N40: =+D120 -> -63.62694 | O40: =+D195 -> -0.04320118 | P40: =+D270 -> 3.048643 | Q40: =+C345 -> 10.76984 | R40: =+C417 -> 32028.18 | S40: =+C489 -> -0.1095935 | T40: =+D561 -> 3.563818e-06 | U40: =+C636 -> 8.479972e-06 | V40: =+D708 -> 42.83119 | W40: - | X40: =+D783 -> 6435.612 | Y40: =+D858 -> -277.2285 | Z40: =+D933 -> 1484.84 | AA40: =+C1008 -> 1.538296e-09 | AB40: 34
L41: 35 | N41: =+D121 -> -63.76489 | O41: =+D196 -> -0.04320689 | P41: =+D271 -> 3.066391 | Q41: =+C346 -> 10.07898 | R41: =+C418 -> 32019.9 | S41: =+C490 -> -0.1026759 | T41: =+D562 -> 3.564644e-06 | U41: =+C637 -> 8.489271e-06 | V41: =+D709 -> 42.82864 | W41: - | X41: =+D784 -> 6227.903 | Y41: =+D859 -> -268.0805 | Z41: =+D934 -> 1486.708 | AA41: =+C1009 -> 1.537653e-09 | AB41: 35
B42: Mass | C42: Flow | L42: 36 | N42: =+D122 -> -63.94901 | O42: =+D197 -> -0.04325827 | P42: =+D272 -> 3.076527 | Q42: =+C347 -> 8.457735 | R42: =+C419 -> 32041.71 | S42: =+C491 -> -0.08609423 | T42: =+D563 -> 3.563827e-06 | U42: =+C638 -> 8.48279e-06 | V42: =+D710 -> 43.17947 | W42: - | X42: =+D785 -> 6026.803 | Y42: =+D860 -> -259.8951 | Z42: =+D935 -> 1487.943 | AA42: =+C1010 -> 1.54458e-09 | AB42: 36
...

Sheet P80_C3_LAMINAR
A1: Ain, m2 | B1: =(0.000815*2)*(0.00163*2) -> 5.3138e-06 | X1: INLINE | Y1: Cells | Z1: 4646956 | AA1: Porosidad | AB1: 0.8 | AC1: Diámetro del hilo (mm) | AD1: 0.4 | AE1: Pitch (mm) | AF1: 1.23
